BEGIN:VCALENDAR
VERSION:2.0
PRODID:-//VECNCC - ECPv6.15.11//NONSGML v1.0//EN
CALSCALE:GREGORIAN
METHOD:PUBLISH
X-WR-CALNAME:VECNCC
X-ORIGINAL-URL:https://vecncc.org
X-WR-CALDESC:Events for VECNCC
REFRESH-INTERVAL;VALUE=DURATION:PT1H
X-Robots-Tag:noindex
X-PUBLISHED-TTL:PT1H
BEGIN:VTIMEZONE
TZID:America/New_York
BEGIN:DAYLIGHT
TZOFFSETFROM:-0500
TZOFFSETTO:-0400
TZNAME:EDT
DTSTART:20240310T070000
END:DAYLIGHT
BEGIN:STANDARD
TZOFFSETFROM:-0400
TZOFFSETTO:-0500
TZNAME:EST
DTSTART:20241103T060000
END:STANDARD
BEGIN:DAYLIGHT
TZOFFSETFROM:-0500
TZOFFSETTO:-0400
TZNAME:EDT
DTSTART:20250309T070000
END:DAYLIGHT
BEGIN:STANDARD
TZOFFSETFROM:-0400
TZOFFSETTO:-0500
TZNAME:EST
DTSTART:20251102T060000
END:STANDARD
BEGIN:DAYLIGHT
TZOFFSETFROM:-0500
TZOFFSETTO:-0400
TZNAME:EDT
DTSTART:20260308T070000
END:DAYLIGHT
BEGIN:STANDARD
TZOFFSETFROM:-0400
TZOFFSETTO:-0500
TZNAME:EST
DTSTART:20261101T060000
END:STANDARD
END:VTIMEZONE
BEGIN:VEVENT
DTSTART;VALUE=DATE:20250916
DTEND;VALUE=DATE:20250917
DTSTAMP:20260422T054041
CREATED:20250912T210218Z
LAST-MODIFIED:20250912T210218Z
UID:23202-1757980800-1758067199@vecncc.org
SUMMARY:October DUT Request Date
DESCRIPTION:Congregations seeking to deposit into\, withdraw from\, or change their dividend payment from the DUT must contact Margaret Schotto at least two weeks prior to the Quarterly Distribution.\nAll requests should include what the funds are for\, the minutes of the vestry approving the withdrawal\, and which fund it is coming from.
URL:https://vecncc.org/event/october-dut-request-date/
CATEGORIES:Episcopal,Finance
END:VEVENT
BEGIN:VEVENT
DTSTART;TZID=America/New_York:20250916T080000
DTEND;TZID=America/New_York:20250916T083000
DTSTAMP:20260422T054041
CREATED:20250905T210216Z
LAST-MODIFIED:20250905T210216Z
UID:23173-1758009600-1758011400@vecncc.org
SUMMARY:Morning Prayer with Green Mountain Abbey
DESCRIPTION:The Green Mountain Online Abbey provides a daily offering of online prayer at 8:00 a.m. and 8:00 p.m. Monday through Saturday and 8:00 p.m. Sunday.\nPlease visit the Green Mountain Online Abbey page for more information including call-in instructions and bulletin downloads.
URL:https://vecncc.org/event/morning-prayer-with-green-mountain-abbey-214/
LOCATION:Online
CATEGORIES:Episcopal,Green Mountain Online Abbey
ATTACH;FMTTYPE=image/png:https://vecncc.org/wp-content/uploads/2025/01/Screen-Shot-2021-01-07-at-3.40.48-PM-orfXbY.tmp_.png
END:VEVENT
BEGIN:VEVENT
DTSTART;TZID=America/New_York:20250916T100000
DTEND;TZID=America/New_York:20250916T120000
DTSTAMP:20260422T054041
CREATED:20250905T210216Z
LAST-MODIFIED:20250905T210216Z
UID:23174-1758016800-1758024000@vecncc.org
SUMMARY:Constellation Clergy Meeting
DESCRIPTION:Clergy serving constellations will meet to discuss their unique ministry.
URL:https://vecncc.org/event/constellation-clergy-meeting/
LOCATION:Online
CATEGORIES:Episcopal
END:VEVENT
BEGIN:VEVENT
DTSTART;TZID=America/New_York:20250916T180000
DTEND;TZID=America/New_York:20250916T200000
DTSTAMP:20260422T054041
CREATED:20250829T031715Z
LAST-MODIFIED:20250829T031715Z
UID:23137-1758045600-1758052800@vecncc.org
SUMMARY:The Chosen Season 5
DESCRIPTION:The Chosen discussion group and episode viewing of season 5 at St Pius X on September 9th. Similar to past season discussion groups\, we will show each week’s episode at approximately 6 pm (depending on the length of each week’s episode) followed by our group discussion at 7:00pm. Come for both or just the discussion group!
URL:https://vecncc.org/event/the-chosen-season-5-2/
LOCATION:St. Pius X – Essex\, 20 Jericho Rd\, Essex Junction\, VT\, United States
CATEGORIES:Catholic
ATTACH;FMTTYPE=image/png:https://vecncc.org/wp-content/uploads/2025/08/THE-CHOSEN-g4LtVX.png
ORGANIZER;CN="St. Pius X":MAILTO:saintpiusX@comcast.net
END:VEVENT
BEGIN:VEVENT
DTSTART;TZID=America/New_York:20250916T190000
DTEND;TZID=America/New_York:20250916T203000
DTSTAMP:20260422T054041
CREATED:20250214T213240Z
LAST-MODIFIED:20250214T213240Z
UID:22084-1758049200-1758054600@vecncc.org
SUMMARY:Conference leadership training for Finance Teams
DESCRIPTION:This online training is part of a series being offered by the NEAC for local church leaders. Watch this space and the e news for details.   
URL:https://vecncc.org/event/conference-leadership-training-for-finance-teams/
CATEGORIES:Methodist
END:VEVENT
BEGIN:VEVENT
DTSTART;TZID=America/New_York:20250916T200000
DTEND;TZID=America/New_York:20250916T203000
DTSTAMP:20260422T054041
CREATED:20250905T210217Z
LAST-MODIFIED:20250905T210217Z
UID:23175-1758052800-1758054600@vecncc.org
SUMMARY:Evening Prayer with Green Mountain Abbey
DESCRIPTION:The Green Mountain Online Abbey provides a daily offering of online prayer at 8:00 a.m. and 8:00 p.m. Monday through Saturday and 8:00 p.m. Sunday.\nPlease visit the Green Mountain Online Abbey page for more information including call-in instructions and bulletin downloads.
URL:https://vecncc.org/event/evening-prayer-with-green-mountain-abbey-251/
LOCATION:Online
CATEGORIES:Episcopal,Green Mountain Online Abbey
ATTACH;FMTTYPE=image/png:https://vecncc.org/wp-content/uploads/2025/01/Screen-Shot-2021-01-07-at-3.40.48-PM-orfXbY.tmp_.png
END:VEVENT
END:VCALENDAR