BEGIN:VCALENDAR
VERSION:2.0
PRODID:-//VECNCC - ECPv6.15.11//NONSGML v1.0//EN
CALSCALE:GREGORIAN
METHOD:PUBLISH
X-WR-CALNAME:VECNCC
X-ORIGINAL-URL:https://vecncc.org
X-WR-CALDESC:Events for VECNCC
REFRESH-INTERVAL;VALUE=DURATION:PT1H
X-Robots-Tag:noindex
X-PUBLISHED-TTL:PT1H
BEGIN:VTIMEZONE
TZID:America/New_York
BEGIN:DAYLIGHT
TZOFFSETFROM:-0500
TZOFFSETTO:-0400
TZNAME:EDT
DTSTART:20240310T070000
END:DAYLIGHT
BEGIN:STANDARD
TZOFFSETFROM:-0400
TZOFFSETTO:-0500
TZNAME:EST
DTSTART:20241103T060000
END:STANDARD
BEGIN:DAYLIGHT
TZOFFSETFROM:-0500
TZOFFSETTO:-0400
TZNAME:EDT
DTSTART:20250309T070000
END:DAYLIGHT
BEGIN:STANDARD
TZOFFSETFROM:-0400
TZOFFSETTO:-0500
TZNAME:EST
DTSTART:20251102T060000
END:STANDARD
BEGIN:DAYLIGHT
TZOFFSETFROM:-0500
TZOFFSETTO:-0400
TZNAME:EDT
DTSTART:20260308T070000
END:DAYLIGHT
BEGIN:STANDARD
TZOFFSETFROM:-0400
TZOFFSETTO:-0500
TZNAME:EST
DTSTART:20261101T060000
END:STANDARD
END:VTIMEZONE
BEGIN:VEVENT
DTSTART;TZID=America/New_York:20250218T150000
DTEND;TZID=America/New_York:20250218T163000
DTSTAMP:20260423T231530
CREATED:20250207T013231Z
LAST-MODIFIED:20250207T013231Z
UID:22016-1739890800-1739896200@vecncc.org
SUMMARY:Bible Study: Hebrews - The New & Eternal Covenant
DESCRIPTION:Do We Realize How Richly We’ve Been Blessed?\nEmbark on a guided tour of the “Holy of Holies” of biblical theology. The book of Hebrews is like a little Catechism. It is steeped in rich truths that are foundational to our Catholic Faith\, but its highly refined theological concepts can be difficult for even the most seasoned Bible scholars to unpack.\nPresented by Andrew Swafford and Jeff Cavins\, Hebrews: The New and Eternal Covenant draws out the riches of this sublime book in a way that makes them easier to understand. It draws connections between the Old and New Testaments\, the Liturgy\, the Eucharist\, the priesthood\, and so much more. Most importantly\, Hebrews will help Catholics appreciate the astounding generosity of God as they see the wonders he has given us in the Church\nClasses will meet weekly for discussion and to review the videos provided by Ascension Press. Preregistration is required.
URL:https://vecncc.org/event/bible-study-hebrews-the-new-eternal-covenant-4/
LOCATION:St. Anthony Church – Bethel\, 237 Church St\, Bethel\, VT\, United States
CATEGORIES:Catholic
END:VEVENT
BEGIN:VEVENT
DTSTART;TZID=America/New_York:20250218T190000
DTEND;TZID=America/New_York:20250218T210000
DTSTAMP:20260423T231530
CREATED:20250207T013231Z
LAST-MODIFIED:20250207T013231Z
UID:22017-1739905200-1739912400@vecncc.org
SUMMARY:Discussion on the Papal Encyclical\,  Dilexit Nos (He Loved Us)
DESCRIPTION:In his fourth encyclical\, Dilexit Nos (He loved us)\, Pope Francis invites us to reflect on aspects of the Lord’s love that resonate meaningfully with “a world that seems to have lost its heart.” The Holy Father calls for a change of perspective\, urging humanity to rediscover what is most essential: the heart. \nLouise Boisvert will lead a discussion of this encyclical\, which includes reflections from Sacred Scripture and previous magisterial teachings\, reintroduces the Church to the spiritually profound devotion to the Sacred Heart. \n“What characterizes our group\,” Louise says\, “is the simplicity and depth of our exchanges\, combined with fraternal life and a good cup of coffee! A warm welcome to all!”
URL:https://vecncc.org/event/discussion-on-the-papal-encyclical-dilexit-nos-he-loved-us-11/
LOCATION:St. Pius X – Essex\, 20 Jericho Rd\, Essex Junction\, VT\, United States
CATEGORIES:Catholic,Northwest
ORGANIZER;CN="Essex Catholic Community":MAILTO:holyfamilysecretary@comcast.net
END:VEVENT
END:VCALENDAR