BEGIN:VCALENDAR
VERSION:2.0
PRODID:-//VECNCC - ECPv6.15.11//NONSGML v1.0//EN
CALSCALE:GREGORIAN
METHOD:PUBLISH
X-WR-CALNAME:VECNCC
X-ORIGINAL-URL:https://vecncc.org
X-WR-CALDESC:Events for VECNCC
REFRESH-INTERVAL;VALUE=DURATION:PT1H
X-Robots-Tag:noindex
X-PUBLISHED-TTL:PT1H
BEGIN:VTIMEZONE
TZID:America/New_York
BEGIN:DAYLIGHT
TZOFFSETFROM:-0500
TZOFFSETTO:-0400
TZNAME:EDT
DTSTART:20240310T070000
END:DAYLIGHT
BEGIN:STANDARD
TZOFFSETFROM:-0400
TZOFFSETTO:-0500
TZNAME:EST
DTSTART:20241103T060000
END:STANDARD
BEGIN:DAYLIGHT
TZOFFSETFROM:-0500
TZOFFSETTO:-0400
TZNAME:EDT
DTSTART:20250309T070000
END:DAYLIGHT
BEGIN:STANDARD
TZOFFSETFROM:-0400
TZOFFSETTO:-0500
TZNAME:EST
DTSTART:20251102T060000
END:STANDARD
BEGIN:DAYLIGHT
TZOFFSETFROM:-0500
TZOFFSETTO:-0400
TZNAME:EDT
DTSTART:20260308T070000
END:DAYLIGHT
BEGIN:STANDARD
TZOFFSETFROM:-0400
TZOFFSETTO:-0500
TZNAME:EST
DTSTART:20261101T060000
END:STANDARD
END:VTIMEZONE
BEGIN:VEVENT
DTSTART;TZID=America/New_York:20250607T073000
DTEND;TZID=America/New_York:20250607T083000
DTSTAMP:20260423T140746
CREATED:20250516T015014Z
LAST-MODIFIED:20250516T015014Z
UID:22588-1749281400-1749285000@vecncc.org
SUMMARY:First Saturday Mass at Our Lady of Seven Dolors\, Fair Haven
DESCRIPTION:7:30a.m.  Rosary\n8:00a.m.  Mass
URL:https://vecncc.org/event/first-saturday-mass-at-our-lady-of-seven-dolors-fair-haven-5/
LOCATION:Our Lady of Seven Dolors – Fair Haven VT\, 19 Washington St\, Fair Haven\, VT\, United States
CATEGORIES:Catholic
ORGANIZER;CN="Cam Shaw":MAILTO:camshaw22@gmail.com
END:VEVENT
BEGIN:VEVENT
DTSTART;TZID=America/New_York:20250607T080000
DTEND;TZID=America/New_York:20250607T090000
DTSTAMP:20260423T140746
CREATED:20250516T015014Z
LAST-MODIFIED:20250516T015014Z
UID:22589-1749283200-1749286800@vecncc.org
SUMMARY:First Saturday Mass at Holy Family
DESCRIPTION:Every first Saturday starting with Confessions and the Rosary at 8:00 am followed by Mass at 8:30 am\nat Holy Family church in Essex Junction\, VT
URL:https://vecncc.org/event/first-saturday-mass-at-holy-family-5/
LOCATION:Holy Family Church – Essex Junction\, 30 Lincoln St\, Essex Junction\, VT\, United States
CATEGORIES:Catholic,Northwest
ORGANIZER;CN="Essex Catholic Community":MAILTO:holyfamilysecretary@comcast.net
END:VEVENT
BEGIN:VEVENT
DTSTART;TZID=America/New_York:20250607T103000
DTEND;TZID=America/New_York:20250607T120000
DTSTAMP:20260423T140746
CREATED:20250516T015015Z
LAST-MODIFIED:20250516T015015Z
UID:22590-1749292200-1749297600@vecncc.org
SUMMARY:Bishop Listening Session
DESCRIPTION:Bishop McDermott will be holding 4 listening sessions around the Diocese this June\nJune 5-South Burlington @ St. John Vianney 6:30PM-8:00PM\nJune 7- Morrisville @ Most Holy Name of Jesus 10:30AM-12:00PM\nJune 13 – Rutland @ Christ the King 6:30PM-8:00PM\nJune 14 -White River Junction @ St. Anthony 10:30AM-12:00PM\nThis will be an opportunity\, in a Synodal spirit\, to engage with the Bishop\, offer constructive suggestions\, and together prayerfully look to the future
URL:https://vecncc.org/event/bishop-listening-session-2/
LOCATION:Most Holy Name of Jesus – Morrisville\, 301 Brooklyn St\, Morrisville\, VT\, United States
CATEGORIES:Catholic
END:VEVENT
END:VCALENDAR