BEGIN:VCALENDAR
VERSION:2.0
PRODID:-//VECNCC - ECPv6.15.11//NONSGML v1.0//EN
CALSCALE:GREGORIAN
METHOD:PUBLISH
X-WR-CALNAME:VECNCC
X-ORIGINAL-URL:https://vecncc.org
X-WR-CALDESC:Events for VECNCC
REFRESH-INTERVAL;VALUE=DURATION:PT1H
X-Robots-Tag:noindex
X-PUBLISHED-TTL:PT1H
BEGIN:VTIMEZONE
TZID:America/New_York
BEGIN:DAYLIGHT
TZOFFSETFROM:-0500
TZOFFSETTO:-0400
TZNAME:EDT
DTSTART:20240310T070000
END:DAYLIGHT
BEGIN:STANDARD
TZOFFSETFROM:-0400
TZOFFSETTO:-0500
TZNAME:EST
DTSTART:20241103T060000
END:STANDARD
BEGIN:DAYLIGHT
TZOFFSETFROM:-0500
TZOFFSETTO:-0400
TZNAME:EDT
DTSTART:20250309T070000
END:DAYLIGHT
BEGIN:STANDARD
TZOFFSETFROM:-0400
TZOFFSETTO:-0500
TZNAME:EST
DTSTART:20251102T060000
END:STANDARD
BEGIN:DAYLIGHT
TZOFFSETFROM:-0500
TZOFFSETTO:-0400
TZNAME:EDT
DTSTART:20260308T070000
END:DAYLIGHT
BEGIN:STANDARD
TZOFFSETFROM:-0400
TZOFFSETTO:-0500
TZNAME:EST
DTSTART:20261101T060000
END:STANDARD
END:VTIMEZONE
BEGIN:VEVENT
DTSTART;TZID=America/New_York:20250615T130000
DTEND;TZID=America/New_York:20250615T140000
DTSTAMP:20260423T154711
CREATED:20250606T021715Z
LAST-MODIFIED:20250606T021715Z
UID:22675-1749992400-1749996000@vecncc.org
SUMMARY:Bereavement Ministry
DESCRIPTION:An opportunity to pray and share with others who have lost a loved one\, in comfortable setting.\nWe meet on the third Sunday of every month for about an hour.\nWe meet at 1:00 p.m.\nRectory of Corpus Christi Parish\n49 Winter St.\nSt. Johnsbury\, VT 05819\nAdjacent to St. John’s Church
URL:https://vecncc.org/event/bereavement-ministry-6/
LOCATION:VT
CATEGORIES:Catholic
ATTACH;FMTTYPE=image/jpeg:https://vecncc.org/wp-content/uploads/2025/01/iStock-2079259802_bearevment-PKYH2I.tmp_.jpg
END:VEVENT
END:VCALENDAR