BEGIN:VCALENDAR
VERSION:2.0
PRODID:-//VECNCC - ECPv6.15.11//NONSGML v1.0//EN
CALSCALE:GREGORIAN
METHOD:PUBLISH
X-ORIGINAL-URL:https://vecncc.org
X-WR-CALDESC:Events for VECNCC
REFRESH-INTERVAL;VALUE=DURATION:PT1H
X-Robots-Tag:noindex
X-PUBLISHED-TTL:PT1H
BEGIN:VTIMEZONE
TZID:America/New_York
BEGIN:DAYLIGHT
TZOFFSETFROM:-0500
TZOFFSETTO:-0400
TZNAME:EDT
DTSTART:20240310T070000
END:DAYLIGHT
BEGIN:STANDARD
TZOFFSETFROM:-0400
TZOFFSETTO:-0500
TZNAME:EST
DTSTART:20241103T060000
END:STANDARD
BEGIN:DAYLIGHT
TZOFFSETFROM:-0500
TZOFFSETTO:-0400
TZNAME:EDT
DTSTART:20250309T070000
END:DAYLIGHT
BEGIN:STANDARD
TZOFFSETFROM:-0400
TZOFFSETTO:-0500
TZNAME:EST
DTSTART:20251102T060000
END:STANDARD
BEGIN:DAYLIGHT
TZOFFSETFROM:-0500
TZOFFSETTO:-0400
TZNAME:EDT
DTSTART:20260308T070000
END:DAYLIGHT
BEGIN:STANDARD
TZOFFSETFROM:-0400
TZOFFSETTO:-0500
TZNAME:EST
DTSTART:20261101T060000
END:STANDARD
END:VTIMEZONE
BEGIN:VEVENT
DTSTART;TZID=America/New_York:20250926T094500
DTEND;TZID=America/New_York:20250926T111500
DTSTAMP:20260423T153159
CREATED:20250912T031720Z
LAST-MODIFIED:20250912T031720Z
UID:23200-1758879900-1758885300@vecncc.org
SUMMARY:Mary: A Biblical Walk with the Belssed Mother by Edward Sri
DESCRIPTION:This is an extraordinary pilgrimage that reveals Mary’s unique role in God’ kingdom and in our lives.Filmed on location in the Holy Land\, this study will place you in the midst of the powerful drama of Mary’s earthly life\, taking you through her joys..and her sorrows. You will learn how she works in our lives today\, drawing us ever closer to her Divine Son. Seeing Mary in this way will change you forever.Classes will meet for eight consecutive weeks on Fridays\, September 19 through November 7. Classes are in the Parish Hall at St. Anthony Church in Bethel VT.
URL:https://vecncc.org/event/mary-a-biblical-walk-with-the-belssed-mother-by-edward-sri-2/
LOCATION:St. Anthony Church – Bethel\, 237 Church St\, Bethel\, VT\, United States
CATEGORIES:Catholic
END:VEVENT
END:VCALENDAR