BEGIN:VCALENDAR
VERSION:2.0
PRODID:-//VECNCC - ECPv6.15.11//NONSGML v1.0//EN
CALSCALE:GREGORIAN
METHOD:PUBLISH
X-WR-CALNAME:VECNCC
X-ORIGINAL-URL:https://vecncc.org
X-WR-CALDESC:Events for VECNCC
REFRESH-INTERVAL;VALUE=DURATION:PT1H
X-Robots-Tag:noindex
X-PUBLISHED-TTL:PT1H
BEGIN:VTIMEZONE
TZID:America/New_York
BEGIN:DAYLIGHT
TZOFFSETFROM:-0500
TZOFFSETTO:-0400
TZNAME:EDT
DTSTART:20240310T070000
END:DAYLIGHT
BEGIN:STANDARD
TZOFFSETFROM:-0400
TZOFFSETTO:-0500
TZNAME:EST
DTSTART:20241103T060000
END:STANDARD
BEGIN:DAYLIGHT
TZOFFSETFROM:-0500
TZOFFSETTO:-0400
TZNAME:EDT
DTSTART:20250309T070000
END:DAYLIGHT
BEGIN:STANDARD
TZOFFSETFROM:-0400
TZOFFSETTO:-0500
TZNAME:EST
DTSTART:20251102T060000
END:STANDARD
BEGIN:DAYLIGHT
TZOFFSETFROM:-0500
TZOFFSETTO:-0400
TZNAME:EDT
DTSTART:20260308T070000
END:DAYLIGHT
BEGIN:STANDARD
TZOFFSETFROM:-0400
TZOFFSETTO:-0500
TZNAME:EST
DTSTART:20261101T060000
END:STANDARD
END:VTIMEZONE
BEGIN:VEVENT
DTSTART;TZID=America/New_York:20250403T094500
DTEND;TZID=America/New_York:20250403T104500
DTSTAMP:20260422T233908
CREATED:20250328T013225Z
LAST-MODIFIED:20250328T013225Z
UID:22312-1743673500-1743677100@vecncc.org
SUMMARY:Catechism in a Year(ish)
DESCRIPTION:Using the podcasts from Fr. Mike Schmitz\, we will (slowly) read through the Catechism of the Catholic Church. For those who would prefer to move at a slower pace and discuss the material in a small group\, we will review two (or so) episodes together each week.\nThe Catechism of the Catholic Church details the doctrine\, dogma\, and the basic tenets of the Church. Using the tradition of explaining what the Church believes\, what she celebrates\, what she lives and what she prays\, the Catechism of the Catholic Church offers challenges for believers and answers for all those interested in learning about the mystery of the Catholic faith.\nIn reading the Catechism of the Catholic Church we can perceive the wonderful unity of the mystery of God… — Pope St. John Paul I\nBeginning the week of September 10th\, come to the “Year(ish)” discussion group\, where we will listen together to one or two of the Catechism in A Year podcast\, and then take time to discuss the material together! Our goal is to understand and love more deeply the Church\, and the founder of our Church\, Jesus!\nOur Lady of the Angels: Mondays 6:00 -7:00 pm\nSt. John the Evangelist: Thursdays 9:45 – 10:45 am\nThere is no cost for this discussion group\, but it is recommended that you acquire a copy of the Catechism of the Catholic Church for your own use.
URL:https://vecncc.org/event/catechism-in-a-yearish-20/
LOCATION:St. John the Evangelist – Northfield\, 193 Vine St\, Northfield\, VT\, United States
CATEGORIES:Catholic,Central
END:VEVENT
BEGIN:VEVENT
DTSTART;TZID=America/New_York:20250406T123000
DTEND;TZID=America/New_York:20250406T133000
DTSTAMP:20260422T233908
CREATED:20250404T014720Z
LAST-MODIFIED:20250404T014720Z
UID:22358-1743942600-1743946200@vecncc.org
SUMMARY:Lenten Lecture Series:  A Deeper Dive into the Mass
DESCRIPTION:A four-part series exploring the Biblical roots of the Mass. Come and dive deeper into Mass\, Sundays at St. Anthony’s in Bethel VT\, starting at 12:30 pm (after Mass & Reconciliation). Potluck lunch at 12:00 pm – after Mass\, before the lecture.
URL:https://vecncc.org/event/lenten-lecture-series-a-deeper-dive-into-the-mass-4/
LOCATION:St. Anthony Church – Bethel\, 237 Church St\, Bethel\, VT\, United States
CATEGORIES:Catholic,Central
END:VEVENT
BEGIN:VEVENT
DTSTART;TZID=America/New_York:20250407T180000
DTEND;TZID=America/New_York:20250407T190000
DTSTAMP:20260422T233908
CREATED:20250404T014721Z
LAST-MODIFIED:20250404T014721Z
UID:22360-1744048800-1744052400@vecncc.org
SUMMARY:Catechism in a Year(ish)
DESCRIPTION:Using the podcasts from Fr. Mike Schmitz\, we will (slowly) read through the Catechism of the Catholic Church. For those who would prefer to move at a slower pace and discuss the material in a small group\, we will review two (or so) episodes together each week.\nThe Catechism of the Catholic Church details the doctrine\, dogma\, and the basic tenets of the Church. Using the tradition of explaining what the Church believes\, what she celebrates\, what she lives and what she prays\, the Catechism of the Catholic Church offers challenges for believers and answers for all those interested in learning about the mystery of the Catholic faith.\nIn reading the Catechism of the Catholic Church we can perceive the wonderful unity of the mystery of God… — Pope St. John Paul I\nBeginning the week of September 10th\, come to the “Year(ish)” discussion group\, where we will listen together to one or two of the Catechism in A Year podcast\, and then take time to discuss the material together! Our goal is to understand and love more deeply the Church\, and the founder of our Church\, Jesus!\nOur Lady of the Angels: Mondays 6:00 -7:00 pm\nSt. John the Evangelist: Thursdays 9:45 – 10:45 am\nThere is no cost for this discussion group\, but it is recommended that you acquire a copy of the Catechism of the Catholic Church for your own use.
URL:https://vecncc.org/event/catechism-in-a-yearish-21/
LOCATION:Our Lady of Angels – Randolph\, 43 Hebard Hill Rd\, Randolph\, VT\, United States
CATEGORIES:Catholic,Central
END:VEVENT
BEGIN:VEVENT
DTSTART;TZID=America/New_York:20250410T094500
DTEND;TZID=America/New_York:20250410T104500
DTSTAMP:20260422T233908
CREATED:20250404T014723Z
LAST-MODIFIED:20250404T014723Z
UID:22368-1744278300-1744281900@vecncc.org
SUMMARY:Catechism in a Year(ish)
DESCRIPTION:Using the podcasts from Fr. Mike Schmitz\, we will (slowly) read through the Catechism of the Catholic Church. For those who would prefer to move at a slower pace and discuss the material in a small group\, we will review two (or so) episodes together each week.\nThe Catechism of the Catholic Church details the doctrine\, dogma\, and the basic tenets of the Church. Using the tradition of explaining what the Church believes\, what she celebrates\, what she lives and what she prays\, the Catechism of the Catholic Church offers challenges for believers and answers for all those interested in learning about the mystery of the Catholic faith.\nIn reading the Catechism of the Catholic Church we can perceive the wonderful unity of the mystery of God… — Pope St. John Paul I\nBeginning the week of September 10th\, come to the “Year(ish)” discussion group\, where we will listen together to one or two of the Catechism in A Year podcast\, and then take time to discuss the material together! Our goal is to understand and love more deeply the Church\, and the founder of our Church\, Jesus!\nOur Lady of the Angels: Mondays 6:00 -7:00 pm\nSt. John the Evangelist: Thursdays 9:45 – 10:45 am\nThere is no cost for this discussion group\, but it is recommended that you acquire a copy of the Catechism of the Catholic Church for your own use.
URL:https://vecncc.org/event/catechism-in-a-yearish-22/
LOCATION:St. John the Evangelist – Northfield\, 193 Vine St\, Northfield\, VT\, United States
CATEGORIES:Catholic,Central
END:VEVENT
BEGIN:VEVENT
DTSTART;TZID=America/New_York:20250413T123000
DTEND;TZID=America/New_York:20250413T133000
DTSTAMP:20260422T233908
CREATED:20250411T014824Z
LAST-MODIFIED:20250411T014824Z
UID:22401-1744547400-1744551000@vecncc.org
SUMMARY:Lenten Lecture Series:  A Deeper Dive into the Mass
DESCRIPTION:A four-part series exploring the Biblical roots of the Mass. Come and dive deeper into Mass\, Sundays at St. Anthony’s in Bethel VT\, starting at 12:30 pm (after Mass & Reconciliation). Potluck lunch at 12:00 pm – after Mass\, before the lecture.
URL:https://vecncc.org/event/lenten-lecture-series-a-deeper-dive-into-the-mass-5/
LOCATION:St. Anthony Church – Bethel\, 237 Church St\, Bethel\, VT\, United States
CATEGORIES:Catholic,Central
END:VEVENT
BEGIN:VEVENT
DTSTART;TZID=America/New_York:20250414T180000
DTEND;TZID=America/New_York:20250414T190000
DTSTAMP:20260422T233908
CREATED:20250411T014825Z
LAST-MODIFIED:20250411T014825Z
UID:22403-1744653600-1744657200@vecncc.org
SUMMARY:Catechism in a Year(ish)
DESCRIPTION:Using the podcasts from Fr. Mike Schmitz\, we will (slowly) read through the Catechism of the Catholic Church. For those who would prefer to move at a slower pace and discuss the material in a small group\, we will review two (or so) episodes together each week.\nThe Catechism of the Catholic Church details the doctrine\, dogma\, and the basic tenets of the Church. Using the tradition of explaining what the Church believes\, what she celebrates\, what she lives and what she prays\, the Catechism of the Catholic Church offers challenges for believers and answers for all those interested in learning about the mystery of the Catholic faith.\nIn reading the Catechism of the Catholic Church we can perceive the wonderful unity of the mystery of God… — Pope St. John Paul I\nBeginning the week of September 10th\, come to the “Year(ish)” discussion group\, where we will listen together to one or two of the Catechism in A Year podcast\, and then take time to discuss the material together! Our goal is to understand and love more deeply the Church\, and the founder of our Church\, Jesus!\nOur Lady of the Angels: Mondays 6:00 -7:00 pm\nSt. John the Evangelist: Thursdays 9:45 – 10:45 am\nThere is no cost for this discussion group\, but it is recommended that you acquire a copy of the Catechism of the Catholic Church for your own use.
URL:https://vecncc.org/event/catechism-in-a-yearish-23/
LOCATION:Our Lady of Angels – Randolph\, 43 Hebard Hill Rd\, Randolph\, VT\, United States
CATEGORIES:Catholic,Central
END:VEVENT
BEGIN:VEVENT
DTSTART;TZID=America/New_York:20250417T094500
DTEND;TZID=America/New_York:20250417T104500
DTSTAMP:20260422T233908
CREATED:20250411T014827Z
LAST-MODIFIED:20250411T014827Z
UID:22409-1744883100-1744886700@vecncc.org
SUMMARY:Catechism in a Year(ish)
DESCRIPTION:Using the podcasts from Fr. Mike Schmitz\, we will (slowly) read through the Catechism of the Catholic Church. For those who would prefer to move at a slower pace and discuss the material in a small group\, we will review two (or so) episodes together each week.\nThe Catechism of the Catholic Church details the doctrine\, dogma\, and the basic tenets of the Church. Using the tradition of explaining what the Church believes\, what she celebrates\, what she lives and what she prays\, the Catechism of the Catholic Church offers challenges for believers and answers for all those interested in learning about the mystery of the Catholic faith.\nIn reading the Catechism of the Catholic Church we can perceive the wonderful unity of the mystery of God… — Pope St. John Paul I\nBeginning the week of September 10th\, come to the “Year(ish)” discussion group\, where we will listen together to one or two of the Catechism in A Year podcast\, and then take time to discuss the material together! Our goal is to understand and love more deeply the Church\, and the founder of our Church\, Jesus!\nOur Lady of the Angels: Mondays 6:00 -7:00 pm\nSt. John the Evangelist: Thursdays 9:45 – 10:45 am\nThere is no cost for this discussion group\, but it is recommended that you acquire a copy of the Catechism of the Catholic Church for your own use.
URL:https://vecncc.org/event/catechism-in-a-yearish-24/
LOCATION:St. John the Evangelist – Northfield\, 193 Vine St\, Northfield\, VT\, United States
CATEGORIES:Catholic,Central
END:VEVENT
BEGIN:VEVENT
DTSTART;TZID=America/New_York:20250421T180000
DTEND;TZID=America/New_York:20250421T190000
DTSTAMP:20260422T233908
CREATED:20250411T014829Z
LAST-MODIFIED:20250411T014829Z
UID:22415-1745258400-1745262000@vecncc.org
SUMMARY:Catechism in a Year(ish)
DESCRIPTION:Using the podcasts from Fr. Mike Schmitz\, we will (slowly) read through the Catechism of the Catholic Church. For those who would prefer to move at a slower pace and discuss the material in a small group\, we will review two (or so) episodes together each week.\nThe Catechism of the Catholic Church details the doctrine\, dogma\, and the basic tenets of the Church. Using the tradition of explaining what the Church believes\, what she celebrates\, what she lives and what she prays\, the Catechism of the Catholic Church offers challenges for believers and answers for all those interested in learning about the mystery of the Catholic faith.\nIn reading the Catechism of the Catholic Church we can perceive the wonderful unity of the mystery of God… — Pope St. John Paul I\nBeginning the week of September 10th\, come to the “Year(ish)” discussion group\, where we will listen together to one or two of the Catechism in A Year podcast\, and then take time to discuss the material together! Our goal is to understand and love more deeply the Church\, and the founder of our Church\, Jesus!\nOur Lady of the Angels: Mondays 6:00 -7:00 pm\nSt. John the Evangelist: Thursdays 9:45 – 10:45 am\nThere is no cost for this discussion group\, but it is recommended that you acquire a copy of the Catechism of the Catholic Church for your own use.
URL:https://vecncc.org/event/catechism-in-a-yearish-25/
LOCATION:Our Lady of Angels – Randolph\, 43 Hebard Hill Rd\, Randolph\, VT\, United States
CATEGORIES:Catholic,Central
END:VEVENT
BEGIN:VEVENT
DTSTART;TZID=America/New_York:20250424T094500
DTEND;TZID=America/New_York:20250424T104500
DTSTAMP:20260422T233908
CREATED:20250411T014830Z
LAST-MODIFIED:20250411T014830Z
UID:22417-1745487900-1745491500@vecncc.org
SUMMARY:Catechism in a Year(ish)
DESCRIPTION:Using the podcasts from Fr. Mike Schmitz\, we will (slowly) read through the Catechism of the Catholic Church. For those who would prefer to move at a slower pace and discuss the material in a small group\, we will review two (or so) episodes together each week.\nThe Catechism of the Catholic Church details the doctrine\, dogma\, and the basic tenets of the Church. Using the tradition of explaining what the Church believes\, what she celebrates\, what she lives and what she prays\, the Catechism of the Catholic Church offers challenges for believers and answers for all those interested in learning about the mystery of the Catholic faith.\nIn reading the Catechism of the Catholic Church we can perceive the wonderful unity of the mystery of God… — Pope St. John Paul I\nBeginning the week of September 10th\, come to the “Year(ish)” discussion group\, where we will listen together to one or two of the Catechism in A Year podcast\, and then take time to discuss the material together! Our goal is to understand and love more deeply the Church\, and the founder of our Church\, Jesus!\nOur Lady of the Angels: Mondays 6:00 -7:00 pm\nSt. John the Evangelist: Thursdays 9:45 – 10:45 am\nThere is no cost for this discussion group\, but it is recommended that you acquire a copy of the Catechism of the Catholic Church for your own use.
URL:https://vecncc.org/event/catechism-in-a-yearish-26/
LOCATION:St. John the Evangelist – Northfield\, 193 Vine St\, Northfield\, VT\, United States
CATEGORIES:Catholic,Central
END:VEVENT
BEGIN:VEVENT
DTSTART;TZID=America/New_York:20250426T093000
DTEND;TZID=America/New_York:20250426T160000
DTSTAMP:20260422T233908
CREATED:20250418T014715Z
LAST-MODIFIED:20250418T014715Z
UID:22441-1745659800-1745683200@vecncc.org
SUMMARY:Present in the Pain Retreat: A Healing Retreat for Grieving Mothers
DESCRIPTION:The Diocese of Burlington will hold a retreat for grieving mothers on Saturday\, April 26 from 9:30–4:00 at Blessed Sacrament Church in Stowe. Women who have experienced the loss of a child through miscarriage\, stillbirth\, or death at any age from infancy to adulthood are welcome to register and attend this time of teaching\, discussion\, and prayer. The retreat will focus on Our Lady of Sorrows as an example for mothers suffering this uniquely difficult loss. Eileen Tully from New Hampshire will be our presenter.  The cost is $30 which includes lunch.  Please register by April 13.   For more information\, contact Eileen Haupt at respectlife@vermontcatholic.org or (802) 658-6110\, x1201
URL:https://vecncc.org/event/present-in-the-pain-retreat-a-healing-retreat-for-grieving-mothers/
LOCATION:Blessed Sacrament Church – Stowe\, 728 Mountain Rd\, Stowe\, VT\, United States
CATEGORIES:Catholic,Central
END:VEVENT
BEGIN:VEVENT
DTSTART;TZID=America/New_York:20250428T180000
DTEND;TZID=America/New_York:20250428T190000
DTSTAMP:20260422T233908
CREATED:20250418T014719Z
LAST-MODIFIED:20250418T014719Z
UID:22447-1745863200-1745866800@vecncc.org
SUMMARY:Catechism in a Year(ish)
DESCRIPTION:Using the podcasts from Fr. Mike Schmitz\, we will (slowly) read through the Catechism of the Catholic Church. For those who would prefer to move at a slower pace and discuss the material in a small group\, we will review two (or so) episodes together each week.\nThe Catechism of the Catholic Church details the doctrine\, dogma\, and the basic tenets of the Church. Using the tradition of explaining what the Church believes\, what she celebrates\, what she lives and what she prays\, the Catechism of the Catholic Church offers challenges for believers and answers for all those interested in learning about the mystery of the Catholic faith.\nIn reading the Catechism of the Catholic Church we can perceive the wonderful unity of the mystery of God… — Pope St. John Paul I\nBeginning the week of September 10th\, come to the “Year(ish)” discussion group\, where we will listen together to one or two of the Catechism in A Year podcast\, and then take time to discuss the material together! Our goal is to understand and love more deeply the Church\, and the founder of our Church\, Jesus!\nOur Lady of the Angels: Mondays 6:00 -7:00 pm\nSt. John the Evangelist: Thursdays 9:45 – 10:45 am\nThere is no cost for this discussion group\, but it is recommended that you acquire a copy of the Catechism of the Catholic Church for your own use.
URL:https://vecncc.org/event/catechism-in-a-yearish-27/
LOCATION:Our Lady of Angels – Randolph\, 43 Hebard Hill Rd\, Randolph\, VT\, United States
CATEGORIES:Catholic,Central
END:VEVENT
END:VCALENDAR