BEGIN:VCALENDAR
VERSION:2.0
PRODID:-//VECNCC - ECPv6.15.11//NONSGML v1.0//EN
CALSCALE:GREGORIAN
METHOD:PUBLISH
X-WR-CALNAME:VECNCC
X-ORIGINAL-URL:https://vecncc.org
X-WR-CALDESC:Events for VECNCC
REFRESH-INTERVAL;VALUE=DURATION:PT1H
X-Robots-Tag:noindex
X-PUBLISHED-TTL:PT1H
BEGIN:VTIMEZONE
TZID:America/New_York
BEGIN:DAYLIGHT
TZOFFSETFROM:-0500
TZOFFSETTO:-0400
TZNAME:EDT
DTSTART:20240310T070000
END:DAYLIGHT
BEGIN:STANDARD
TZOFFSETFROM:-0400
TZOFFSETTO:-0500
TZNAME:EST
DTSTART:20241103T060000
END:STANDARD
BEGIN:DAYLIGHT
TZOFFSETFROM:-0500
TZOFFSETTO:-0400
TZNAME:EDT
DTSTART:20250309T070000
END:DAYLIGHT
BEGIN:STANDARD
TZOFFSETFROM:-0400
TZOFFSETTO:-0500
TZNAME:EST
DTSTART:20251102T060000
END:STANDARD
BEGIN:DAYLIGHT
TZOFFSETFROM:-0500
TZOFFSETTO:-0400
TZNAME:EDT
DTSTART:20260308T070000
END:DAYLIGHT
BEGIN:STANDARD
TZOFFSETFROM:-0400
TZOFFSETTO:-0500
TZNAME:EST
DTSTART:20261101T060000
END:STANDARD
END:VTIMEZONE
BEGIN:VEVENT
DTSTART;TZID=America/New_York:20250703T094500
DTEND;TZID=America/New_York:20250703T104500
DTSTAMP:20260422T141914
CREATED:20250613T021716Z
LAST-MODIFIED:20250613T021716Z
UID:22734-1751535900-1751539500@vecncc.org
SUMMARY:Catechism in a Year(ish)
DESCRIPTION:Using the podcasts from Fr. Mike Schmitz\, we will (slowly) read through the Catechism of the Catholic Church. For those who would prefer to move at a slower pace and discuss the material in a small group\, we will review two (or so) episodes together each week.\nThe Catechism of the Catholic Church details the doctrine\, dogma\, and the basic tenets of the Church. Using the tradition of explaining what the Church believes\, what she celebrates\, what she lives and what she prays\, the Catechism of the Catholic Church offers challenges for believers and answers for all those interested in learning about the mystery of the Catholic faith.\nIn reading the Catechism of the Catholic Church we can perceive the wonderful unity of the mystery of God… — Pope St. John Paul I\nBeginning the week of September 10th\, come to the “Year(ish)” discussion group\, where we will listen together to one or two of the Catechism in A Year podcast\, and then take time to discuss the material together! Our goal is to understand and love more deeply the Church\, and the founder of our Church\, Jesus!\nOur Lady of the Angels: Mondays 6:00 -7:00 pm\nSt. John the Evangelist: Thursdays 9:45 – 10:45 am\nThere is no cost for this discussion group\, but it is recommended that you acquire a copy of the Catechism of the Catholic Church for your own use.
URL:https://vecncc.org/event/catechism-in-a-yearish-46/
LOCATION:St. John the Evangelist – Northfield\, 193 Vine St\, Northfield\, VT\, United States
CATEGORIES:Catholic,Central
END:VEVENT
BEGIN:VEVENT
DTSTART;TZID=America/New_York:20250707T180000
DTEND;TZID=America/New_York:20250707T190000
DTSTAMP:20260422T141914
CREATED:20250620T023221Z
LAST-MODIFIED:20250620T023221Z
UID:22770-1751911200-1751914800@vecncc.org
SUMMARY:Catechism in a Year(ish)
DESCRIPTION:Using the podcasts from Fr. Mike Schmitz\, we will (slowly) read through the Catechism of the Catholic Church. For those who would prefer to move at a slower pace and discuss the material in a small group\, we will review two (or so) episodes together each week.\nThe Catechism of the Catholic Church details the doctrine\, dogma\, and the basic tenets of the Church. Using the tradition of explaining what the Church believes\, what she celebrates\, what she lives and what she prays\, the Catechism of the Catholic Church offers challenges for believers and answers for all those interested in learning about the mystery of the Catholic faith.\nIn reading the Catechism of the Catholic Church we can perceive the wonderful unity of the mystery of God… — Pope St. John Paul I\nBeginning the week of September 10th\, come to the “Year(ish)” discussion group\, where we will listen together to one or two of the Catechism in A Year podcast\, and then take time to discuss the material together! Our goal is to understand and love more deeply the Church\, and the founder of our Church\, Jesus!\nOur Lady of the Angels: Mondays 6:00 -7:00 pm\nSt. John the Evangelist: Thursdays 9:45 – 10:45 am\nThere is no cost for this discussion group\, but it is recommended that you acquire a copy of the Catechism of the Catholic Church for your own use.
URL:https://vecncc.org/event/catechism-in-a-yearish-47/
LOCATION:Our Lady of Angels – Randolph\, 43 Hebard Hill Rd\, Randolph\, VT\, United States
CATEGORIES:Catholic,Central
END:VEVENT
BEGIN:VEVENT
DTSTART;TZID=America/New_York:20250710T094500
DTEND;TZID=America/New_York:20250710T104500
DTSTAMP:20260422T141914
CREATED:20250620T023222Z
LAST-MODIFIED:20250620T023222Z
UID:22773-1752140700-1752144300@vecncc.org
SUMMARY:Catechism in a Year(ish)
DESCRIPTION:Using the podcasts from Fr. Mike Schmitz\, we will (slowly) read through the Catechism of the Catholic Church. For those who would prefer to move at a slower pace and discuss the material in a small group\, we will review two (or so) episodes together each week.\nThe Catechism of the Catholic Church details the doctrine\, dogma\, and the basic tenets of the Church. Using the tradition of explaining what the Church believes\, what she celebrates\, what she lives and what she prays\, the Catechism of the Catholic Church offers challenges for believers and answers for all those interested in learning about the mystery of the Catholic faith.\nIn reading the Catechism of the Catholic Church we can perceive the wonderful unity of the mystery of God… — Pope St. John Paul I\nBeginning the week of September 10th\, come to the “Year(ish)” discussion group\, where we will listen together to one or two of the Catechism in A Year podcast\, and then take time to discuss the material together! Our goal is to understand and love more deeply the Church\, and the founder of our Church\, Jesus!\nOur Lady of the Angels: Mondays 6:00 -7:00 pm\nSt. John the Evangelist: Thursdays 9:45 – 10:45 am\nThere is no cost for this discussion group\, but it is recommended that you acquire a copy of the Catechism of the Catholic Church for your own use.
URL:https://vecncc.org/event/catechism-in-a-yearish-48/
LOCATION:St. John the Evangelist – Northfield\, 193 Vine St\, Northfield\, VT\, United States
CATEGORIES:Catholic,Central
END:VEVENT
BEGIN:VEVENT
DTSTART;TZID=America/New_York:20250714T180000
DTEND;TZID=America/New_York:20250714T190000
DTSTAMP:20260422T141914
CREATED:20250620T023223Z
LAST-MODIFIED:20250620T023223Z
UID:22777-1752516000-1752519600@vecncc.org
SUMMARY:Catechism in a Year(ish)
DESCRIPTION:Using the podcasts from Fr. Mike Schmitz\, we will (slowly) read through the Catechism of the Catholic Church. For those who would prefer to move at a slower pace and discuss the material in a small group\, we will review two (or so) episodes together each week.\nThe Catechism of the Catholic Church details the doctrine\, dogma\, and the basic tenets of the Church. Using the tradition of explaining what the Church believes\, what she celebrates\, what she lives and what she prays\, the Catechism of the Catholic Church offers challenges for believers and answers for all those interested in learning about the mystery of the Catholic faith.\nIn reading the Catechism of the Catholic Church we can perceive the wonderful unity of the mystery of God… — Pope St. John Paul I\nBeginning the week of September 10th\, come to the “Year(ish)” discussion group\, where we will listen together to one or two of the Catechism in A Year podcast\, and then take time to discuss the material together! Our goal is to understand and love more deeply the Church\, and the founder of our Church\, Jesus!\nOur Lady of the Angels: Mondays 6:00 -7:00 pm\nSt. John the Evangelist: Thursdays 9:45 – 10:45 am\nThere is no cost for this discussion group\, but it is recommended that you acquire a copy of the Catechism of the Catholic Church for your own use.
URL:https://vecncc.org/event/catechism-in-a-yearish-49/
LOCATION:Our Lady of Angels – Randolph\, 43 Hebard Hill Rd\, Randolph\, VT\, United States
CATEGORIES:Catholic,Central
END:VEVENT
BEGIN:VEVENT
DTSTART;TZID=America/New_York:20250717T094500
DTEND;TZID=America/New_York:20250717T104500
DTSTAMP:20260422T141914
CREATED:20250620T023224Z
LAST-MODIFIED:20250620T023224Z
UID:22779-1752745500-1752749100@vecncc.org
SUMMARY:Catechism in a Year(ish)
DESCRIPTION:Using the podcasts from Fr. Mike Schmitz\, we will (slowly) read through the Catechism of the Catholic Church. For those who would prefer to move at a slower pace and discuss the material in a small group\, we will review two (or so) episodes together each week.\nThe Catechism of the Catholic Church details the doctrine\, dogma\, and the basic tenets of the Church. Using the tradition of explaining what the Church believes\, what she celebrates\, what she lives and what she prays\, the Catechism of the Catholic Church offers challenges for believers and answers for all those interested in learning about the mystery of the Catholic faith.\nIn reading the Catechism of the Catholic Church we can perceive the wonderful unity of the mystery of God… — Pope St. John Paul I\nBeginning the week of September 10th\, come to the “Year(ish)” discussion group\, where we will listen together to one or two of the Catechism in A Year podcast\, and then take time to discuss the material together! Our goal is to understand and love more deeply the Church\, and the founder of our Church\, Jesus!\nOur Lady of the Angels: Mondays 6:00 -7:00 pm\nSt. John the Evangelist: Thursdays 9:45 – 10:45 am\nThere is no cost for this discussion group\, but it is recommended that you acquire a copy of the Catechism of the Catholic Church for your own use.
URL:https://vecncc.org/event/catechism-in-a-yearish-50/
LOCATION:St. John the Evangelist – Northfield\, 193 Vine St\, Northfield\, VT\, United States
CATEGORIES:Catholic,Central
END:VEVENT
BEGIN:VEVENT
DTSTART;TZID=America/New_York:20250718T170000
DTEND;TZID=America/New_York:20250718T200000
DTSTAMP:20260422T141914
CREATED:20250620T023229Z
LAST-MODIFIED:20250620T023229Z
UID:22784-1752858000-1752868800@vecncc.org
SUMMARY:Diocesan Convocation - Day 2
DESCRIPTION:Join us July 17\, 18\, and 19 for the Jubilee Year of Hope Diocesan Convocation. Each evening features dinner\, presentations to inspire and deepen faith\, and opportunities for prayer and worship. Each evening will also have a simple activity you can partake in to become an “agent of hope.”\nThis evening is geared toward youth and young adults in our Diocese\, but all are welcome – especially the young-at-heart!\n5:00 – 6:00 pm: Potluck Dinner\n6:00 – 7:00 pm: Presentations\n7:00 – 8:00 pm: Exposition and Adoration of the Blessed Sacrament with Opportunity for Reconciliation. Praise and Worship music will be offered interspersed with readings from Sacred Scripture and reflections from Pope Francis.\nSpeakers and presentation topics TBA.\nPlease sign up for the Potluck here: SignUp Genius\nFor more information on the Diocesan Convocation\, visit www.vermontcatholic.org/convocation
URL:https://vecncc.org/event/diocesan-convocation-day-2/
LOCATION:Saint Monica Church – Barre\, 79 Summer St\, Barre\, VT\, United States
CATEGORIES:Catholic,Central
ATTACH;FMTTYPE=image/jpeg:https://vecncc.org/wp-content/uploads/2025/06/Jubilee_Convocation_2025_event-MOYRDT.jpg
ORGANIZER;CN="Josh Perry":MAILTO:jperry@vermontcatholic.org
END:VEVENT
BEGIN:VEVENT
DTSTART;TZID=America/New_York:20250721T180000
DTEND;TZID=America/New_York:20250721T190000
DTSTAMP:20260422T141914
CREATED:20250627T023213Z
LAST-MODIFIED:20250627T023213Z
UID:22819-1753120800-1753124400@vecncc.org
SUMMARY:Catechism in a Year(ish)
DESCRIPTION:Using the podcasts from Fr. Mike Schmitz\, we will (slowly) read through the Catechism of the Catholic Church. For those who would prefer to move at a slower pace and discuss the material in a small group\, we will review two (or so) episodes together each week.\nThe Catechism of the Catholic Church details the doctrine\, dogma\, and the basic tenets of the Church. Using the tradition of explaining what the Church believes\, what she celebrates\, what she lives and what she prays\, the Catechism of the Catholic Church offers challenges for believers and answers for all those interested in learning about the mystery of the Catholic faith.\nIn reading the Catechism of the Catholic Church we can perceive the wonderful unity of the mystery of God… — Pope St. John Paul I\nBeginning the week of September 10th\, come to the “Year(ish)” discussion group\, where we will listen together to one or two of the Catechism in A Year podcast\, and then take time to discuss the material together! Our goal is to understand and love more deeply the Church\, and the founder of our Church\, Jesus!\nOur Lady of the Angels: Mondays 6:00 -7:00 pm\nSt. John the Evangelist: Thursdays 9:45 – 10:45 am\nThere is no cost for this discussion group\, but it is recommended that you acquire a copy of the Catechism of the Catholic Church for your own use.
URL:https://vecncc.org/event/catechism-in-a-yearish-51/
LOCATION:Our Lady of Angels – Randolph\, 43 Hebard Hill Rd\, Randolph\, VT\, United States
CATEGORIES:Catholic,Central
END:VEVENT
BEGIN:VEVENT
DTSTART;TZID=America/New_York:20250724T094500
DTEND;TZID=America/New_York:20250724T104500
DTSTAMP:20260422T141914
CREATED:20250627T023214Z
LAST-MODIFIED:20250627T023214Z
UID:22821-1753350300-1753353900@vecncc.org
SUMMARY:Catechism in a Year(ish)
DESCRIPTION:Using the podcasts from Fr. Mike Schmitz\, we will (slowly) read through the Catechism of the Catholic Church. For those who would prefer to move at a slower pace and discuss the material in a small group\, we will review two (or so) episodes together each week.\nThe Catechism of the Catholic Church details the doctrine\, dogma\, and the basic tenets of the Church. Using the tradition of explaining what the Church believes\, what she celebrates\, what she lives and what she prays\, the Catechism of the Catholic Church offers challenges for believers and answers for all those interested in learning about the mystery of the Catholic faith.\nIn reading the Catechism of the Catholic Church we can perceive the wonderful unity of the mystery of God… — Pope St. John Paul I\nBeginning the week of September 10th\, come to the “Year(ish)” discussion group\, where we will listen together to one or two of the Catechism in A Year podcast\, and then take time to discuss the material together! Our goal is to understand and love more deeply the Church\, and the founder of our Church\, Jesus!\nOur Lady of the Angels: Mondays 6:00 -7:00 pm\nSt. John the Evangelist: Thursdays 9:45 – 10:45 am\nThere is no cost for this discussion group\, but it is recommended that you acquire a copy of the Catechism of the Catholic Church for your own use.
URL:https://vecncc.org/event/catechism-in-a-yearish-52/
LOCATION:St. John the Evangelist – Northfield\, 193 Vine St\, Northfield\, VT\, United States
CATEGORIES:Catholic,Central
END:VEVENT
BEGIN:VEVENT
DTSTART;TZID=America/New_York:20250728T180000
DTEND;TZID=America/New_York:20250728T190000
DTSTAMP:20260422T141914
CREATED:20250627T023215Z
LAST-MODIFIED:20250627T023215Z
UID:22824-1753725600-1753729200@vecncc.org
SUMMARY:Catechism in a Year(ish)
DESCRIPTION:Using the podcasts from Fr. Mike Schmitz\, we will (slowly) read through the Catechism of the Catholic Church. For those who would prefer to move at a slower pace and discuss the material in a small group\, we will review two (or so) episodes together each week.\nThe Catechism of the Catholic Church details the doctrine\, dogma\, and the basic tenets of the Church. Using the tradition of explaining what the Church believes\, what she celebrates\, what she lives and what she prays\, the Catechism of the Catholic Church offers challenges for believers and answers for all those interested in learning about the mystery of the Catholic faith.\nIn reading the Catechism of the Catholic Church we can perceive the wonderful unity of the mystery of God… — Pope St. John Paul I\nBeginning the week of September 10th\, come to the “Year(ish)” discussion group\, where we will listen together to one or two of the Catechism in A Year podcast\, and then take time to discuss the material together! Our goal is to understand and love more deeply the Church\, and the founder of our Church\, Jesus!\nOur Lady of the Angels: Mondays 6:00 -7:00 pm\nSt. John the Evangelist: Thursdays 9:45 – 10:45 am\nThere is no cost for this discussion group\, but it is recommended that you acquire a copy of the Catechism of the Catholic Church for your own use.
URL:https://vecncc.org/event/catechism-in-a-yearish-53/
LOCATION:Our Lady of Angels – Randolph\, 43 Hebard Hill Rd\, Randolph\, VT\, United States
CATEGORIES:Catholic,Central
END:VEVENT
BEGIN:VEVENT
DTSTART;TZID=America/New_York:20250731T094500
DTEND;TZID=America/New_York:20250731T104500
DTSTAMP:20260422T141914
CREATED:20250627T023216Z
LAST-MODIFIED:20250627T023216Z
UID:22826-1753955100-1753958700@vecncc.org
SUMMARY:Catechism in a Year(ish)
DESCRIPTION:Using the podcasts from Fr. Mike Schmitz\, we will (slowly) read through the Catechism of the Catholic Church. For those who would prefer to move at a slower pace and discuss the material in a small group\, we will review two (or so) episodes together each week.\nThe Catechism of the Catholic Church details the doctrine\, dogma\, and the basic tenets of the Church. Using the tradition of explaining what the Church believes\, what she celebrates\, what she lives and what she prays\, the Catechism of the Catholic Church offers challenges for believers and answers for all those interested in learning about the mystery of the Catholic faith.\nIn reading the Catechism of the Catholic Church we can perceive the wonderful unity of the mystery of God… — Pope St. John Paul I\nBeginning the week of September 10th\, come to the “Year(ish)” discussion group\, where we will listen together to one or two of the Catechism in A Year podcast\, and then take time to discuss the material together! Our goal is to understand and love more deeply the Church\, and the founder of our Church\, Jesus!\nOur Lady of the Angels: Mondays 6:00 -7:00 pm\nSt. John the Evangelist: Thursdays 9:45 – 10:45 am\nThere is no cost for this discussion group\, but it is recommended that you acquire a copy of the Catechism of the Catholic Church for your own use.
URL:https://vecncc.org/event/catechism-in-a-yearish-54/
LOCATION:St. John the Evangelist – Northfield\, 193 Vine St\, Northfield\, VT\, United States
CATEGORIES:Catholic,Central
END:VEVENT
END:VCALENDAR