BEGIN:VCALENDAR
VERSION:2.0
PRODID:-//VECNCC - ECPv6.15.11//NONSGML v1.0//EN
CALSCALE:GREGORIAN
METHOD:PUBLISH
X-WR-CALNAME:VECNCC
X-ORIGINAL-URL:https://vecncc.org
X-WR-CALDESC:Events for VECNCC
REFRESH-INTERVAL;VALUE=DURATION:PT1H
X-Robots-Tag:noindex
X-PUBLISHED-TTL:PT1H
BEGIN:VTIMEZONE
TZID:America/New_York
BEGIN:DAYLIGHT
TZOFFSETFROM:-0500
TZOFFSETTO:-0400
TZNAME:EDT
DTSTART:20240310T070000
END:DAYLIGHT
BEGIN:STANDARD
TZOFFSETFROM:-0400
TZOFFSETTO:-0500
TZNAME:EST
DTSTART:20241103T060000
END:STANDARD
BEGIN:DAYLIGHT
TZOFFSETFROM:-0500
TZOFFSETTO:-0400
TZNAME:EDT
DTSTART:20250309T070000
END:DAYLIGHT
BEGIN:STANDARD
TZOFFSETFROM:-0400
TZOFFSETTO:-0500
TZNAME:EST
DTSTART:20251102T060000
END:STANDARD
BEGIN:DAYLIGHT
TZOFFSETFROM:-0500
TZOFFSETTO:-0400
TZNAME:EDT
DTSTART:20260308T070000
END:DAYLIGHT
BEGIN:STANDARD
TZOFFSETFROM:-0400
TZOFFSETTO:-0500
TZNAME:EST
DTSTART:20261101T060000
END:STANDARD
END:VTIMEZONE
BEGIN:VEVENT
DTSTART;TZID=America/New_York:20250901T180000
DTEND;TZID=America/New_York:20250901T190000
DTSTAMP:20260422T110013
CREATED:20250801T024715Z
LAST-MODIFIED:20250801T024715Z
UID:23025-1756749600-1756753200@vecncc.org
SUMMARY:Catechism in a Year(ish)
DESCRIPTION:Using the podcasts from Fr. Mike Schmitz\, we will (slowly) read through the Catechism of the Catholic Church. For those who would prefer to move at a slower pace and discuss the material in a small group\, we will review two (or so) episodes together each week.\nThe Catechism of the Catholic Church details the doctrine\, dogma\, and the basic tenets of the Church. Using the tradition of explaining what the Church believes\, what she celebrates\, what she lives and what she prays\, the Catechism of the Catholic Church offers challenges for believers and answers for all those interested in learning about the mystery of the Catholic faith.\nIn reading the Catechism of the Catholic Church we can perceive the wonderful unity of the mystery of God… — Pope St. John Paul I\nBeginning the week of September 10th\, come to the “Year(ish)” discussion group\, where we will listen together to one or two of the Catechism in A Year podcast\, and then take time to discuss the material together! Our goal is to understand and love more deeply the Church\, and the founder of our Church\, Jesus!\nOur Lady of the Angels: Mondays 6:00 -7:00 pm\nSt. John the Evangelist: Thursdays 9:45 – 10:45 am\nThere is no cost for this discussion group\, but it is recommended that you acquire a copy of the Catechism of the Catholic Church for your own use.
URL:https://vecncc.org/event/catechism-in-a-yearish-63/
LOCATION:Our Lady of Angels – Randolph\, 43 Hebard Hill Rd\, Randolph\, VT\, United States
CATEGORIES:Catholic,Central
END:VEVENT
BEGIN:VEVENT
DTSTART;TZID=America/New_York:20250904T094500
DTEND;TZID=America/New_York:20250904T104500
DTSTAMP:20260422T110013
CREATED:20250808T024808Z
LAST-MODIFIED:20250808T024808Z
UID:23047-1756979100-1756982700@vecncc.org
SUMMARY:Catechism in a Year(ish)
DESCRIPTION:Using the podcasts from Fr. Mike Schmitz\, we will (slowly) read through the Catechism of the Catholic Church. For those who would prefer to move at a slower pace and discuss the material in a small group\, we will review two (or so) episodes together each week.\nThe Catechism of the Catholic Church details the doctrine\, dogma\, and the basic tenets of the Church. Using the tradition of explaining what the Church believes\, what she celebrates\, what she lives and what she prays\, the Catechism of the Catholic Church offers challenges for believers and answers for all those interested in learning about the mystery of the Catholic faith.\nIn reading the Catechism of the Catholic Church we can perceive the wonderful unity of the mystery of God… — Pope St. John Paul I\nBeginning the week of September 10th\, come to the “Year(ish)” discussion group\, where we will listen together to one or two of the Catechism in A Year podcast\, and then take time to discuss the material together! Our goal is to understand and love more deeply the Church\, and the founder of our Church\, Jesus!\nOur Lady of the Angels: Mondays 6:00 -7:00 pm\nSt. John the Evangelist: Thursdays 9:45 – 10:45 am\nThere is no cost for this discussion group\, but it is recommended that you acquire a copy of the Catechism of the Catholic Church for your own use.
URL:https://vecncc.org/event/catechism-in-a-yearish-64/
LOCATION:St. John the Evangelist – Northfield\, 193 Vine St\, Northfield\, VT\, United States
CATEGORIES:Catholic,Central
END:VEVENT
BEGIN:VEVENT
DTSTART;TZID=America/New_York:20250908T180000
DTEND;TZID=America/New_York:20250908T190000
DTSTAMP:20260422T110013
CREATED:20250815T030228Z
LAST-MODIFIED:20250815T030228Z
UID:23081-1757354400-1757358000@vecncc.org
SUMMARY:Catechism in a Year(ish)
DESCRIPTION:Using the podcasts from Fr. Mike Schmitz\, we will (slowly) read through the Catechism of the Catholic Church. For those who would prefer to move at a slower pace and discuss the material in a small group\, we will review two (or so) episodes together each week.\nThe Catechism of the Catholic Church details the doctrine\, dogma\, and the basic tenets of the Church. Using the tradition of explaining what the Church believes\, what she celebrates\, what she lives and what she prays\, the Catechism of the Catholic Church offers challenges for believers and answers for all those interested in learning about the mystery of the Catholic faith.\nIn reading the Catechism of the Catholic Church we can perceive the wonderful unity of the mystery of God… — Pope St. John Paul I\nBeginning the week of September 10th\, come to the “Year(ish)” discussion group\, where we will listen together to one or two of the Catechism in A Year podcast\, and then take time to discuss the material together! Our goal is to understand and love more deeply the Church\, and the founder of our Church\, Jesus!\nOur Lady of the Angels: Mondays 6:00 -7:00 pm\nSt. John the Evangelist: Thursdays 9:45 – 10:45 am\nThere is no cost for this discussion group\, but it is recommended that you acquire a copy of the Catechism of the Catholic Church for your own use.
URL:https://vecncc.org/event/catechism-in-a-yearish-65/
LOCATION:Our Lady of Angels – Randolph\, 43 Hebard Hill Rd\, Randolph\, VT\, United States
CATEGORIES:Catholic,Central
END:VEVENT
BEGIN:VEVENT
DTSTART;TZID=America/New_York:20250911T094500
DTEND;TZID=America/New_York:20250911T104500
DTSTAMP:20260422T110013
CREATED:20250815T030233Z
LAST-MODIFIED:20250815T030233Z
UID:23087-1757583900-1757587500@vecncc.org
SUMMARY:Catechism in a Year(ish)
DESCRIPTION:Using the podcasts from Fr. Mike Schmitz\, we will (slowly) read through the Catechism of the Catholic Church. For those who would prefer to move at a slower pace and discuss the material in a small group\, we will review two (or so) episodes together each week.\nThe Catechism of the Catholic Church details the doctrine\, dogma\, and the basic tenets of the Church. Using the tradition of explaining what the Church believes\, what she celebrates\, what she lives and what she prays\, the Catechism of the Catholic Church offers challenges for believers and answers for all those interested in learning about the mystery of the Catholic faith.\nIn reading the Catechism of the Catholic Church we can perceive the wonderful unity of the mystery of God… — Pope St. John Paul I\nBeginning the week of September 10th\, come to the “Year(ish)” discussion group\, where we will listen together to one or two of the Catechism in A Year podcast\, and then take time to discuss the material together! Our goal is to understand and love more deeply the Church\, and the founder of our Church\, Jesus!\nOur Lady of the Angels: Mondays 6:00 -7:00 pm\nSt. John the Evangelist: Thursdays 9:45 – 10:45 am\nThere is no cost for this discussion group\, but it is recommended that you acquire a copy of the Catechism of the Catholic Church for your own use.
URL:https://vecncc.org/event/catechism-in-a-yearish-66/
LOCATION:St. John the Evangelist – Northfield\, 193 Vine St\, Northfield\, VT\, United States
CATEGORIES:Catholic,Central
END:VEVENT
BEGIN:VEVENT
DTSTART;TZID=America/New_York:20250913T090000
DTEND;TZID=America/New_York:20250913T100000
DTSTAMP:20260422T110013
CREATED:20250822T030233Z
LAST-MODIFIED:20250822T030233Z
UID:23110-1757754000-1757757600@vecncc.org
SUMMARY:SoulCore
DESCRIPTION:Activate your Mind\, Body & Soul: Stretch\, Strengthen & Pray. SoulCore is an integrated faith & fitness class to the prayers of the rosary with a self-paced workout. Everyone is welcome\, no experience needed. Classes are on Saturdays from 9:00 am – 10:00 am at St. Andrews Church Hall\, 109 South Main Street\, Waterbury\, VT .  They start on Sept 13 – Dec 20  (No Class 11/1). Please bring a  mat and water bottle. The cost is by freewill donation\, suggested $10 (after expenses\, proceeds go to local charity) If you are interested in becoming trained as a leader\, contact Joanna at joanna.bisceglio@gmail.com   802-272-4497 (text/cell).
URL:https://vecncc.org/event/soulcore/
LOCATION:St. Andrew Church – Waterbury\, 109 S Main St\, Waterbury\, VT\, United States
CATEGORIES:Catholic,Central
ORGANIZER;CN="Joanna Bisceglio":MAILTO:joanna.bisceglio@gmail.com
END:VEVENT
BEGIN:VEVENT
DTSTART;TZID=America/New_York:20250915T180000
DTEND;TZID=America/New_York:20250915T190000
DTSTAMP:20260422T110013
CREATED:20250822T030234Z
LAST-MODIFIED:20250822T030234Z
UID:23112-1757959200-1757962800@vecncc.org
SUMMARY:Catechism in a Year(ish)
DESCRIPTION:Using the podcasts from Fr. Mike Schmitz\, we will (slowly) read through the Catechism of the Catholic Church. For those who would prefer to move at a slower pace and discuss the material in a small group\, we will review two (or so) episodes together each week.\nThe Catechism of the Catholic Church details the doctrine\, dogma\, and the basic tenets of the Church. Using the tradition of explaining what the Church believes\, what she celebrates\, what she lives and what she prays\, the Catechism of the Catholic Church offers challenges for believers and answers for all those interested in learning about the mystery of the Catholic faith.\nIn reading the Catechism of the Catholic Church we can perceive the wonderful unity of the mystery of God… — Pope St. John Paul I\nBeginning the week of September 10th\, come to the “Year(ish)” discussion group\, where we will listen together to one or two of the Catechism in A Year podcast\, and then take time to discuss the material together! Our goal is to understand and love more deeply the Church\, and the founder of our Church\, Jesus!\nOur Lady of the Angels: Mondays 6:00 -7:00 pm\nSt. John the Evangelist: Thursdays 9:45 – 10:45 am\nThere is no cost for this discussion group\, but it is recommended that you acquire a copy of the Catechism of the Catholic Church for your own use.
URL:https://vecncc.org/event/catechism-in-a-yearish-67/
LOCATION:Our Lady of Angels – Randolph\, 43 Hebard Hill Rd\, Randolph\, VT\, United States
CATEGORIES:Catholic,Central
END:VEVENT
BEGIN:VEVENT
DTSTART;TZID=America/New_York:20250918T094500
DTEND;TZID=America/New_York:20250918T104500
DTSTAMP:20260422T110013
CREATED:20250905T031714Z
LAST-MODIFIED:20250905T031714Z
UID:23164-1758188700-1758192300@vecncc.org
SUMMARY:Catechism in a Year(ish)
DESCRIPTION:Using the podcasts from Fr. Mike Schmitz\, we will (slowly) read through the Catechism of the Catholic Church. For those who would prefer to move at a slower pace and discuss the material in a small group\, we will review two (or so) episodes together each week.\nThe Catechism of the Catholic Church details the doctrine\, dogma\, and the basic tenets of the Church. Using the tradition of explaining what the Church believes\, what she celebrates\, what she lives and what she prays\, the Catechism of the Catholic Church offers challenges for believers and answers for all those interested in learning about the mystery of the Catholic faith.\nIn reading the Catechism of the Catholic Church we can perceive the wonderful unity of the mystery of God… — Pope St. John Paul I\nBeginning the week of September 10th\, come to the “Year(ish)” discussion group\, where we will listen together to one or two of the Catechism in A Year podcast\, and then take time to discuss the material together! Our goal is to understand and love more deeply the Church\, and the founder of our Church\, Jesus!\nOur Lady of the Angels: Mondays 6:00 -7:00 pm\nSt. John the Evangelist: Thursdays 9:45 – 10:45 am\nThere is no cost for this discussion group\, but it is recommended that you acquire a copy of the Catechism of the Catholic Church for your own use.
URL:https://vecncc.org/event/catechism-in-a-yearish-68/
LOCATION:St. John the Evangelist – Northfield\, 193 Vine St\, Northfield\, VT\, United States
CATEGORIES:Catholic,Central
END:VEVENT
BEGIN:VEVENT
DTSTART;TZID=America/New_York:20250920T090000
DTEND;TZID=America/New_York:20250920T100000
DTSTAMP:20260422T110013
CREATED:20250912T031715Z
LAST-MODIFIED:20250912T031715Z
UID:23187-1758358800-1758362400@vecncc.org
SUMMARY:SoulCore
DESCRIPTION:Activate your Mind\, Body & Soul: Stretch\, Strengthen & Pray. SoulCore is an integrated faith & fitness class to the prayers of the rosary with a self-paced workout. Everyone is welcome\, no experience needed. Classes are on Saturdays from 9:00 am – 10:00 am at St. Andrews Church Hall\, 109 South Main Street\, Waterbury\, VT .  They start on Sept 13 – Dec 20  (No Class 11/1). Please bring a  mat and water bottle. The cost is by freewill donation\, suggested $10 (after expenses\, proceeds go to local charity) If you are interested in becoming trained as a leader\, contact Joanna at joanna.bisceglio@gmail.com   802-272-4497 (text/cell).
URL:https://vecncc.org/event/soulcore-2/
LOCATION:St. Andrew Church – Waterbury\, 109 S Main St\, Waterbury\, VT\, United States
CATEGORIES:Catholic,Central
ORGANIZER;CN="Joanna Bisceglio":MAILTO:joanna.bisceglio@gmail.com
END:VEVENT
BEGIN:VEVENT
DTSTART;TZID=America/New_York:20250922T180000
DTEND;TZID=America/New_York:20250922T190000
DTSTAMP:20260422T110013
CREATED:20250912T031716Z
LAST-MODIFIED:20250912T031716Z
UID:23191-1758564000-1758567600@vecncc.org
SUMMARY:Catechism in a Year(ish)
DESCRIPTION:Using the podcasts from Fr. Mike Schmitz\, we will (slowly) read through the Catechism of the Catholic Church. For those who would prefer to move at a slower pace and discuss the material in a small group\, we will review two (or so) episodes together each week.\nThe Catechism of the Catholic Church details the doctrine\, dogma\, and the basic tenets of the Church. Using the tradition of explaining what the Church believes\, what she celebrates\, what she lives and what she prays\, the Catechism of the Catholic Church offers challenges for believers and answers for all those interested in learning about the mystery of the Catholic faith.\nIn reading the Catechism of the Catholic Church we can perceive the wonderful unity of the mystery of God… — Pope St. John Paul I\nBeginning the week of September 10th\, come to the “Year(ish)” discussion group\, where we will listen together to one or two of the Catechism in A Year podcast\, and then take time to discuss the material together! Our goal is to understand and love more deeply the Church\, and the founder of our Church\, Jesus!\nOur Lady of the Angels: Mondays 6:00 -7:00 pm\nSt. John the Evangelist: Thursdays 9:45 – 10:45 am\nThere is no cost for this discussion group\, but it is recommended that you acquire a copy of the Catechism of the Catholic Church for your own use.
URL:https://vecncc.org/event/catechism-in-a-yearish-69/
LOCATION:Our Lady of Angels – Randolph\, 43 Hebard Hill Rd\, Randolph\, VT\, United States
CATEGORIES:Catholic,Central
END:VEVENT
BEGIN:VEVENT
DTSTART;TZID=America/New_York:20250925T094500
DTEND;TZID=America/New_York:20250925T104500
DTSTAMP:20260422T110013
CREATED:20250912T031719Z
LAST-MODIFIED:20250912T031719Z
UID:23199-1758793500-1758797100@vecncc.org
SUMMARY:Catechism in a Year(ish)
DESCRIPTION:Using the podcasts from Fr. Mike Schmitz\, we will (slowly) read through the Catechism of the Catholic Church. For those who would prefer to move at a slower pace and discuss the material in a small group\, we will review two (or so) episodes together each week.\nThe Catechism of the Catholic Church details the doctrine\, dogma\, and the basic tenets of the Church. Using the tradition of explaining what the Church believes\, what she celebrates\, what she lives and what she prays\, the Catechism of the Catholic Church offers challenges for believers and answers for all those interested in learning about the mystery of the Catholic faith.\nIn reading the Catechism of the Catholic Church we can perceive the wonderful unity of the mystery of God… — Pope St. John Paul I\nBeginning the week of September 10th\, come to the “Year(ish)” discussion group\, where we will listen together to one or two of the Catechism in A Year podcast\, and then take time to discuss the material together! Our goal is to understand and love more deeply the Church\, and the founder of our Church\, Jesus!\nOur Lady of the Angels: Mondays 6:00 -7:00 pm\nSt. John the Evangelist: Thursdays 9:45 – 10:45 am\nThere is no cost for this discussion group\, but it is recommended that you acquire a copy of the Catechism of the Catholic Church for your own use.
URL:https://vecncc.org/event/catechism-in-a-yearish-70/
LOCATION:St. John the Evangelist – Northfield\, 193 Vine St\, Northfield\, VT\, United States
CATEGORIES:Catholic,Central
END:VEVENT
BEGIN:VEVENT
DTSTART;TZID=America/New_York:20250927T090000
DTEND;TZID=America/New_York:20250927T100000
DTSTAMP:20260422T110013
CREATED:20250919T032332Z
LAST-MODIFIED:20250919T032332Z
UID:23224-1758963600-1758967200@vecncc.org
SUMMARY:SoulCore
DESCRIPTION:Activate your Mind\, Body & Soul: Stretch\, Strengthen & Pray. SoulCore is an integrated faith & fitness class to the prayers of the rosary with a self-paced workout. Everyone is welcome\, no experience needed. Classes are on Saturdays from 9:00 am – 10:00 am at St. Andrews Church Hall\, 109 South Main Street\, Waterbury\, VT .  They start on Sept 13 – Dec 20  (No Class 11/1). Please bring a  mat and water bottle. The cost is by freewill donation\, suggested $10 (after expenses\, proceeds go to local charity) If you are interested in becoming trained as a leader\, contact Joanna at joanna.bisceglio@gmail.com   802-272-4497 (text/cell).
URL:https://vecncc.org/event/soulcore-3/
LOCATION:St. Andrew Church – Waterbury\, 109 S Main St\, Waterbury\, VT\, United States
CATEGORIES:Catholic,Central
ORGANIZER;CN="Joanna Bisceglio":MAILTO:joanna.bisceglio@gmail.com
END:VEVENT
BEGIN:VEVENT
DTSTART;TZID=America/New_York:20250929T180000
DTEND;TZID=America/New_York:20250929T190000
DTSTAMP:20260422T110013
CREATED:20250919T032332Z
LAST-MODIFIED:20250919T032332Z
UID:23226-1759168800-1759172400@vecncc.org
SUMMARY:Catechism in a Year(ish)
DESCRIPTION:Using the podcasts from Fr. Mike Schmitz\, we will (slowly) read through the Catechism of the Catholic Church. For those who would prefer to move at a slower pace and discuss the material in a small group\, we will review two (or so) episodes together each week.\nThe Catechism of the Catholic Church details the doctrine\, dogma\, and the basic tenets of the Church. Using the tradition of explaining what the Church believes\, what she celebrates\, what she lives and what she prays\, the Catechism of the Catholic Church offers challenges for believers and answers for all those interested in learning about the mystery of the Catholic faith.\nIn reading the Catechism of the Catholic Church we can perceive the wonderful unity of the mystery of God… — Pope St. John Paul I\nBeginning the week of September 10th\, come to the “Year(ish)” discussion group\, where we will listen together to one or two of the Catechism in A Year podcast\, and then take time to discuss the material together! Our goal is to understand and love more deeply the Church\, and the founder of our Church\, Jesus!\nOur Lady of the Angels: Mondays 6:00 -7:00 pm\nSt. John the Evangelist: Thursdays 9:45 – 10:45 am\nThere is no cost for this discussion group\, but it is recommended that you acquire a copy of the Catechism of the Catholic Church for your own use.
URL:https://vecncc.org/event/catechism-in-a-yearish-71/
LOCATION:Our Lady of Angels – Randolph\, 43 Hebard Hill Rd\, Randolph\, VT\, United States
CATEGORIES:Catholic,Central
END:VEVENT
END:VCALENDAR