BEGIN:VCALENDAR
VERSION:2.0
PRODID:-//VECNCC - ECPv6.15.11//NONSGML v1.0//EN
CALSCALE:GREGORIAN
METHOD:PUBLISH
X-ORIGINAL-URL:https://vecncc.org
X-WR-CALDESC:Events for VECNCC
REFRESH-INTERVAL;VALUE=DURATION:PT1H
X-Robots-Tag:noindex
X-PUBLISHED-TTL:PT1H
BEGIN:VTIMEZONE
TZID:America/New_York
BEGIN:DAYLIGHT
TZOFFSETFROM:-0500
TZOFFSETTO:-0400
TZNAME:EDT
DTSTART:20240310T070000
END:DAYLIGHT
BEGIN:STANDARD
TZOFFSETFROM:-0400
TZOFFSETTO:-0500
TZNAME:EST
DTSTART:20241103T060000
END:STANDARD
BEGIN:DAYLIGHT
TZOFFSETFROM:-0500
TZOFFSETTO:-0400
TZNAME:EDT
DTSTART:20250309T070000
END:DAYLIGHT
BEGIN:STANDARD
TZOFFSETFROM:-0400
TZOFFSETTO:-0500
TZNAME:EST
DTSTART:20251102T060000
END:STANDARD
BEGIN:DAYLIGHT
TZOFFSETFROM:-0500
TZOFFSETTO:-0400
TZNAME:EDT
DTSTART:20260308T070000
END:DAYLIGHT
BEGIN:STANDARD
TZOFFSETFROM:-0400
TZOFFSETTO:-0500
TZNAME:EST
DTSTART:20261101T060000
END:STANDARD
END:VTIMEZONE
BEGIN:VEVENT
DTSTART;TZID=America/New_York:20250306T130000
DTEND;TZID=America/New_York:20250306T140000
DTSTAMP:20260423T200453
CREATED:20250228T023316Z
LAST-MODIFIED:20250228T023316Z
UID:22145-1741266000-1741269600@vecncc.org
SUMMARY:Climate Action Assembly
DESCRIPTION:Every two months the UCC Council for Climate Justice hosts a Climate Action Assembly to discuss actions and programs related to recent General Synod resolutions. This assembly will focus on federal advocacy efforts and future planning as we approach the next General Synod in July. Climate Action Assemblies are open to all members of the UCC.
URL:https://vecncc.org/event/climate-action-assembly/
LOCATION:Zoom
CATEGORIES:Creation Justice,UCC
ATTACH;FMTTYPE=image/jpeg:https://vecncc.org/wp-content/uploads/2025/02/Climate-Action-Assembly-vbGrGZ.tmp_.jpg
END:VEVENT
END:VCALENDAR