BEGIN:VCALENDAR
VERSION:2.0
PRODID:-//VECNCC - ECPv6.15.11//NONSGML v1.0//EN
CALSCALE:GREGORIAN
METHOD:PUBLISH
X-ORIGINAL-URL:https://vecncc.org
X-WR-CALDESC:Events for VECNCC
REFRESH-INTERVAL;VALUE=DURATION:PT1H
X-Robots-Tag:noindex
X-PUBLISHED-TTL:PT1H
BEGIN:VTIMEZONE
TZID:America/New_York
BEGIN:DAYLIGHT
TZOFFSETFROM:-0500
TZOFFSETTO:-0400
TZNAME:EDT
DTSTART:20240310T070000
END:DAYLIGHT
BEGIN:STANDARD
TZOFFSETFROM:-0400
TZOFFSETTO:-0500
TZNAME:EST
DTSTART:20241103T060000
END:STANDARD
BEGIN:DAYLIGHT
TZOFFSETFROM:-0500
TZOFFSETTO:-0400
TZNAME:EDT
DTSTART:20250309T070000
END:DAYLIGHT
BEGIN:STANDARD
TZOFFSETFROM:-0400
TZOFFSETTO:-0500
TZNAME:EST
DTSTART:20251102T060000
END:STANDARD
BEGIN:DAYLIGHT
TZOFFSETFROM:-0500
TZOFFSETTO:-0400
TZNAME:EDT
DTSTART:20260308T070000
END:DAYLIGHT
BEGIN:STANDARD
TZOFFSETFROM:-0400
TZOFFSETTO:-0500
TZNAME:EST
DTSTART:20261101T060000
END:STANDARD
END:VTIMEZONE
BEGIN:VEVENT
DTSTART;TZID=America/New_York:20250802T080000
DTEND;TZID=America/New_York:20250802T083000
DTSTAMP:20260423T060250
CREATED:20250718T210215Z
LAST-MODIFIED:20250718T210215Z
UID:22965-1754121600-1754123400@vecncc.org
SUMMARY:Morning Prayer with Green Mountain Abbey
DESCRIPTION:The Green Mountain Online Abbey provides a daily offering of online prayer at 8:00 a.m. and 8:00 p.m. Monday through Saturday and 8:00 p.m. Sunday.\nPlease visit the Green Mountain Online Abbey page for more information including call-in instructions and bulletin downloads.
URL:https://vecncc.org/event/morning-prayer-with-green-mountain-abbey-176/
LOCATION:Online
CATEGORIES:Episcopal,Green Mountain Online Abbey
ATTACH;FMTTYPE=image/png:https://vecncc.org/wp-content/uploads/2025/01/Screen-Shot-2021-01-07-at-3.40.48-PM-orfXbY.tmp_.png
END:VEVENT
BEGIN:VEVENT
DTSTART;TZID=America/New_York:20250802T110000
DTEND;TZID=America/New_York:20250802T130000
DTSTAMP:20260423T060250
CREATED:20250725T210214Z
LAST-MODIFIED:20250725T210214Z
UID:23003-1754132400-1754139600@vecncc.org
SUMMARY:Funeral for the Ven. J. Stannard Baker
DESCRIPTION:The Ven. J. Stannard Baker\, archdeacon and chaplain to the retired\, died on June 24.\nA funeral service to celebrate his life and ministry will take place on Saturday\, August 2 at 11 a.m. at The Cathedral Church of St. Paul. The service will be livestreamed on the Cathedral’s YouTube Channel. Doors will open at 10 a.m. and the prelude will begin at 10:20. Overflow seating will be available at The First Unitarian Universalist Society of Burlington.\nThe service will be led by the Rt. Rev. Dr. Shannon MacVean-Brown as the principal celebrant; the Very Rev. Diane Nancekivell will be the presider at the Service of the Word; and the Rev. Canon Tanya R. Wallace\, Diocese of Western Massachusetts\, will preach.\nClergy are invited to vest and process (alb\, white stole) and pink accents are encouraged.\nThe family requests\, that in Stan’s memory\, attendees wear bright\, joyous colors. Pink if possible.\nA reception will follow the service.\nPlease note\, due to the limited availability of parking\, those who attend in person are highly encouraged to carpool and park either on the street or in the city garage across the street from the Cathedral. The first two hours are free. Parking in the Cathedral’s lot will be reserved.\nRead his obituary.
URL:https://vecncc.org/event/funeral-for-the-ven-j-stannard-baker/
LOCATION:Cathedral Church of St. Paul\, 2 Cherry St\, Burlington\, VT\, United States
CATEGORIES:Episcopal
END:VEVENT
BEGIN:VEVENT
DTSTART;TZID=America/New_York:20250802T200000
DTEND;TZID=America/New_York:20250802T203000
DTSTAMP:20260423T060250
CREATED:20250718T210216Z
LAST-MODIFIED:20250718T210216Z
UID:22966-1754164800-1754166600@vecncc.org
SUMMARY:Evening Prayer with Green Mountain Abbey
DESCRIPTION:The Green Mountain Online Abbey provides a daily offering of online prayer at 8:00 a.m. and 8:00 p.m. Monday through Saturday and 8:00 p.m. Sunday.\nPlease visit the Green Mountain Online Abbey page for more information including call-in instructions and bulletin downloads.
URL:https://vecncc.org/event/evening-prayer-with-green-mountain-abbey-206/
LOCATION:Online
CATEGORIES:Episcopal,Green Mountain Online Abbey
ATTACH;FMTTYPE=image/png:https://vecncc.org/wp-content/uploads/2025/01/Screen-Shot-2021-01-07-at-3.40.48-PM-orfXbY.tmp_.png
END:VEVENT
END:VCALENDAR