BEGIN:VCALENDAR
VERSION:2.0
PRODID:-//VECNCC - ECPv6.15.11//NONSGML v1.0//EN
CALSCALE:GREGORIAN
METHOD:PUBLISH
X-ORIGINAL-URL:https://vecncc.org
X-WR-CALDESC:Events for VECNCC
REFRESH-INTERVAL;VALUE=DURATION:PT1H
X-Robots-Tag:noindex
X-PUBLISHED-TTL:PT1H
BEGIN:VTIMEZONE
TZID:America/New_York
BEGIN:DAYLIGHT
TZOFFSETFROM:-0500
TZOFFSETTO:-0400
TZNAME:EDT
DTSTART:20240310T070000
END:DAYLIGHT
BEGIN:STANDARD
TZOFFSETFROM:-0400
TZOFFSETTO:-0500
TZNAME:EST
DTSTART:20241103T060000
END:STANDARD
BEGIN:DAYLIGHT
TZOFFSETFROM:-0500
TZOFFSETTO:-0400
TZNAME:EDT
DTSTART:20250309T070000
END:DAYLIGHT
BEGIN:STANDARD
TZOFFSETFROM:-0400
TZOFFSETTO:-0500
TZNAME:EST
DTSTART:20251102T060000
END:STANDARD
BEGIN:DAYLIGHT
TZOFFSETFROM:-0500
TZOFFSETTO:-0400
TZNAME:EDT
DTSTART:20260308T070000
END:DAYLIGHT
BEGIN:STANDARD
TZOFFSETFROM:-0400
TZOFFSETTO:-0500
TZNAME:EST
DTSTART:20261101T060000
END:STANDARD
END:VTIMEZONE
BEGIN:VEVENT
DTSTART;VALUE=DATE:20251001
DTEND;VALUE=DATE:20251002
DTSTAMP:20260423T041950
CREATED:20250919T210734Z
LAST-MODIFIED:20250919T210734Z
UID:23252-1759276800-1759363199@vecncc.org
SUMMARY:October DUT Distribution
DESCRIPTION:
URL:https://vecncc.org/event/october-dut-distribution/
CATEGORIES:Episcopal,Finance
END:VEVENT
BEGIN:VEVENT
DTSTART;TZID=America/New_York:20251001T080000
DTEND;TZID=America/New_York:20251001T083000
DTSTAMP:20260423T041950
CREATED:20250919T210734Z
LAST-MODIFIED:20250919T210734Z
UID:23253-1759305600-1759307400@vecncc.org
SUMMARY:Morning Prayer with Green Mountain Abbey
DESCRIPTION:The Green Mountain Online Abbey provides a daily offering of online prayer at 8:00 a.m. and 8:00 p.m. Monday through Saturday and 8:00 p.m. Sunday.\nPlease visit the Green Mountain Online Abbey page for more information including call-in instructions and bulletin downloads.
URL:https://vecncc.org/event/morning-prayer-with-green-mountain-abbey-227/
LOCATION:Online
CATEGORIES:Episcopal,Green Mountain Online Abbey
ATTACH;FMTTYPE=image/png:https://vecncc.org/wp-content/uploads/2025/01/Screen-Shot-2021-01-07-at-3.40.48-PM-orfXbY.tmp_.png
END:VEVENT
BEGIN:VEVENT
DTSTART;TZID=America/New_York:20251001T110000
DTEND;TZID=America/New_York:20251001T150000
DTSTAMP:20260423T041950
CREATED:20250919T210735Z
LAST-MODIFIED:20250919T210735Z
UID:23254-1759316400-1759330800@vecncc.org
SUMMARY:Clergy Meeting
DESCRIPTION:Canonically resident clergy will gather in person at St. John’s\, Randolph.
URL:https://vecncc.org/event/clergy-meeting/
LOCATION:St. John’s\, 2 Summer St\, Randolph\, VT\, United States
CATEGORIES:Episcopal
END:VEVENT
BEGIN:VEVENT
DTSTART;TZID=America/New_York:20251001T200000
DTEND;TZID=America/New_York:20251001T203000
DTSTAMP:20260423T041950
CREATED:20250919T210735Z
LAST-MODIFIED:20250919T210735Z
UID:23255-1759348800-1759350600@vecncc.org
SUMMARY:Evening Prayer with Green Mountain Abbey
DESCRIPTION:The Green Mountain Online Abbey provides a daily offering of online prayer at 8:00 a.m. and 8:00 p.m. Monday through Saturday and 8:00 p.m. Sunday.\nPlease visit the Green Mountain Online Abbey page for more information including call-in instructions and bulletin downloads.
URL:https://vecncc.org/event/evening-prayer-with-green-mountain-abbey-266/
LOCATION:Online
CATEGORIES:Episcopal,Green Mountain Online Abbey
ATTACH;FMTTYPE=image/png:https://vecncc.org/wp-content/uploads/2025/01/Screen-Shot-2021-01-07-at-3.40.48-PM-orfXbY.tmp_.png
END:VEVENT
END:VCALENDAR