BEGIN:VCALENDAR
VERSION:2.0
PRODID:-//VECNCC - ECPv6.15.11//NONSGML v1.0//EN
CALSCALE:GREGORIAN
METHOD:PUBLISH
X-WR-CALNAME:VECNCC
X-ORIGINAL-URL:https://vecncc.org
X-WR-CALDESC:Events for VECNCC
REFRESH-INTERVAL;VALUE=DURATION:PT1H
X-Robots-Tag:noindex
X-PUBLISHED-TTL:PT1H
BEGIN:VTIMEZONE
TZID:America/New_York
BEGIN:DAYLIGHT
TZOFFSETFROM:-0500
TZOFFSETTO:-0400
TZNAME:EDT
DTSTART:20250309T070000
END:DAYLIGHT
BEGIN:STANDARD
TZOFFSETFROM:-0400
TZOFFSETTO:-0500
TZNAME:EST
DTSTART:20251102T060000
END:STANDARD
BEGIN:DAYLIGHT
TZOFFSETFROM:-0500
TZOFFSETTO:-0400
TZNAME:EDT
DTSTART:20260308T070000
END:DAYLIGHT
BEGIN:STANDARD
TZOFFSETFROM:-0400
TZOFFSETTO:-0500
TZNAME:EST
DTSTART:20261101T060000
END:STANDARD
BEGIN:DAYLIGHT
TZOFFSETFROM:-0500
TZOFFSETTO:-0400
TZNAME:EDT
DTSTART:20270314T070000
END:DAYLIGHT
BEGIN:STANDARD
TZOFFSETFROM:-0400
TZOFFSETTO:-0500
TZNAME:EST
DTSTART:20271107T060000
END:STANDARD
END:VTIMEZONE
BEGIN:VEVENT
DTSTART;TZID=America/New_York:20260118T200000
DTEND;TZID=America/New_York:20260118T203000
DTSTAMP:20260425T062426
CREATED:20260109T224952Z
LAST-MODIFIED:20260109T224952Z
UID:23826-1768766400-1768768200@vecncc.org
SUMMARY:Evening Prayer with Green Mountain Abbey
DESCRIPTION:The Green Mountain Online Abbey provides a daily offering of online prayer at 8:00 a.m. and 8:00 p.m. Monday through Saturday and 8:00 p.m. Sunday.\nPlease visit the Green Mountain Online Abbey page for more information including call-in instructions and bulletin downloads.
URL:https://vecncc.org/event/evening-prayer-with-green-mountain-abbey-375/
LOCATION:Online
CATEGORIES:Episcopal,Green Mountain Online Abbey
ATTACH;FMTTYPE=image/png:https://vecncc.org/wp-content/uploads/2025/01/Screen-Shot-2021-01-07-at-3.40.48-PM-orfXbY.tmp_.png
END:VEVENT
BEGIN:VEVENT
DTSTART;VALUE=DATE:20260119
DTEND;VALUE=DATE:20260120
DTSTAMP:20260425T062426
CREATED:20260109T224952Z
LAST-MODIFIED:20260109T224952Z
UID:23827-1768780800-1768867199@vecncc.org
SUMMARY:Diocesan Office Closed: Martin Luther King Jr. Day
DESCRIPTION:
URL:https://vecncc.org/event/diocesan-office-closed-martin-luther-king-jr-day/
CATEGORIES:Episcopal
END:VEVENT
BEGIN:VEVENT
DTSTART;TZID=America/New_York:20260119T080000
DTEND;TZID=America/New_York:20260119T083000
DTSTAMP:20260425T062426
CREATED:20260109T224953Z
LAST-MODIFIED:20260109T224953Z
UID:23828-1768809600-1768811400@vecncc.org
SUMMARY:Morning Prayer with Green Mountain Abbey
DESCRIPTION:The Green Mountain Online Abbey provides a daily offering of online prayer at 8:00 a.m. and 8:00 p.m. Monday through Saturday and 8:00 p.m. Sunday.\nPlease visit the Green Mountain Online Abbey page for more information including call-in instructions and bulletin downloads.
URL:https://vecncc.org/event/morning-prayer-with-green-mountain-abbey-321/
LOCATION:Online
CATEGORIES:Episcopal,Green Mountain Online Abbey
ATTACH;FMTTYPE=image/png:https://vecncc.org/wp-content/uploads/2025/01/Screen-Shot-2021-01-07-at-3.40.48-PM-orfXbY.tmp_.png
END:VEVENT
BEGIN:VEVENT
DTSTART;TZID=America/New_York:20260119T200000
DTEND;TZID=America/New_York:20260119T203000
DTSTAMP:20260425T062426
CREATED:20260109T224953Z
LAST-MODIFIED:20260109T224953Z
UID:23829-1768852800-1768854600@vecncc.org
SUMMARY:Evening Prayer with Green Mountain Abbey
DESCRIPTION:The Green Mountain Online Abbey provides a daily offering of online prayer at 8:00 a.m. and 8:00 p.m. Monday through Saturday and 8:00 p.m. Sunday.\nPlease visit the Green Mountain Online Abbey page for more information including call-in instructions and bulletin downloads.
URL:https://vecncc.org/event/evening-prayer-with-green-mountain-abbey-376/
LOCATION:Online
CATEGORIES:Episcopal,Green Mountain Online Abbey
ATTACH;FMTTYPE=image/png:https://vecncc.org/wp-content/uploads/2025/01/Screen-Shot-2021-01-07-at-3.40.48-PM-orfXbY.tmp_.png
END:VEVENT
BEGIN:VEVENT
DTSTART;TZID=America/New_York:20260120T080000
DTEND;TZID=America/New_York:20260120T083000
DTSTAMP:20260425T062426
CREATED:20260109T224954Z
LAST-MODIFIED:20260109T224954Z
UID:23830-1768896000-1768897800@vecncc.org
SUMMARY:Morning Prayer with Green Mountain Abbey
DESCRIPTION:The Green Mountain Online Abbey provides a daily offering of online prayer at 8:00 a.m. and 8:00 p.m. Monday through Saturday and 8:00 p.m. Sunday.\nPlease visit the Green Mountain Online Abbey page for more information including call-in instructions and bulletin downloads.
URL:https://vecncc.org/event/morning-prayer-with-green-mountain-abbey-322/
LOCATION:Online
CATEGORIES:Episcopal,Green Mountain Online Abbey
ATTACH;FMTTYPE=image/png:https://vecncc.org/wp-content/uploads/2025/01/Screen-Shot-2021-01-07-at-3.40.48-PM-orfXbY.tmp_.png
END:VEVENT
BEGIN:VEVENT
DTSTART;TZID=America/New_York:20260120T200000
DTEND;TZID=America/New_York:20260120T203000
DTSTAMP:20260425T062426
CREATED:20260109T224954Z
LAST-MODIFIED:20260109T224954Z
UID:23831-1768939200-1768941000@vecncc.org
SUMMARY:Evening Prayer with Green Mountain Abbey
DESCRIPTION:The Green Mountain Online Abbey provides a daily offering of online prayer at 8:00 a.m. and 8:00 p.m. Monday through Saturday and 8:00 p.m. Sunday.\nPlease visit the Green Mountain Online Abbey page for more information including call-in instructions and bulletin downloads.
URL:https://vecncc.org/event/evening-prayer-with-green-mountain-abbey-377/
LOCATION:Online
CATEGORIES:Episcopal,Green Mountain Online Abbey
ATTACH;FMTTYPE=image/png:https://vecncc.org/wp-content/uploads/2025/01/Screen-Shot-2021-01-07-at-3.40.48-PM-orfXbY.tmp_.png
END:VEVENT
BEGIN:VEVENT
DTSTART;TZID=America/New_York:20260121T080000
DTEND;TZID=America/New_York:20260121T083000
DTSTAMP:20260425T062426
CREATED:20260109T224955Z
LAST-MODIFIED:20260109T224955Z
UID:23832-1768982400-1768984200@vecncc.org
SUMMARY:Morning Prayer with Green Mountain Abbey
DESCRIPTION:The Green Mountain Online Abbey provides a daily offering of online prayer at 8:00 a.m. and 8:00 p.m. Monday through Saturday and 8:00 p.m. Sunday.\nPlease visit the Green Mountain Online Abbey page for more information including call-in instructions and bulletin downloads.
URL:https://vecncc.org/event/morning-prayer-with-green-mountain-abbey-323/
LOCATION:Online
CATEGORIES:Episcopal,Green Mountain Online Abbey
ATTACH;FMTTYPE=image/png:https://vecncc.org/wp-content/uploads/2025/01/Screen-Shot-2021-01-07-at-3.40.48-PM-orfXbY.tmp_.png
END:VEVENT
BEGIN:VEVENT
DTSTART;TZID=America/New_York:20260121T200000
DTEND;TZID=America/New_York:20260121T203000
DTSTAMP:20260425T062426
CREATED:20260109T224956Z
LAST-MODIFIED:20260109T224956Z
UID:23833-1769025600-1769027400@vecncc.org
SUMMARY:Evening Prayer with Green Mountain Abbey
DESCRIPTION:The Green Mountain Online Abbey provides a daily offering of online prayer at 8:00 a.m. and 8:00 p.m. Monday through Saturday and 8:00 p.m. Sunday.\nPlease visit the Green Mountain Online Abbey page for more information including call-in instructions and bulletin downloads.
URL:https://vecncc.org/event/evening-prayer-with-green-mountain-abbey-378/
LOCATION:Online
CATEGORIES:Episcopal,Green Mountain Online Abbey
ATTACH;FMTTYPE=image/png:https://vecncc.org/wp-content/uploads/2025/01/Screen-Shot-2021-01-07-at-3.40.48-PM-orfXbY.tmp_.png
END:VEVENT
BEGIN:VEVENT
DTSTART;TZID=America/New_York:20260122T080000
DTEND;TZID=America/New_York:20260122T083000
DTSTAMP:20260425T062426
CREATED:20260109T224956Z
LAST-MODIFIED:20260109T224956Z
UID:23834-1769068800-1769070600@vecncc.org
SUMMARY:Morning Prayer with Green Mountain Abbey
DESCRIPTION:The Green Mountain Online Abbey provides a daily offering of online prayer at 8:00 a.m. and 8:00 p.m. Monday through Saturday and 8:00 p.m. Sunday.\nPlease visit the Green Mountain Online Abbey page for more information including call-in instructions and bulletin downloads.
URL:https://vecncc.org/event/morning-prayer-with-green-mountain-abbey-324/
LOCATION:Online
CATEGORIES:Episcopal,Green Mountain Online Abbey
ATTACH;FMTTYPE=image/png:https://vecncc.org/wp-content/uploads/2025/01/Screen-Shot-2021-01-07-at-3.40.48-PM-orfXbY.tmp_.png
END:VEVENT
BEGIN:VEVENT
DTSTART;TZID=America/New_York:20260122T200000
DTEND;TZID=America/New_York:20260122T203000
DTSTAMP:20260425T062426
CREATED:20260109T224957Z
LAST-MODIFIED:20260109T224957Z
UID:23835-1769112000-1769113800@vecncc.org
SUMMARY:Evening Prayer with Green Mountain Abbey
DESCRIPTION:The Green Mountain Online Abbey provides a daily offering of online prayer at 8:00 a.m. and 8:00 p.m. Monday through Saturday and 8:00 p.m. Sunday.\nPlease visit the Green Mountain Online Abbey page for more information including call-in instructions and bulletin downloads.
URL:https://vecncc.org/event/evening-prayer-with-green-mountain-abbey-379/
LOCATION:Online
CATEGORIES:Episcopal,Green Mountain Online Abbey
ATTACH;FMTTYPE=image/png:https://vecncc.org/wp-content/uploads/2025/01/Screen-Shot-2021-01-07-at-3.40.48-PM-orfXbY.tmp_.png
END:VEVENT
BEGIN:VEVENT
DTSTART;TZID=America/New_York:20260123T080000
DTEND;TZID=America/New_York:20260123T083000
DTSTAMP:20260425T062426
CREATED:20260109T224957Z
LAST-MODIFIED:20260109T224957Z
UID:23836-1769155200-1769157000@vecncc.org
SUMMARY:Morning Prayer with Green Mountain Abbey
DESCRIPTION:The Green Mountain Online Abbey provides a daily offering of online prayer at 8:00 a.m. and 8:00 p.m. Monday through Saturday and 8:00 p.m. Sunday.\nPlease visit the Green Mountain Online Abbey page for more information including call-in instructions and bulletin downloads.
URL:https://vecncc.org/event/morning-prayer-with-green-mountain-abbey-325/
LOCATION:Online
CATEGORIES:Episcopal,Green Mountain Online Abbey
ATTACH;FMTTYPE=image/png:https://vecncc.org/wp-content/uploads/2025/01/Screen-Shot-2021-01-07-at-3.40.48-PM-orfXbY.tmp_.png
END:VEVENT
BEGIN:VEVENT
DTSTART;TZID=America/New_York:20260123T200000
DTEND;TZID=America/New_York:20260123T203000
DTSTAMP:20260425T062426
CREATED:20260109T224958Z
LAST-MODIFIED:20260109T224958Z
UID:23837-1769198400-1769200200@vecncc.org
SUMMARY:Evening Prayer with Green Mountain Abbey
DESCRIPTION:The Green Mountain Online Abbey provides a daily offering of online prayer at 8:00 a.m. and 8:00 p.m. Monday through Saturday and 8:00 p.m. Sunday.\nPlease visit the Green Mountain Online Abbey page for more information including call-in instructions and bulletin downloads.
URL:https://vecncc.org/event/evening-prayer-with-green-mountain-abbey-380/
LOCATION:Online
CATEGORIES:Episcopal,Green Mountain Online Abbey
ATTACH;FMTTYPE=image/png:https://vecncc.org/wp-content/uploads/2025/01/Screen-Shot-2021-01-07-at-3.40.48-PM-orfXbY.tmp_.png
END:VEVENT
BEGIN:VEVENT
DTSTART;TZID=America/New_York:20260124T080000
DTEND;TZID=America/New_York:20260124T083000
DTSTAMP:20260425T062426
CREATED:20260109T224958Z
LAST-MODIFIED:20260109T224958Z
UID:23838-1769241600-1769243400@vecncc.org
SUMMARY:Morning Prayer with Green Mountain Abbey
DESCRIPTION:The Green Mountain Online Abbey provides a daily offering of online prayer at 8:00 a.m. and 8:00 p.m. Monday through Saturday and 8:00 p.m. Sunday.\nPlease visit the Green Mountain Online Abbey page for more information including call-in instructions and bulletin downloads.
URL:https://vecncc.org/event/morning-prayer-with-green-mountain-abbey-326/
LOCATION:Online
CATEGORIES:Episcopal,Green Mountain Online Abbey
ATTACH;FMTTYPE=image/png:https://vecncc.org/wp-content/uploads/2025/01/Screen-Shot-2021-01-07-at-3.40.48-PM-orfXbY.tmp_.png
END:VEVENT
BEGIN:VEVENT
DTSTART;TZID=America/New_York:20260124T200000
DTEND;TZID=America/New_York:20260124T203000
DTSTAMP:20260425T062426
CREATED:20260109T224959Z
LAST-MODIFIED:20260109T224959Z
UID:23839-1769284800-1769286600@vecncc.org
SUMMARY:Evening Prayer with Green Mountain Abbey
DESCRIPTION:The Green Mountain Online Abbey provides a daily offering of online prayer at 8:00 a.m. and 8:00 p.m. Monday through Saturday and 8:00 p.m. Sunday.\nPlease visit the Green Mountain Online Abbey page for more information including call-in instructions and bulletin downloads.
URL:https://vecncc.org/event/evening-prayer-with-green-mountain-abbey-381/
LOCATION:Online
CATEGORIES:Episcopal,Green Mountain Online Abbey
ATTACH;FMTTYPE=image/png:https://vecncc.org/wp-content/uploads/2025/01/Screen-Shot-2021-01-07-at-3.40.48-PM-orfXbY.tmp_.png
END:VEVENT
END:VCALENDAR