BEGIN:VCALENDAR
VERSION:2.0
PRODID:-//VECNCC - ECPv6.15.11//NONSGML v1.0//EN
CALSCALE:GREGORIAN
METHOD:PUBLISH
X-WR-CALNAME:VECNCC
X-ORIGINAL-URL:https://vecncc.org
X-WR-CALDESC:Events for VECNCC
REFRESH-INTERVAL;VALUE=DURATION:PT1H
X-Robots-Tag:noindex
X-PUBLISHED-TTL:PT1H
BEGIN:VTIMEZONE
TZID:America/New_York
BEGIN:DAYLIGHT
TZOFFSETFROM:-0500
TZOFFSETTO:-0400
TZNAME:EDT
DTSTART:20240310T070000
END:DAYLIGHT
BEGIN:STANDARD
TZOFFSETFROM:-0400
TZOFFSETTO:-0500
TZNAME:EST
DTSTART:20241103T060000
END:STANDARD
BEGIN:DAYLIGHT
TZOFFSETFROM:-0500
TZOFFSETTO:-0400
TZNAME:EDT
DTSTART:20250309T070000
END:DAYLIGHT
BEGIN:STANDARD
TZOFFSETFROM:-0400
TZOFFSETTO:-0500
TZNAME:EST
DTSTART:20251102T060000
END:STANDARD
BEGIN:DAYLIGHT
TZOFFSETFROM:-0500
TZOFFSETTO:-0400
TZNAME:EDT
DTSTART:20260308T070000
END:DAYLIGHT
BEGIN:STANDARD
TZOFFSETFROM:-0400
TZOFFSETTO:-0500
TZNAME:EST
DTSTART:20261101T060000
END:STANDARD
END:VTIMEZONE
BEGIN:VEVENT
DTSTART;TZID=America/New_York:20250528T080000
DTEND;TZID=America/New_York:20250528T083000
DTSTAMP:20260423T171029
CREATED:20250516T210240Z
LAST-MODIFIED:20250516T210240Z
UID:22599-1748419200-1748421000@vecncc.org
SUMMARY:Morning Prayer with Green Mountain Abbey
DESCRIPTION:The Green Mountain Online Abbey provides a daily offering of online prayer at 8:00 a.m. and 8:00 p.m. Monday through Saturday and 8:00 p.m. Sunday.\nPlease visit the Green Mountain Online Abbey page for more information including call-in instructions and bulletin downloads.
URL:https://vecncc.org/event/morning-prayer-with-green-mountain-abbey-119/
LOCATION:Online
CATEGORIES:Episcopal,Green Mountain Online Abbey
ATTACH;FMTTYPE=image/png:https://vecncc.org/wp-content/uploads/2025/01/Screen-Shot-2021-01-07-at-3.40.48-PM-orfXbY.tmp_.png
END:VEVENT
BEGIN:VEVENT
DTSTART;TZID=America/New_York:20250528T200000
DTEND;TZID=America/New_York:20250528T203000
DTSTAMP:20260423T171029
CREATED:20250516T210240Z
LAST-MODIFIED:20250516T210240Z
UID:22600-1748462400-1748464200@vecncc.org
SUMMARY:Evening Prayer with Green Mountain Abbey
DESCRIPTION:The Green Mountain Online Abbey provides a daily offering of online prayer at 8:00 a.m. and 8:00 p.m. Monday through Saturday and 8:00 p.m. Sunday.\nPlease visit the Green Mountain Online Abbey page for more information including call-in instructions and bulletin downloads.
URL:https://vecncc.org/event/evening-prayer-with-green-mountain-abbey-140/
LOCATION:Online
CATEGORIES:Episcopal,Green Mountain Online Abbey
ATTACH;FMTTYPE=image/png:https://vecncc.org/wp-content/uploads/2025/01/Screen-Shot-2021-01-07-at-3.40.48-PM-orfXbY.tmp_.png
END:VEVENT
BEGIN:VEVENT
DTSTART;TZID=America/New_York:20250529T080000
DTEND;TZID=America/New_York:20250529T083000
DTSTAMP:20260423T171029
CREATED:20250516T210241Z
LAST-MODIFIED:20250516T210241Z
UID:22601-1748505600-1748507400@vecncc.org
SUMMARY:Morning Prayer with Green Mountain Abbey
DESCRIPTION:The Green Mountain Online Abbey provides a daily offering of online prayer at 8:00 a.m. and 8:00 p.m. Monday through Saturday and 8:00 p.m. Sunday.\nPlease visit the Green Mountain Online Abbey page for more information including call-in instructions and bulletin downloads.
URL:https://vecncc.org/event/morning-prayer-with-green-mountain-abbey-120/
LOCATION:Online
CATEGORIES:Episcopal,Green Mountain Online Abbey
ATTACH;FMTTYPE=image/png:https://vecncc.org/wp-content/uploads/2025/01/Screen-Shot-2021-01-07-at-3.40.48-PM-orfXbY.tmp_.png
END:VEVENT
BEGIN:VEVENT
DTSTART;TZID=America/New_York:20250529T200000
DTEND;TZID=America/New_York:20250529T203000
DTSTAMP:20260423T171029
CREATED:20250516T210241Z
LAST-MODIFIED:20250516T210241Z
UID:22602-1748548800-1748550600@vecncc.org
SUMMARY:Evening Prayer with Green Mountain Abbey
DESCRIPTION:The Green Mountain Online Abbey provides a daily offering of online prayer at 8:00 a.m. and 8:00 p.m. Monday through Saturday and 8:00 p.m. Sunday.\nPlease visit the Green Mountain Online Abbey page for more information including call-in instructions and bulletin downloads.
URL:https://vecncc.org/event/evening-prayer-with-green-mountain-abbey-141/
LOCATION:Online
CATEGORIES:Episcopal,Green Mountain Online Abbey
ATTACH;FMTTYPE=image/png:https://vecncc.org/wp-content/uploads/2025/01/Screen-Shot-2021-01-07-at-3.40.48-PM-orfXbY.tmp_.png
END:VEVENT
BEGIN:VEVENT
DTSTART;TZID=America/New_York:20250530T080000
DTEND;TZID=America/New_York:20250530T083000
DTSTAMP:20260423T171029
CREATED:20250516T210242Z
LAST-MODIFIED:20250516T210242Z
UID:22603-1748592000-1748593800@vecncc.org
SUMMARY:Morning Prayer with Green Mountain Abbey
DESCRIPTION:The Green Mountain Online Abbey provides a daily offering of online prayer at 8:00 a.m. and 8:00 p.m. Monday through Saturday and 8:00 p.m. Sunday.\nPlease visit the Green Mountain Online Abbey page for more information including call-in instructions and bulletin downloads.
URL:https://vecncc.org/event/morning-prayer-with-green-mountain-abbey-121/
LOCATION:Online
CATEGORIES:Episcopal,Green Mountain Online Abbey
ATTACH;FMTTYPE=image/png:https://vecncc.org/wp-content/uploads/2025/01/Screen-Shot-2021-01-07-at-3.40.48-PM-orfXbY.tmp_.png
END:VEVENT
BEGIN:VEVENT
DTSTART;TZID=America/New_York:20250530T200000
DTEND;TZID=America/New_York:20250530T203000
DTSTAMP:20260423T171029
CREATED:20250516T210242Z
LAST-MODIFIED:20250516T210242Z
UID:22604-1748635200-1748637000@vecncc.org
SUMMARY:Evening Prayer with Green Mountain Abbey
DESCRIPTION:The Green Mountain Online Abbey provides a daily offering of online prayer at 8:00 a.m. and 8:00 p.m. Monday through Saturday and 8:00 p.m. Sunday.\nPlease visit the Green Mountain Online Abbey page for more information including call-in instructions and bulletin downloads.
URL:https://vecncc.org/event/evening-prayer-with-green-mountain-abbey-142/
LOCATION:Online
CATEGORIES:Episcopal,Green Mountain Online Abbey
ATTACH;FMTTYPE=image/png:https://vecncc.org/wp-content/uploads/2025/01/Screen-Shot-2021-01-07-at-3.40.48-PM-orfXbY.tmp_.png
END:VEVENT
BEGIN:VEVENT
DTSTART;TZID=America/New_York:20250531T080000
DTEND;TZID=America/New_York:20250531T083000
DTSTAMP:20260423T171029
CREATED:20250516T210242Z
LAST-MODIFIED:20250516T210242Z
UID:22605-1748678400-1748680200@vecncc.org
SUMMARY:Morning Prayer with Green Mountain Abbey
DESCRIPTION:The Green Mountain Online Abbey provides a daily offering of online prayer at 8:00 a.m. and 8:00 p.m. Monday through Saturday and 8:00 p.m. Sunday.\nPlease visit the Green Mountain Online Abbey page for more information including call-in instructions and bulletin downloads.
URL:https://vecncc.org/event/morning-prayer-with-green-mountain-abbey-122/
LOCATION:Online
CATEGORIES:Episcopal,Green Mountain Online Abbey
ATTACH;FMTTYPE=image/png:https://vecncc.org/wp-content/uploads/2025/01/Screen-Shot-2021-01-07-at-3.40.48-PM-orfXbY.tmp_.png
END:VEVENT
BEGIN:VEVENT
DTSTART;TZID=America/New_York:20250531T200000
DTEND;TZID=America/New_York:20250531T203000
DTSTAMP:20260423T171029
CREATED:20250523T210210Z
LAST-MODIFIED:20250523T210210Z
UID:22622-1748721600-1748723400@vecncc.org
SUMMARY:Evening Prayer with Green Mountain Abbey
DESCRIPTION:The Green Mountain Online Abbey provides a daily offering of online prayer at 8:00 a.m. and 8:00 p.m. Monday through Saturday and 8:00 p.m. Sunday.\nPlease visit the Green Mountain Online Abbey page for more information including call-in instructions and bulletin downloads.
URL:https://vecncc.org/event/evening-prayer-with-green-mountain-abbey-143/
LOCATION:Online
CATEGORIES:Episcopal,Green Mountain Online Abbey
ATTACH;FMTTYPE=image/png:https://vecncc.org/wp-content/uploads/2025/01/Screen-Shot-2021-01-07-at-3.40.48-PM-orfXbY.tmp_.png
END:VEVENT
BEGIN:VEVENT
DTSTART;TZID=America/New_York:20250601T200000
DTEND;TZID=America/New_York:20250601T203000
DTSTAMP:20260423T171029
CREATED:20250523T210211Z
LAST-MODIFIED:20250523T210211Z
UID:22623-1748808000-1748809800@vecncc.org
SUMMARY:Evening Prayer with Green Mountain Abbey
DESCRIPTION:The Green Mountain Online Abbey provides a daily offering of online prayer at 8:00 a.m. and 8:00 p.m. Monday through Saturday and 8:00 p.m. Sunday.\nPlease visit the Green Mountain Online Abbey page for more information including call-in instructions and bulletin downloads.
URL:https://vecncc.org/event/evening-prayer-with-green-mountain-abbey-144/
LOCATION:Online
CATEGORIES:Episcopal,Green Mountain Online Abbey
ATTACH;FMTTYPE=image/png:https://vecncc.org/wp-content/uploads/2025/01/Screen-Shot-2021-01-07-at-3.40.48-PM-orfXbY.tmp_.png
END:VEVENT
BEGIN:VEVENT
DTSTART;TZID=America/New_York:20250602T080000
DTEND;TZID=America/New_York:20250602T083000
DTSTAMP:20260423T171029
CREATED:20250523T210211Z
LAST-MODIFIED:20250523T210211Z
UID:22624-1748851200-1748853000@vecncc.org
SUMMARY:Morning Prayer with Green Mountain Abbey
DESCRIPTION:The Green Mountain Online Abbey provides a daily offering of online prayer at 8:00 a.m. and 8:00 p.m. Monday through Saturday and 8:00 p.m. Sunday.\nPlease visit the Green Mountain Online Abbey page for more information including call-in instructions and bulletin downloads.
URL:https://vecncc.org/event/morning-prayer-with-green-mountain-abbey-123/
LOCATION:Online
CATEGORIES:Episcopal,Green Mountain Online Abbey
ATTACH;FMTTYPE=image/png:https://vecncc.org/wp-content/uploads/2025/01/Screen-Shot-2021-01-07-at-3.40.48-PM-orfXbY.tmp_.png
END:VEVENT
BEGIN:VEVENT
DTSTART;TZID=America/New_York:20250602T200000
DTEND;TZID=America/New_York:20250602T203000
DTSTAMP:20260423T171029
CREATED:20250523T210212Z
LAST-MODIFIED:20250523T210212Z
UID:22625-1748894400-1748896200@vecncc.org
SUMMARY:Evening Prayer with Green Mountain Abbey
DESCRIPTION:The Green Mountain Online Abbey provides a daily offering of online prayer at 8:00 a.m. and 8:00 p.m. Monday through Saturday and 8:00 p.m. Sunday.\nPlease visit the Green Mountain Online Abbey page for more information including call-in instructions and bulletin downloads.
URL:https://vecncc.org/event/evening-prayer-with-green-mountain-abbey-145/
LOCATION:Online
CATEGORIES:Episcopal,Green Mountain Online Abbey
ATTACH;FMTTYPE=image/png:https://vecncc.org/wp-content/uploads/2025/01/Screen-Shot-2021-01-07-at-3.40.48-PM-orfXbY.tmp_.png
END:VEVENT
BEGIN:VEVENT
DTSTART;TZID=America/New_York:20250603T080000
DTEND;TZID=America/New_York:20250603T083000
DTSTAMP:20260423T171029
CREATED:20250523T210212Z
LAST-MODIFIED:20250523T210212Z
UID:22626-1748937600-1748939400@vecncc.org
SUMMARY:Morning Prayer with Green Mountain Abbey
DESCRIPTION:The Green Mountain Online Abbey provides a daily offering of online prayer at 8:00 a.m. and 8:00 p.m. Monday through Saturday and 8:00 p.m. Sunday.\nPlease visit the Green Mountain Online Abbey page for more information including call-in instructions and bulletin downloads.
URL:https://vecncc.org/event/morning-prayer-with-green-mountain-abbey-124/
LOCATION:Online
CATEGORIES:Episcopal,Green Mountain Online Abbey
ATTACH;FMTTYPE=image/png:https://vecncc.org/wp-content/uploads/2025/01/Screen-Shot-2021-01-07-at-3.40.48-PM-orfXbY.tmp_.png
END:VEVENT
BEGIN:VEVENT
DTSTART;TZID=America/New_York:20250603T170000
DTEND;TZID=America/New_York:20250603T190000
DTSTAMP:20260423T171029
CREATED:20250530T210229Z
LAST-MODIFIED:20250530T210229Z
UID:22658-1748970000-1748977200@vecncc.org
SUMMARY:Standing Committee Meeting
DESCRIPTION:
URL:https://vecncc.org/event/standing-committee-meeting/
LOCATION:Online
CATEGORIES:Episcopal,Governance
END:VEVENT
BEGIN:VEVENT
DTSTART;TZID=America/New_York:20250603T200000
DTEND;TZID=America/New_York:20250603T203000
DTSTAMP:20260423T171029
CREATED:20250523T210213Z
LAST-MODIFIED:20250523T210213Z
UID:22627-1748980800-1748982600@vecncc.org
SUMMARY:Evening Prayer with Green Mountain Abbey
DESCRIPTION:The Green Mountain Online Abbey provides a daily offering of online prayer at 8:00 a.m. and 8:00 p.m. Monday through Saturday and 8:00 p.m. Sunday.\nPlease visit the Green Mountain Online Abbey page for more information including call-in instructions and bulletin downloads.
URL:https://vecncc.org/event/evening-prayer-with-green-mountain-abbey-146/
LOCATION:Online
CATEGORIES:Episcopal,Green Mountain Online Abbey
ATTACH;FMTTYPE=image/png:https://vecncc.org/wp-content/uploads/2025/01/Screen-Shot-2021-01-07-at-3.40.48-PM-orfXbY.tmp_.png
END:VEVENT
BEGIN:VEVENT
DTSTART;TZID=America/New_York:20250604T080000
DTEND;TZID=America/New_York:20250604T083000
DTSTAMP:20260423T171029
CREATED:20250523T210213Z
LAST-MODIFIED:20250523T210213Z
UID:22628-1749024000-1749025800@vecncc.org
SUMMARY:Morning Prayer with Green Mountain Abbey
DESCRIPTION:The Green Mountain Online Abbey provides a daily offering of online prayer at 8:00 a.m. and 8:00 p.m. Monday through Saturday and 8:00 p.m. Sunday.\nPlease visit the Green Mountain Online Abbey page for more information including call-in instructions and bulletin downloads.
URL:https://vecncc.org/event/morning-prayer-with-green-mountain-abbey-125/
LOCATION:Online
CATEGORIES:Episcopal,Green Mountain Online Abbey
ATTACH;FMTTYPE=image/png:https://vecncc.org/wp-content/uploads/2025/01/Screen-Shot-2021-01-07-at-3.40.48-PM-orfXbY.tmp_.png
END:VEVENT
BEGIN:VEVENT
DTSTART;TZID=America/New_York:20250604T200000
DTEND;TZID=America/New_York:20250604T203000
DTSTAMP:20260423T171029
CREATED:20250523T210214Z
LAST-MODIFIED:20250523T210214Z
UID:22629-1749067200-1749069000@vecncc.org
SUMMARY:Evening Prayer with Green Mountain Abbey
DESCRIPTION:The Green Mountain Online Abbey provides a daily offering of online prayer at 8:00 a.m. and 8:00 p.m. Monday through Saturday and 8:00 p.m. Sunday.\nPlease visit the Green Mountain Online Abbey page for more information including call-in instructions and bulletin downloads.
URL:https://vecncc.org/event/evening-prayer-with-green-mountain-abbey-147/
LOCATION:Online
CATEGORIES:Episcopal,Green Mountain Online Abbey
ATTACH;FMTTYPE=image/png:https://vecncc.org/wp-content/uploads/2025/01/Screen-Shot-2021-01-07-at-3.40.48-PM-orfXbY.tmp_.png
END:VEVENT
BEGIN:VEVENT
DTSTART;TZID=America/New_York:20250605T080000
DTEND;TZID=America/New_York:20250605T083000
DTSTAMP:20260423T171029
CREATED:20250523T210215Z
LAST-MODIFIED:20250523T210215Z
UID:22630-1749110400-1749112200@vecncc.org
SUMMARY:Morning Prayer with Green Mountain Abbey
DESCRIPTION:The Green Mountain Online Abbey provides a daily offering of online prayer at 8:00 a.m. and 8:00 p.m. Monday through Saturday and 8:00 p.m. Sunday.\nPlease visit the Green Mountain Online Abbey page for more information including call-in instructions and bulletin downloads.
URL:https://vecncc.org/event/morning-prayer-with-green-mountain-abbey-126/
LOCATION:Online
CATEGORIES:Episcopal,Green Mountain Online Abbey
ATTACH;FMTTYPE=image/png:https://vecncc.org/wp-content/uploads/2025/01/Screen-Shot-2021-01-07-at-3.40.48-PM-orfXbY.tmp_.png
END:VEVENT
BEGIN:VEVENT
DTSTART;TZID=America/New_York:20250605T200000
DTEND;TZID=America/New_York:20250605T203000
DTSTAMP:20260423T171029
CREATED:20250523T210215Z
LAST-MODIFIED:20250523T210215Z
UID:22631-1749153600-1749155400@vecncc.org
SUMMARY:Evening Prayer with Green Mountain Abbey
DESCRIPTION:The Green Mountain Online Abbey provides a daily offering of online prayer at 8:00 a.m. and 8:00 p.m. Monday through Saturday and 8:00 p.m. Sunday.\nPlease visit the Green Mountain Online Abbey page for more information including call-in instructions and bulletin downloads.
URL:https://vecncc.org/event/evening-prayer-with-green-mountain-abbey-148/
LOCATION:Online
CATEGORIES:Episcopal,Green Mountain Online Abbey
ATTACH;FMTTYPE=image/png:https://vecncc.org/wp-content/uploads/2025/01/Screen-Shot-2021-01-07-at-3.40.48-PM-orfXbY.tmp_.png
END:VEVENT
BEGIN:VEVENT
DTSTART;TZID=America/New_York:20250606T080000
DTEND;TZID=America/New_York:20250606T083000
DTSTAMP:20260423T171029
CREATED:20250523T210216Z
LAST-MODIFIED:20250523T210216Z
UID:22632-1749196800-1749198600@vecncc.org
SUMMARY:Morning Prayer with Green Mountain Abbey
DESCRIPTION:The Green Mountain Online Abbey provides a daily offering of online prayer at 8:00 a.m. and 8:00 p.m. Monday through Saturday and 8:00 p.m. Sunday.\nPlease visit the Green Mountain Online Abbey page for more information including call-in instructions and bulletin downloads.
URL:https://vecncc.org/event/morning-prayer-with-green-mountain-abbey-127/
LOCATION:Online
CATEGORIES:Episcopal,Green Mountain Online Abbey
ATTACH;FMTTYPE=image/png:https://vecncc.org/wp-content/uploads/2025/01/Screen-Shot-2021-01-07-at-3.40.48-PM-orfXbY.tmp_.png
END:VEVENT
BEGIN:VEVENT
DTSTART;TZID=America/New_York:20250606T200000
DTEND;TZID=America/New_York:20250606T203000
DTSTAMP:20260423T171029
CREATED:20250523T210216Z
LAST-MODIFIED:20250523T210216Z
UID:22633-1749240000-1749241800@vecncc.org
SUMMARY:Evening Prayer with Green Mountain Abbey
DESCRIPTION:The Green Mountain Online Abbey provides a daily offering of online prayer at 8:00 a.m. and 8:00 p.m. Monday through Saturday and 8:00 p.m. Sunday.\nPlease visit the Green Mountain Online Abbey page for more information including call-in instructions and bulletin downloads.
URL:https://vecncc.org/event/evening-prayer-with-green-mountain-abbey-149/
LOCATION:Online
CATEGORIES:Episcopal,Green Mountain Online Abbey
ATTACH;FMTTYPE=image/png:https://vecncc.org/wp-content/uploads/2025/01/Screen-Shot-2021-01-07-at-3.40.48-PM-orfXbY.tmp_.png
END:VEVENT
BEGIN:VEVENT
DTSTART;TZID=America/New_York:20250607T080000
DTEND;TZID=America/New_York:20250607T083000
DTSTAMP:20260423T171029
CREATED:20250523T210217Z
LAST-MODIFIED:20250523T210217Z
UID:22634-1749283200-1749285000@vecncc.org
SUMMARY:Morning Prayer with Green Mountain Abbey
DESCRIPTION:The Green Mountain Online Abbey provides a daily offering of online prayer at 8:00 a.m. and 8:00 p.m. Monday through Saturday and 8:00 p.m. Sunday.\nPlease visit the Green Mountain Online Abbey page for more information including call-in instructions and bulletin downloads.
URL:https://vecncc.org/event/morning-prayer-with-green-mountain-abbey-128/
LOCATION:Online
CATEGORIES:Episcopal,Green Mountain Online Abbey
ATTACH;FMTTYPE=image/png:https://vecncc.org/wp-content/uploads/2025/01/Screen-Shot-2021-01-07-at-3.40.48-PM-orfXbY.tmp_.png
END:VEVENT
BEGIN:VEVENT
DTSTART;TZID=America/New_York:20250607T200000
DTEND;TZID=America/New_York:20250607T203000
DTSTAMP:20260423T171029
CREATED:20250523T210220Z
LAST-MODIFIED:20250523T210220Z
UID:22635-1749326400-1749328200@vecncc.org
SUMMARY:Evening Prayer with Green Mountain Abbey
DESCRIPTION:The Green Mountain Online Abbey provides a daily offering of online prayer at 8:00 a.m. and 8:00 p.m. Monday through Saturday and 8:00 p.m. Sunday.\nPlease visit the Green Mountain Online Abbey page for more information including call-in instructions and bulletin downloads.
URL:https://vecncc.org/event/evening-prayer-with-green-mountain-abbey-150/
LOCATION:Online
CATEGORIES:Episcopal,Green Mountain Online Abbey
ATTACH;FMTTYPE=image/png:https://vecncc.org/wp-content/uploads/2025/01/Screen-Shot-2021-01-07-at-3.40.48-PM-orfXbY.tmp_.png
END:VEVENT
BEGIN:VEVENT
DTSTART;TZID=America/New_York:20250608T200000
DTEND;TZID=America/New_York:20250608T203000
DTSTAMP:20260423T171029
CREATED:20250530T210229Z
LAST-MODIFIED:20250530T210229Z
UID:22659-1749412800-1749414600@vecncc.org
SUMMARY:Evening Prayer with Green Mountain Abbey
DESCRIPTION:The Green Mountain Online Abbey provides a daily offering of online prayer at 8:00 a.m. and 8:00 p.m. Monday through Saturday and 8:00 p.m. Sunday.\nPlease visit the Green Mountain Online Abbey page for more information including call-in instructions and bulletin downloads.
URL:https://vecncc.org/event/evening-prayer-with-green-mountain-abbey-151/
LOCATION:Online
CATEGORIES:Episcopal,Green Mountain Online Abbey
ATTACH;FMTTYPE=image/png:https://vecncc.org/wp-content/uploads/2025/01/Screen-Shot-2021-01-07-at-3.40.48-PM-orfXbY.tmp_.png
END:VEVENT
BEGIN:VEVENT
DTSTART;TZID=America/New_York:20250609T080000
DTEND;TZID=America/New_York:20250609T083000
DTSTAMP:20260423T171029
CREATED:20250530T210230Z
LAST-MODIFIED:20250530T210230Z
UID:22660-1749456000-1749457800@vecncc.org
SUMMARY:Morning Prayer with Green Mountain Abbey
DESCRIPTION:The Green Mountain Online Abbey provides a daily offering of online prayer at 8:00 a.m. and 8:00 p.m. Monday through Saturday and 8:00 p.m. Sunday.\nPlease visit the Green Mountain Online Abbey page for more information including call-in instructions and bulletin downloads.
URL:https://vecncc.org/event/morning-prayer-with-green-mountain-abbey-129/
LOCATION:Online
CATEGORIES:Episcopal,Green Mountain Online Abbey
ATTACH;FMTTYPE=image/png:https://vecncc.org/wp-content/uploads/2025/01/Screen-Shot-2021-01-07-at-3.40.48-PM-orfXbY.tmp_.png
END:VEVENT
BEGIN:VEVENT
DTSTART;TZID=America/New_York:20250609T123000
DTEND;TZID=America/New_York:20250609T150000
DTSTAMP:20260423T171029
CREATED:20250530T210230Z
LAST-MODIFIED:20250530T210230Z
UID:22661-1749472200-1749481200@vecncc.org
SUMMARY:Trustees Meeting
DESCRIPTION:
URL:https://vecncc.org/event/trustees-meeting/
LOCATION:Online
CATEGORIES:Episcopal,Governance
END:VEVENT
BEGIN:VEVENT
DTSTART;TZID=America/New_York:20250609T200000
DTEND;TZID=America/New_York:20250609T203000
DTSTAMP:20260423T171029
CREATED:20250530T210231Z
LAST-MODIFIED:20250530T210231Z
UID:22662-1749499200-1749501000@vecncc.org
SUMMARY:Evening Prayer with Green Mountain Abbey
DESCRIPTION:The Green Mountain Online Abbey provides a daily offering of online prayer at 8:00 a.m. and 8:00 p.m. Monday through Saturday and 8:00 p.m. Sunday.\nPlease visit the Green Mountain Online Abbey page for more information including call-in instructions and bulletin downloads.
URL:https://vecncc.org/event/evening-prayer-with-green-mountain-abbey-152/
LOCATION:Online
CATEGORIES:Episcopal,Green Mountain Online Abbey
ATTACH;FMTTYPE=image/png:https://vecncc.org/wp-content/uploads/2025/01/Screen-Shot-2021-01-07-at-3.40.48-PM-orfXbY.tmp_.png
END:VEVENT
BEGIN:VEVENT
DTSTART;TZID=America/New_York:20250610T080000
DTEND;TZID=America/New_York:20250610T083000
DTSTAMP:20260423T171029
CREATED:20250530T210231Z
LAST-MODIFIED:20250530T210231Z
UID:22663-1749542400-1749544200@vecncc.org
SUMMARY:Morning Prayer with Green Mountain Abbey
DESCRIPTION:The Green Mountain Online Abbey provides a daily offering of online prayer at 8:00 a.m. and 8:00 p.m. Monday through Saturday and 8:00 p.m. Sunday.\nPlease visit the Green Mountain Online Abbey page for more information including call-in instructions and bulletin downloads.
URL:https://vecncc.org/event/morning-prayer-with-green-mountain-abbey-130/
LOCATION:Online
CATEGORIES:Episcopal,Green Mountain Online Abbey
ATTACH;FMTTYPE=image/png:https://vecncc.org/wp-content/uploads/2025/01/Screen-Shot-2021-01-07-at-3.40.48-PM-orfXbY.tmp_.png
END:VEVENT
BEGIN:VEVENT
DTSTART;TZID=America/New_York:20250610T200000
DTEND;TZID=America/New_York:20250610T203000
DTSTAMP:20260423T171029
CREATED:20250530T210231Z
LAST-MODIFIED:20250530T210231Z
UID:22664-1749585600-1749587400@vecncc.org
SUMMARY:Evening Prayer with Green Mountain Abbey
DESCRIPTION:The Green Mountain Online Abbey provides a daily offering of online prayer at 8:00 a.m. and 8:00 p.m. Monday through Saturday and 8:00 p.m. Sunday.\nPlease visit the Green Mountain Online Abbey page for more information including call-in instructions and bulletin downloads.
URL:https://vecncc.org/event/evening-prayer-with-green-mountain-abbey-153/
LOCATION:Online
CATEGORIES:Episcopal,Green Mountain Online Abbey
ATTACH;FMTTYPE=image/png:https://vecncc.org/wp-content/uploads/2025/01/Screen-Shot-2021-01-07-at-3.40.48-PM-orfXbY.tmp_.png
END:VEVENT
BEGIN:VEVENT
DTSTART;TZID=America/New_York:20250611T080000
DTEND;TZID=America/New_York:20250611T083000
DTSTAMP:20260423T171029
CREATED:20250530T210232Z
LAST-MODIFIED:20250530T210232Z
UID:22665-1749628800-1749630600@vecncc.org
SUMMARY:Morning Prayer with Green Mountain Abbey
DESCRIPTION:The Green Mountain Online Abbey provides a daily offering of online prayer at 8:00 a.m. and 8:00 p.m. Monday through Saturday and 8:00 p.m. Sunday.\nPlease visit the Green Mountain Online Abbey page for more information including call-in instructions and bulletin downloads.
URL:https://vecncc.org/event/morning-prayer-with-green-mountain-abbey-131/
LOCATION:Online
CATEGORIES:Episcopal,Green Mountain Online Abbey
ATTACH;FMTTYPE=image/png:https://vecncc.org/wp-content/uploads/2025/01/Screen-Shot-2021-01-07-at-3.40.48-PM-orfXbY.tmp_.png
END:VEVENT
BEGIN:VEVENT
DTSTART;TZID=America/New_York:20250611T200000
DTEND;TZID=America/New_York:20250611T203000
DTSTAMP:20260423T171029
CREATED:20250530T210233Z
LAST-MODIFIED:20250530T210233Z
UID:22666-1749672000-1749673800@vecncc.org
SUMMARY:Evening Prayer with Green Mountain Abbey
DESCRIPTION:The Green Mountain Online Abbey provides a daily offering of online prayer at 8:00 a.m. and 8:00 p.m. Monday through Saturday and 8:00 p.m. Sunday.\nPlease visit the Green Mountain Online Abbey page for more information including call-in instructions and bulletin downloads.
URL:https://vecncc.org/event/evening-prayer-with-green-mountain-abbey-154/
LOCATION:Online
CATEGORIES:Episcopal,Green Mountain Online Abbey
ATTACH;FMTTYPE=image/png:https://vecncc.org/wp-content/uploads/2025/01/Screen-Shot-2021-01-07-at-3.40.48-PM-orfXbY.tmp_.png
END:VEVENT
END:VCALENDAR