BEGIN:VCALENDAR
VERSION:2.0
PRODID:-//VECNCC - ECPv6.15.11//NONSGML v1.0//EN
CALSCALE:GREGORIAN
METHOD:PUBLISH
X-WR-CALNAME:VECNCC
X-ORIGINAL-URL:https://vecncc.org
X-WR-CALDESC:Events for VECNCC
REFRESH-INTERVAL;VALUE=DURATION:PT1H
X-Robots-Tag:noindex
X-PUBLISHED-TTL:PT1H
BEGIN:VTIMEZONE
TZID:America/New_York
BEGIN:DAYLIGHT
TZOFFSETFROM:-0500
TZOFFSETTO:-0400
TZNAME:EDT
DTSTART:20240310T070000
END:DAYLIGHT
BEGIN:STANDARD
TZOFFSETFROM:-0400
TZOFFSETTO:-0500
TZNAME:EST
DTSTART:20241103T060000
END:STANDARD
BEGIN:DAYLIGHT
TZOFFSETFROM:-0500
TZOFFSETTO:-0400
TZNAME:EDT
DTSTART:20250309T070000
END:DAYLIGHT
BEGIN:STANDARD
TZOFFSETFROM:-0400
TZOFFSETTO:-0500
TZNAME:EST
DTSTART:20251102T060000
END:STANDARD
BEGIN:DAYLIGHT
TZOFFSETFROM:-0500
TZOFFSETTO:-0400
TZNAME:EDT
DTSTART:20260308T070000
END:DAYLIGHT
BEGIN:STANDARD
TZOFFSETFROM:-0400
TZOFFSETTO:-0500
TZNAME:EST
DTSTART:20261101T060000
END:STANDARD
END:VTIMEZONE
BEGIN:VEVENT
DTSTART;TZID=America/New_York:20250221T080000
DTEND;TZID=America/New_York:20250221T083000
DTSTAMP:20260424T015321
CREATED:20250207T204714Z
LAST-MODIFIED:20250207T204714Z
UID:22037-1740124800-1740126600@vecncc.org
SUMMARY:Morning Prayer with Green Mountain Abbey
DESCRIPTION:The Green Mountain Online Abbey provides a daily offering of online prayer at 8:00 a.m. and 8:00 p.m. Monday through Saturday and 8:00 p.m. Sunday.\nPlease visit the Green Mountain Online Abbey page for more information including call-in instructions and bulletin downloads.
URL:https://vecncc.org/event/morning-prayer-with-green-mountain-abbey-37/
LOCATION:Online
CATEGORIES:Episcopal,Green Mountain Online Abbey
ATTACH;FMTTYPE=image/png:https://vecncc.org/wp-content/uploads/2025/01/Screen-Shot-2021-01-07-at-3.40.48-PM-orfXbY.tmp_.png
END:VEVENT
BEGIN:VEVENT
DTSTART;TZID=America/New_York:20250221T200000
DTEND;TZID=America/New_York:20250221T203000
DTSTAMP:20260424T015321
CREATED:20250207T204714Z
LAST-MODIFIED:20250207T204714Z
UID:22038-1740168000-1740169800@vecncc.org
SUMMARY:Evening Prayer with Green Mountain Abbey
DESCRIPTION:The Green Mountain Online Abbey provides a daily offering of online prayer at 8:00 a.m. and 8:00 p.m. Monday through Saturday and 8:00 p.m. Sunday.\nPlease visit the Green Mountain Online Abbey page for more information including call-in instructions and bulletin downloads.
URL:https://vecncc.org/event/evening-prayer-with-green-mountain-abbey-44/
LOCATION:Online
CATEGORIES:Episcopal,Green Mountain Online Abbey
ATTACH;FMTTYPE=image/png:https://vecncc.org/wp-content/uploads/2025/01/Screen-Shot-2021-01-07-at-3.40.48-PM-orfXbY.tmp_.png
END:VEVENT
BEGIN:VEVENT
DTSTART;TZID=America/New_York:20250222T080000
DTEND;TZID=America/New_York:20250222T083000
DTSTAMP:20260424T015321
CREATED:20250207T204715Z
LAST-MODIFIED:20250207T204715Z
UID:22039-1740211200-1740213000@vecncc.org
SUMMARY:Morning Prayer with Green Mountain Abbey
DESCRIPTION:The Green Mountain Online Abbey provides a daily offering of online prayer at 8:00 a.m. and 8:00 p.m. Monday through Saturday and 8:00 p.m. Sunday.\nPlease visit the Green Mountain Online Abbey page for more information including call-in instructions and bulletin downloads.
URL:https://vecncc.org/event/morning-prayer-with-green-mountain-abbey-38/
LOCATION:Online
CATEGORIES:Episcopal,Green Mountain Online Abbey
ATTACH;FMTTYPE=image/png:https://vecncc.org/wp-content/uploads/2025/01/Screen-Shot-2021-01-07-at-3.40.48-PM-orfXbY.tmp_.png
END:VEVENT
BEGIN:VEVENT
DTSTART;TZID=America/New_York:20250222T200000
DTEND;TZID=America/New_York:20250222T203000
DTSTAMP:20260424T015321
CREATED:20250207T204715Z
LAST-MODIFIED:20250207T204715Z
UID:22040-1740254400-1740256200@vecncc.org
SUMMARY:Evening Prayer with Green Mountain Abbey
DESCRIPTION:The Green Mountain Online Abbey provides a daily offering of online prayer at 8:00 a.m. and 8:00 p.m. Monday through Saturday and 8:00 p.m. Sunday.\nPlease visit the Green Mountain Online Abbey page for more information including call-in instructions and bulletin downloads.
URL:https://vecncc.org/event/evening-prayer-with-green-mountain-abbey-45/
LOCATION:Online
CATEGORIES:Episcopal,Green Mountain Online Abbey
ATTACH;FMTTYPE=image/png:https://vecncc.org/wp-content/uploads/2025/01/Screen-Shot-2021-01-07-at-3.40.48-PM-orfXbY.tmp_.png
END:VEVENT
BEGIN:VEVENT
DTSTART;TZID=America/New_York:20250223T200000
DTEND;TZID=America/New_York:20250223T203000
DTSTAMP:20260424T015321
CREATED:20250207T204715Z
LAST-MODIFIED:20250207T204715Z
UID:22041-1740340800-1740342600@vecncc.org
SUMMARY:Evening Prayer with Green Mountain Abbey
DESCRIPTION:The Green Mountain Online Abbey provides a daily offering of online prayer at 8:00 a.m. and 8:00 p.m. Monday through Saturday and 8:00 p.m. Sunday.\nPlease visit the Green Mountain Online Abbey page for more information including call-in instructions and bulletin downloads.
URL:https://vecncc.org/event/evening-prayer-with-green-mountain-abbey-46/
LOCATION:Online
CATEGORIES:Episcopal,Green Mountain Online Abbey
ATTACH;FMTTYPE=image/png:https://vecncc.org/wp-content/uploads/2025/01/Screen-Shot-2021-01-07-at-3.40.48-PM-orfXbY.tmp_.png
END:VEVENT
BEGIN:VEVENT
DTSTART;TZID=America/New_York:20250224T080000
DTEND;TZID=America/New_York:20250224T083000
DTSTAMP:20260424T015321
CREATED:20250214T204710Z
LAST-MODIFIED:20250214T204710Z
UID:22069-1740384000-1740385800@vecncc.org
SUMMARY:Morning Prayer with Green Mountain Abbey
DESCRIPTION:The Green Mountain Online Abbey provides a daily offering of online prayer at 8:00 a.m. and 8:00 p.m. Monday through Saturday and 8:00 p.m. Sunday.\nPlease visit the Green Mountain Online Abbey page for more information including call-in instructions and bulletin downloads.
URL:https://vecncc.org/event/morning-prayer-with-green-mountain-abbey-39/
LOCATION:Online
CATEGORIES:Episcopal,Green Mountain Online Abbey
ATTACH;FMTTYPE=image/png:https://vecncc.org/wp-content/uploads/2025/01/Screen-Shot-2021-01-07-at-3.40.48-PM-orfXbY.tmp_.png
END:VEVENT
BEGIN:VEVENT
DTSTART;TZID=America/New_York:20250224T200000
DTEND;TZID=America/New_York:20250224T203000
DTSTAMP:20260424T015321
CREATED:20250214T204711Z
LAST-MODIFIED:20250214T204711Z
UID:22070-1740427200-1740429000@vecncc.org
SUMMARY:Evening Prayer with Green Mountain Abbey
DESCRIPTION:The Green Mountain Online Abbey provides a daily offering of online prayer at 8:00 a.m. and 8:00 p.m. Monday through Saturday and 8:00 p.m. Sunday.\nPlease visit the Green Mountain Online Abbey page for more information including call-in instructions and bulletin downloads.
URL:https://vecncc.org/event/evening-prayer-with-green-mountain-abbey-47/
LOCATION:Online
CATEGORIES:Episcopal,Green Mountain Online Abbey
ATTACH;FMTTYPE=image/png:https://vecncc.org/wp-content/uploads/2025/01/Screen-Shot-2021-01-07-at-3.40.48-PM-orfXbY.tmp_.png
END:VEVENT
BEGIN:VEVENT
DTSTART;TZID=America/New_York:20250225T080000
DTEND;TZID=America/New_York:20250225T083000
DTSTAMP:20260424T015321
CREATED:20250214T204711Z
LAST-MODIFIED:20250214T204711Z
UID:22071-1740470400-1740472200@vecncc.org
SUMMARY:Morning Prayer with Green Mountain Abbey
DESCRIPTION:The Green Mountain Online Abbey provides a daily offering of online prayer at 8:00 a.m. and 8:00 p.m. Monday through Saturday and 8:00 p.m. Sunday.\nPlease visit the Green Mountain Online Abbey page for more information including call-in instructions and bulletin downloads.
URL:https://vecncc.org/event/morning-prayer-with-green-mountain-abbey-40/
LOCATION:Online
CATEGORIES:Episcopal,Green Mountain Online Abbey
ATTACH;FMTTYPE=image/png:https://vecncc.org/wp-content/uploads/2025/01/Screen-Shot-2021-01-07-at-3.40.48-PM-orfXbY.tmp_.png
END:VEVENT
BEGIN:VEVENT
DTSTART;TZID=America/New_York:20250225T200000
DTEND;TZID=America/New_York:20250225T203000
DTSTAMP:20260424T015321
CREATED:20250214T204711Z
LAST-MODIFIED:20250214T204711Z
UID:22072-1740513600-1740515400@vecncc.org
SUMMARY:Evening Prayer with Green Mountain Abbey
DESCRIPTION:The Green Mountain Online Abbey provides a daily offering of online prayer at 8:00 a.m. and 8:00 p.m. Monday through Saturday and 8:00 p.m. Sunday.\nPlease visit the Green Mountain Online Abbey page for more information including call-in instructions and bulletin downloads.
URL:https://vecncc.org/event/evening-prayer-with-green-mountain-abbey-48/
LOCATION:Online
CATEGORIES:Episcopal,Green Mountain Online Abbey
ATTACH;FMTTYPE=image/png:https://vecncc.org/wp-content/uploads/2025/01/Screen-Shot-2021-01-07-at-3.40.48-PM-orfXbY.tmp_.png
END:VEVENT
BEGIN:VEVENT
DTSTART;TZID=America/New_York:20250226T080000
DTEND;TZID=America/New_York:20250226T083000
DTSTAMP:20260424T015321
CREATED:20250214T204712Z
LAST-MODIFIED:20250214T204712Z
UID:22073-1740556800-1740558600@vecncc.org
SUMMARY:Morning Prayer with Green Mountain Abbey
DESCRIPTION:The Green Mountain Online Abbey provides a daily offering of online prayer at 8:00 a.m. and 8:00 p.m. Monday through Saturday and 8:00 p.m. Sunday.\nPlease visit the Green Mountain Online Abbey page for more information including call-in instructions and bulletin downloads.
URL:https://vecncc.org/event/morning-prayer-with-green-mountain-abbey-41/
LOCATION:Online
CATEGORIES:Episcopal,Green Mountain Online Abbey
ATTACH;FMTTYPE=image/png:https://vecncc.org/wp-content/uploads/2025/01/Screen-Shot-2021-01-07-at-3.40.48-PM-orfXbY.tmp_.png
END:VEVENT
BEGIN:VEVENT
DTSTART;TZID=America/New_York:20250226T200000
DTEND;TZID=America/New_York:20250226T203000
DTSTAMP:20260424T015321
CREATED:20250214T204712Z
LAST-MODIFIED:20250214T204712Z
UID:22074-1740600000-1740601800@vecncc.org
SUMMARY:Evening Prayer with Green Mountain Abbey
DESCRIPTION:The Green Mountain Online Abbey provides a daily offering of online prayer at 8:00 a.m. and 8:00 p.m. Monday through Saturday and 8:00 p.m. Sunday.\nPlease visit the Green Mountain Online Abbey page for more information including call-in instructions and bulletin downloads.
URL:https://vecncc.org/event/evening-prayer-with-green-mountain-abbey-49/
LOCATION:Online
CATEGORIES:Episcopal,Green Mountain Online Abbey
ATTACH;FMTTYPE=image/png:https://vecncc.org/wp-content/uploads/2025/01/Screen-Shot-2021-01-07-at-3.40.48-PM-orfXbY.tmp_.png
END:VEVENT
BEGIN:VEVENT
DTSTART;TZID=America/New_York:20250227T080000
DTEND;TZID=America/New_York:20250227T083000
DTSTAMP:20260424T015321
CREATED:20250214T204712Z
LAST-MODIFIED:20250214T204712Z
UID:22075-1740643200-1740645000@vecncc.org
SUMMARY:Morning Prayer with Green Mountain Abbey
DESCRIPTION:The Green Mountain Online Abbey provides a daily offering of online prayer at 8:00 a.m. and 8:00 p.m. Monday through Saturday and 8:00 p.m. Sunday.\nPlease visit the Green Mountain Online Abbey page for more information including call-in instructions and bulletin downloads.
URL:https://vecncc.org/event/morning-prayer-with-green-mountain-abbey-42/
LOCATION:Online
CATEGORIES:Episcopal,Green Mountain Online Abbey
ATTACH;FMTTYPE=image/png:https://vecncc.org/wp-content/uploads/2025/01/Screen-Shot-2021-01-07-at-3.40.48-PM-orfXbY.tmp_.png
END:VEVENT
BEGIN:VEVENT
DTSTART;TZID=America/New_York:20250227T200000
DTEND;TZID=America/New_York:20250227T203000
DTSTAMP:20260424T015321
CREATED:20250214T204713Z
LAST-MODIFIED:20250214T204713Z
UID:22076-1740686400-1740688200@vecncc.org
SUMMARY:Evening Prayer with Green Mountain Abbey
DESCRIPTION:The Green Mountain Online Abbey provides a daily offering of online prayer at 8:00 a.m. and 8:00 p.m. Monday through Saturday and 8:00 p.m. Sunday.\nPlease visit the Green Mountain Online Abbey page for more information including call-in instructions and bulletin downloads.
URL:https://vecncc.org/event/evening-prayer-with-green-mountain-abbey-50/
LOCATION:Online
CATEGORIES:Episcopal,Green Mountain Online Abbey
ATTACH;FMTTYPE=image/png:https://vecncc.org/wp-content/uploads/2025/01/Screen-Shot-2021-01-07-at-3.40.48-PM-orfXbY.tmp_.png
END:VEVENT
BEGIN:VEVENT
DTSTART;TZID=America/New_York:20250228T080000
DTEND;TZID=America/New_York:20250228T083000
DTSTAMP:20260424T015321
CREATED:20250214T204713Z
LAST-MODIFIED:20250214T204713Z
UID:22077-1740729600-1740731400@vecncc.org
SUMMARY:Morning Prayer with Green Mountain Abbey
DESCRIPTION:The Green Mountain Online Abbey provides a daily offering of online prayer at 8:00 a.m. and 8:00 p.m. Monday through Saturday and 8:00 p.m. Sunday.\nPlease visit the Green Mountain Online Abbey page for more information including call-in instructions and bulletin downloads.
URL:https://vecncc.org/event/morning-prayer-with-green-mountain-abbey-43/
LOCATION:Online
CATEGORIES:Episcopal,Green Mountain Online Abbey
ATTACH;FMTTYPE=image/png:https://vecncc.org/wp-content/uploads/2025/01/Screen-Shot-2021-01-07-at-3.40.48-PM-orfXbY.tmp_.png
END:VEVENT
BEGIN:VEVENT
DTSTART;TZID=America/New_York:20250228T200000
DTEND;TZID=America/New_York:20250228T203000
DTSTAMP:20260424T015321
CREATED:20250214T204713Z
LAST-MODIFIED:20250214T204713Z
UID:22078-1740772800-1740774600@vecncc.org
SUMMARY:Evening Prayer with Green Mountain Abbey
DESCRIPTION:The Green Mountain Online Abbey provides a daily offering of online prayer at 8:00 a.m. and 8:00 p.m. Monday through Saturday and 8:00 p.m. Sunday.\nPlease visit the Green Mountain Online Abbey page for more information including call-in instructions and bulletin downloads.
URL:https://vecncc.org/event/evening-prayer-with-green-mountain-abbey-51/
LOCATION:Online
CATEGORIES:Episcopal,Green Mountain Online Abbey
ATTACH;FMTTYPE=image/png:https://vecncc.org/wp-content/uploads/2025/01/Screen-Shot-2021-01-07-at-3.40.48-PM-orfXbY.tmp_.png
END:VEVENT
BEGIN:VEVENT
DTSTART;TZID=America/New_York:20250301T080000
DTEND;TZID=America/New_York:20250301T083000
DTSTAMP:20260424T015321
CREATED:20250214T204714Z
LAST-MODIFIED:20250214T204714Z
UID:22079-1740816000-1740817800@vecncc.org
SUMMARY:Morning Prayer with Green Mountain Abbey
DESCRIPTION:The Green Mountain Online Abbey provides a daily offering of online prayer at 8:00 a.m. and 8:00 p.m. Monday through Saturday and 8:00 p.m. Sunday.\nPlease visit the Green Mountain Online Abbey page for more information including call-in instructions and bulletin downloads.
URL:https://vecncc.org/event/morning-prayer-with-green-mountain-abbey-44/
LOCATION:Online
CATEGORIES:Episcopal,Green Mountain Online Abbey
ATTACH;FMTTYPE=image/png:https://vecncc.org/wp-content/uploads/2025/01/Screen-Shot-2021-01-07-at-3.40.48-PM-orfXbY.tmp_.png
END:VEVENT
BEGIN:VEVENT
DTSTART;TZID=America/New_York:20250301T200000
DTEND;TZID=America/New_York:20250301T203000
DTSTAMP:20260424T015321
CREATED:20250214T204714Z
LAST-MODIFIED:20250214T204714Z
UID:22080-1740859200-1740861000@vecncc.org
SUMMARY:Evening Prayer with Green Mountain Abbey
DESCRIPTION:The Green Mountain Online Abbey provides a daily offering of online prayer at 8:00 a.m. and 8:00 p.m. Monday through Saturday and 8:00 p.m. Sunday.\nPlease visit the Green Mountain Online Abbey page for more information including call-in instructions and bulletin downloads.
URL:https://vecncc.org/event/evening-prayer-with-green-mountain-abbey-52/
LOCATION:Online
CATEGORIES:Episcopal,Green Mountain Online Abbey
ATTACH;FMTTYPE=image/png:https://vecncc.org/wp-content/uploads/2025/01/Screen-Shot-2021-01-07-at-3.40.48-PM-orfXbY.tmp_.png
END:VEVENT
BEGIN:VEVENT
DTSTART;TZID=America/New_York:20250302T200000
DTEND;TZID=America/New_York:20250302T203000
DTSTAMP:20260424T015321
CREATED:20250214T204714Z
LAST-MODIFIED:20250214T204714Z
UID:22081-1740945600-1740947400@vecncc.org
SUMMARY:Evening Prayer with Green Mountain Abbey
DESCRIPTION:The Green Mountain Online Abbey provides a daily offering of online prayer at 8:00 a.m. and 8:00 p.m. Monday through Saturday and 8:00 p.m. Sunday.\nPlease visit the Green Mountain Online Abbey page for more information including call-in instructions and bulletin downloads.
URL:https://vecncc.org/event/evening-prayer-with-green-mountain-abbey-53/
LOCATION:Online
CATEGORIES:Episcopal,Green Mountain Online Abbey
ATTACH;FMTTYPE=image/png:https://vecncc.org/wp-content/uploads/2025/01/Screen-Shot-2021-01-07-at-3.40.48-PM-orfXbY.tmp_.png
END:VEVENT
BEGIN:VEVENT
DTSTART;TZID=America/New_York:20250303T080000
DTEND;TZID=America/New_York:20250303T083000
DTSTAMP:20260424T015321
CREATED:20250221T204736Z
LAST-MODIFIED:20250221T204736Z
UID:22110-1740988800-1740990600@vecncc.org
SUMMARY:Morning Prayer with Green Mountain Abbey
DESCRIPTION:The Green Mountain Online Abbey provides a daily offering of online prayer at 8:00 a.m. and 8:00 p.m. Monday through Saturday and 8:00 p.m. Sunday.\nPlease visit the Green Mountain Online Abbey page for more information including call-in instructions and bulletin downloads.
URL:https://vecncc.org/event/morning-prayer-with-green-mountain-abbey-45/
LOCATION:Online
CATEGORIES:Episcopal,Green Mountain Online Abbey
ATTACH;FMTTYPE=image/png:https://vecncc.org/wp-content/uploads/2025/01/Screen-Shot-2021-01-07-at-3.40.48-PM-orfXbY.tmp_.png
END:VEVENT
BEGIN:VEVENT
DTSTART;TZID=America/New_York:20250303T200000
DTEND;TZID=America/New_York:20250303T203000
DTSTAMP:20260424T015321
CREATED:20250221T204736Z
LAST-MODIFIED:20250221T204736Z
UID:22111-1741032000-1741033800@vecncc.org
SUMMARY:Evening Prayer with Green Mountain Abbey
DESCRIPTION:The Green Mountain Online Abbey provides a daily offering of online prayer at 8:00 a.m. and 8:00 p.m. Monday through Saturday and 8:00 p.m. Sunday.\nPlease visit the Green Mountain Online Abbey page for more information including call-in instructions and bulletin downloads.
URL:https://vecncc.org/event/evening-prayer-with-green-mountain-abbey-54/
LOCATION:Online
CATEGORIES:Episcopal,Green Mountain Online Abbey
ATTACH;FMTTYPE=image/png:https://vecncc.org/wp-content/uploads/2025/01/Screen-Shot-2021-01-07-at-3.40.48-PM-orfXbY.tmp_.png
END:VEVENT
BEGIN:VEVENT
DTSTART;TZID=America/New_York:20250304T080000
DTEND;TZID=America/New_York:20250304T083000
DTSTAMP:20260424T015321
CREATED:20250221T204736Z
LAST-MODIFIED:20250221T204736Z
UID:22112-1741075200-1741077000@vecncc.org
SUMMARY:Morning Prayer with Green Mountain Abbey
DESCRIPTION:The Green Mountain Online Abbey provides a daily offering of online prayer at 8:00 a.m. and 8:00 p.m. Monday through Saturday and 8:00 p.m. Sunday.\nPlease visit the Green Mountain Online Abbey page for more information including call-in instructions and bulletin downloads.
URL:https://vecncc.org/event/morning-prayer-with-green-mountain-abbey-46/
LOCATION:Online
CATEGORIES:Episcopal,Green Mountain Online Abbey
ATTACH;FMTTYPE=image/png:https://vecncc.org/wp-content/uploads/2025/01/Screen-Shot-2021-01-07-at-3.40.48-PM-orfXbY.tmp_.png
END:VEVENT
BEGIN:VEVENT
DTSTART;TZID=America/New_York:20250304T200000
DTEND;TZID=America/New_York:20250304T203000
DTSTAMP:20260424T015321
CREATED:20250221T204737Z
LAST-MODIFIED:20250221T204737Z
UID:22113-1741118400-1741120200@vecncc.org
SUMMARY:Evening Prayer with Green Mountain Abbey
DESCRIPTION:The Green Mountain Online Abbey provides a daily offering of online prayer at 8:00 a.m. and 8:00 p.m. Monday through Saturday and 8:00 p.m. Sunday.\nPlease visit the Green Mountain Online Abbey page for more information including call-in instructions and bulletin downloads.
URL:https://vecncc.org/event/evening-prayer-with-green-mountain-abbey-55/
LOCATION:Online
CATEGORIES:Episcopal,Green Mountain Online Abbey
ATTACH;FMTTYPE=image/png:https://vecncc.org/wp-content/uploads/2025/01/Screen-Shot-2021-01-07-at-3.40.48-PM-orfXbY.tmp_.png
END:VEVENT
BEGIN:VEVENT
DTSTART;TZID=America/New_York:20250305T080000
DTEND;TZID=America/New_York:20250305T083000
DTSTAMP:20260424T015321
CREATED:20250221T204737Z
LAST-MODIFIED:20250221T204737Z
UID:22114-1741161600-1741163400@vecncc.org
SUMMARY:Morning Prayer with Green Mountain Abbey
DESCRIPTION:The Green Mountain Online Abbey provides a daily offering of online prayer at 8:00 a.m. and 8:00 p.m. Monday through Saturday and 8:00 p.m. Sunday.\nPlease visit the Green Mountain Online Abbey page for more information including call-in instructions and bulletin downloads.
URL:https://vecncc.org/event/morning-prayer-with-green-mountain-abbey-47/
LOCATION:Online
CATEGORIES:Episcopal,Green Mountain Online Abbey
ATTACH;FMTTYPE=image/png:https://vecncc.org/wp-content/uploads/2025/01/Screen-Shot-2021-01-07-at-3.40.48-PM-orfXbY.tmp_.png
END:VEVENT
BEGIN:VEVENT
DTSTART;TZID=America/New_York:20250305T200000
DTEND;TZID=America/New_York:20250305T203000
DTSTAMP:20260424T015321
CREATED:20250221T204737Z
LAST-MODIFIED:20250221T204737Z
UID:22115-1741204800-1741206600@vecncc.org
SUMMARY:Evening Prayer with Green Mountain Abbey
DESCRIPTION:The Green Mountain Online Abbey provides a daily offering of online prayer at 8:00 a.m. and 8:00 p.m. Monday through Saturday and 8:00 p.m. Sunday.\nPlease visit the Green Mountain Online Abbey page for more information including call-in instructions and bulletin downloads.
URL:https://vecncc.org/event/evening-prayer-with-green-mountain-abbey-56/
LOCATION:Online
CATEGORIES:Episcopal,Green Mountain Online Abbey
ATTACH;FMTTYPE=image/png:https://vecncc.org/wp-content/uploads/2025/01/Screen-Shot-2021-01-07-at-3.40.48-PM-orfXbY.tmp_.png
END:VEVENT
BEGIN:VEVENT
DTSTART;TZID=America/New_York:20250306T080000
DTEND;TZID=America/New_York:20250306T083000
DTSTAMP:20260424T015321
CREATED:20250221T204737Z
LAST-MODIFIED:20250221T204737Z
UID:22116-1741248000-1741249800@vecncc.org
SUMMARY:Morning Prayer with Green Mountain Abbey
DESCRIPTION:The Green Mountain Online Abbey provides a daily offering of online prayer at 8:00 a.m. and 8:00 p.m. Monday through Saturday and 8:00 p.m. Sunday.\nPlease visit the Green Mountain Online Abbey page for more information including call-in instructions and bulletin downloads.
URL:https://vecncc.org/event/morning-prayer-with-green-mountain-abbey-48/
LOCATION:Online
CATEGORIES:Episcopal,Green Mountain Online Abbey
ATTACH;FMTTYPE=image/png:https://vecncc.org/wp-content/uploads/2025/01/Screen-Shot-2021-01-07-at-3.40.48-PM-orfXbY.tmp_.png
END:VEVENT
BEGIN:VEVENT
DTSTART;TZID=America/New_York:20250306T200000
DTEND;TZID=America/New_York:20250306T203000
DTSTAMP:20260424T015321
CREATED:20250221T204738Z
LAST-MODIFIED:20250221T204738Z
UID:22117-1741291200-1741293000@vecncc.org
SUMMARY:Evening Prayer with Green Mountain Abbey
DESCRIPTION:The Green Mountain Online Abbey provides a daily offering of online prayer at 8:00 a.m. and 8:00 p.m. Monday through Saturday and 8:00 p.m. Sunday.\nPlease visit the Green Mountain Online Abbey page for more information including call-in instructions and bulletin downloads.
URL:https://vecncc.org/event/evening-prayer-with-green-mountain-abbey-57/
LOCATION:Online
CATEGORIES:Episcopal,Green Mountain Online Abbey
ATTACH;FMTTYPE=image/png:https://vecncc.org/wp-content/uploads/2025/01/Screen-Shot-2021-01-07-at-3.40.48-PM-orfXbY.tmp_.png
END:VEVENT
BEGIN:VEVENT
DTSTART;TZID=America/New_York:20250307T080000
DTEND;TZID=America/New_York:20250307T083000
DTSTAMP:20260424T015321
CREATED:20250221T204738Z
LAST-MODIFIED:20250221T204738Z
UID:22118-1741334400-1741336200@vecncc.org
SUMMARY:Morning Prayer with Green Mountain Abbey
DESCRIPTION:The Green Mountain Online Abbey provides a daily offering of online prayer at 8:00 a.m. and 8:00 p.m. Monday through Saturday and 8:00 p.m. Sunday.\nPlease visit the Green Mountain Online Abbey page for more information including call-in instructions and bulletin downloads.
URL:https://vecncc.org/event/morning-prayer-with-green-mountain-abbey-49/
LOCATION:Online
CATEGORIES:Episcopal,Green Mountain Online Abbey
ATTACH;FMTTYPE=image/png:https://vecncc.org/wp-content/uploads/2025/01/Screen-Shot-2021-01-07-at-3.40.48-PM-orfXbY.tmp_.png
END:VEVENT
BEGIN:VEVENT
DTSTART;TZID=America/New_York:20250307T200000
DTEND;TZID=America/New_York:20250307T203000
DTSTAMP:20260424T015321
CREATED:20250221T204738Z
LAST-MODIFIED:20250221T204738Z
UID:22119-1741377600-1741379400@vecncc.org
SUMMARY:Evening Prayer with Green Mountain Abbey
DESCRIPTION:The Green Mountain Online Abbey provides a daily offering of online prayer at 8:00 a.m. and 8:00 p.m. Monday through Saturday and 8:00 p.m. Sunday.\nPlease visit the Green Mountain Online Abbey page for more information including call-in instructions and bulletin downloads.
URL:https://vecncc.org/event/evening-prayer-with-green-mountain-abbey-58/
LOCATION:Online
CATEGORIES:Episcopal,Green Mountain Online Abbey
ATTACH;FMTTYPE=image/png:https://vecncc.org/wp-content/uploads/2025/01/Screen-Shot-2021-01-07-at-3.40.48-PM-orfXbY.tmp_.png
END:VEVENT
BEGIN:VEVENT
DTSTART;TZID=America/New_York:20250308T080000
DTEND;TZID=America/New_York:20250308T083000
DTSTAMP:20260424T015321
CREATED:20250221T204739Z
LAST-MODIFIED:20250221T204739Z
UID:22120-1741420800-1741422600@vecncc.org
SUMMARY:Morning Prayer with Green Mountain Abbey
DESCRIPTION:The Green Mountain Online Abbey provides a daily offering of online prayer at 8:00 a.m. and 8:00 p.m. Monday through Saturday and 8:00 p.m. Sunday.\nPlease visit the Green Mountain Online Abbey page for more information including call-in instructions and bulletin downloads.
URL:https://vecncc.org/event/morning-prayer-with-green-mountain-abbey-50/
LOCATION:Online
CATEGORIES:Episcopal,Green Mountain Online Abbey
ATTACH;FMTTYPE=image/png:https://vecncc.org/wp-content/uploads/2025/01/Screen-Shot-2021-01-07-at-3.40.48-PM-orfXbY.tmp_.png
END:VEVENT
BEGIN:VEVENT
DTSTART;TZID=America/New_York:20250308T200000
DTEND;TZID=America/New_York:20250308T203000
DTSTAMP:20260424T015321
CREATED:20250221T204739Z
LAST-MODIFIED:20250221T204739Z
UID:22121-1741464000-1741465800@vecncc.org
SUMMARY:Evening Prayer with Green Mountain Abbey
DESCRIPTION:The Green Mountain Online Abbey provides a daily offering of online prayer at 8:00 a.m. and 8:00 p.m. Monday through Saturday and 8:00 p.m. Sunday.\nPlease visit the Green Mountain Online Abbey page for more information including call-in instructions and bulletin downloads.
URL:https://vecncc.org/event/evening-prayer-with-green-mountain-abbey-59/
LOCATION:Online
CATEGORIES:Episcopal,Green Mountain Online Abbey
ATTACH;FMTTYPE=image/png:https://vecncc.org/wp-content/uploads/2025/01/Screen-Shot-2021-01-07-at-3.40.48-PM-orfXbY.tmp_.png
END:VEVENT
END:VCALENDAR