BEGIN:VCALENDAR
VERSION:2.0
PRODID:-//VECNCC - ECPv6.15.11//NONSGML v1.0//EN
CALSCALE:GREGORIAN
METHOD:PUBLISH
X-WR-CALNAME:VECNCC
X-ORIGINAL-URL:https://vecncc.org
X-WR-CALDESC:Events for VECNCC
REFRESH-INTERVAL;VALUE=DURATION:PT1H
X-Robots-Tag:noindex
X-PUBLISHED-TTL:PT1H
BEGIN:VTIMEZONE
TZID:America/New_York
BEGIN:DAYLIGHT
TZOFFSETFROM:-0500
TZOFFSETTO:-0400
TZNAME:EDT
DTSTART:20240310T070000
END:DAYLIGHT
BEGIN:STANDARD
TZOFFSETFROM:-0400
TZOFFSETTO:-0500
TZNAME:EST
DTSTART:20241103T060000
END:STANDARD
BEGIN:DAYLIGHT
TZOFFSETFROM:-0500
TZOFFSETTO:-0400
TZNAME:EDT
DTSTART:20250309T070000
END:DAYLIGHT
BEGIN:STANDARD
TZOFFSETFROM:-0400
TZOFFSETTO:-0500
TZNAME:EST
DTSTART:20251102T060000
END:STANDARD
BEGIN:DAYLIGHT
TZOFFSETFROM:-0500
TZOFFSETTO:-0400
TZNAME:EDT
DTSTART:20260308T070000
END:DAYLIGHT
BEGIN:STANDARD
TZOFFSETFROM:-0400
TZOFFSETTO:-0500
TZNAME:EST
DTSTART:20261101T060000
END:STANDARD
END:VTIMEZONE
BEGIN:VEVENT
DTSTART;TZID=America/New_York:20250802T200000
DTEND;TZID=America/New_York:20250802T203000
DTSTAMP:20260423T184754
CREATED:20250718T210216Z
LAST-MODIFIED:20250718T210216Z
UID:22966-1754164800-1754166600@vecncc.org
SUMMARY:Evening Prayer with Green Mountain Abbey
DESCRIPTION:The Green Mountain Online Abbey provides a daily offering of online prayer at 8:00 a.m. and 8:00 p.m. Monday through Saturday and 8:00 p.m. Sunday.\nPlease visit the Green Mountain Online Abbey page for more information including call-in instructions and bulletin downloads.
URL:https://vecncc.org/event/evening-prayer-with-green-mountain-abbey-206/
LOCATION:Online
CATEGORIES:Episcopal,Green Mountain Online Abbey
ATTACH;FMTTYPE=image/png:https://vecncc.org/wp-content/uploads/2025/01/Screen-Shot-2021-01-07-at-3.40.48-PM-orfXbY.tmp_.png
END:VEVENT
BEGIN:VEVENT
DTSTART;TZID=America/New_York:20250803T200000
DTEND;TZID=America/New_York:20250803T203000
DTSTAMP:20260423T184754
CREATED:20250718T210216Z
LAST-MODIFIED:20250718T210216Z
UID:22967-1754251200-1754253000@vecncc.org
SUMMARY:Evening Prayer with Green Mountain Abbey
DESCRIPTION:The Green Mountain Online Abbey provides a daily offering of online prayer at 8:00 a.m. and 8:00 p.m. Monday through Saturday and 8:00 p.m. Sunday.\nPlease visit the Green Mountain Online Abbey page for more information including call-in instructions and bulletin downloads.
URL:https://vecncc.org/event/evening-prayer-with-green-mountain-abbey-207/
LOCATION:Online
CATEGORIES:Episcopal,Green Mountain Online Abbey
ATTACH;FMTTYPE=image/png:https://vecncc.org/wp-content/uploads/2025/01/Screen-Shot-2021-01-07-at-3.40.48-PM-orfXbY.tmp_.png
END:VEVENT
BEGIN:VEVENT
DTSTART;TZID=America/New_York:20250804T080000
DTEND;TZID=America/New_York:20250804T083000
DTSTAMP:20260423T184754
CREATED:20250725T210215Z
LAST-MODIFIED:20250725T210215Z
UID:23004-1754294400-1754296200@vecncc.org
SUMMARY:Morning Prayer with Green Mountain Abbey
DESCRIPTION:The Green Mountain Online Abbey provides a daily offering of online prayer at 8:00 a.m. and 8:00 p.m. Monday through Saturday and 8:00 p.m. Sunday.\nPlease visit the Green Mountain Online Abbey page for more information including call-in instructions and bulletin downloads.
URL:https://vecncc.org/event/morning-prayer-with-green-mountain-abbey-177/
LOCATION:Online
CATEGORIES:Episcopal,Green Mountain Online Abbey
ATTACH;FMTTYPE=image/png:https://vecncc.org/wp-content/uploads/2025/01/Screen-Shot-2021-01-07-at-3.40.48-PM-orfXbY.tmp_.png
END:VEVENT
BEGIN:VEVENT
DTSTART;TZID=America/New_York:20250804T200000
DTEND;TZID=America/New_York:20250804T203000
DTSTAMP:20260423T184754
CREATED:20250725T210215Z
LAST-MODIFIED:20250725T210215Z
UID:23005-1754337600-1754339400@vecncc.org
SUMMARY:Evening Prayer with Green Mountain Abbey
DESCRIPTION:The Green Mountain Online Abbey provides a daily offering of online prayer at 8:00 a.m. and 8:00 p.m. Monday through Saturday and 8:00 p.m. Sunday.\nPlease visit the Green Mountain Online Abbey page for more information including call-in instructions and bulletin downloads.
URL:https://vecncc.org/event/evening-prayer-with-green-mountain-abbey-208/
LOCATION:Online
CATEGORIES:Episcopal,Green Mountain Online Abbey
ATTACH;FMTTYPE=image/png:https://vecncc.org/wp-content/uploads/2025/01/Screen-Shot-2021-01-07-at-3.40.48-PM-orfXbY.tmp_.png
END:VEVENT
BEGIN:VEVENT
DTSTART;TZID=America/New_York:20250805T080000
DTEND;TZID=America/New_York:20250805T083000
DTSTAMP:20260423T184754
CREATED:20250725T210215Z
LAST-MODIFIED:20250725T210215Z
UID:23006-1754380800-1754382600@vecncc.org
SUMMARY:Morning Prayer with Green Mountain Abbey
DESCRIPTION:The Green Mountain Online Abbey provides a daily offering of online prayer at 8:00 a.m. and 8:00 p.m. Monday through Saturday and 8:00 p.m. Sunday.\nPlease visit the Green Mountain Online Abbey page for more information including call-in instructions and bulletin downloads.
URL:https://vecncc.org/event/morning-prayer-with-green-mountain-abbey-178/
LOCATION:Online
CATEGORIES:Episcopal,Green Mountain Online Abbey
ATTACH;FMTTYPE=image/png:https://vecncc.org/wp-content/uploads/2025/01/Screen-Shot-2021-01-07-at-3.40.48-PM-orfXbY.tmp_.png
END:VEVENT
BEGIN:VEVENT
DTSTART;TZID=America/New_York:20250805T170000
DTEND;TZID=America/New_York:20250805T190000
DTSTAMP:20260423T184754
CREATED:20250725T210216Z
LAST-MODIFIED:20250725T210216Z
UID:23007-1754413200-1754420400@vecncc.org
SUMMARY:Standing Committee Meeting
DESCRIPTION:The Standing Committee meets on the first Tuesday of the month over Zoom. Contact Sophie Kitch-Peck for the Zoom link.
URL:https://vecncc.org/event/standing-committee-meeting-3/
LOCATION:Online
CATEGORIES:Episcopal,Governance
END:VEVENT
BEGIN:VEVENT
DTSTART;TZID=America/New_York:20250805T200000
DTEND;TZID=America/New_York:20250805T203000
DTSTAMP:20260423T184754
CREATED:20250725T210216Z
LAST-MODIFIED:20250725T210216Z
UID:23008-1754424000-1754425800@vecncc.org
SUMMARY:Evening Prayer with Green Mountain Abbey
DESCRIPTION:The Green Mountain Online Abbey provides a daily offering of online prayer at 8:00 a.m. and 8:00 p.m. Monday through Saturday and 8:00 p.m. Sunday.\nPlease visit the Green Mountain Online Abbey page for more information including call-in instructions and bulletin downloads.
URL:https://vecncc.org/event/evening-prayer-with-green-mountain-abbey-209/
LOCATION:Online
CATEGORIES:Episcopal,Green Mountain Online Abbey
ATTACH;FMTTYPE=image/png:https://vecncc.org/wp-content/uploads/2025/01/Screen-Shot-2021-01-07-at-3.40.48-PM-orfXbY.tmp_.png
END:VEVENT
BEGIN:VEVENT
DTSTART;TZID=America/New_York:20250806T080000
DTEND;TZID=America/New_York:20250806T083000
DTSTAMP:20260423T184754
CREATED:20250725T210217Z
LAST-MODIFIED:20250725T210217Z
UID:23009-1754467200-1754469000@vecncc.org
SUMMARY:Morning Prayer with Green Mountain Abbey
DESCRIPTION:The Green Mountain Online Abbey provides a daily offering of online prayer at 8:00 a.m. and 8:00 p.m. Monday through Saturday and 8:00 p.m. Sunday.\nPlease visit the Green Mountain Online Abbey page for more information including call-in instructions and bulletin downloads.
URL:https://vecncc.org/event/morning-prayer-with-green-mountain-abbey-179/
LOCATION:Online
CATEGORIES:Episcopal,Green Mountain Online Abbey
ATTACH;FMTTYPE=image/png:https://vecncc.org/wp-content/uploads/2025/01/Screen-Shot-2021-01-07-at-3.40.48-PM-orfXbY.tmp_.png
END:VEVENT
BEGIN:VEVENT
DTSTART;TZID=America/New_York:20250806T200000
DTEND;TZID=America/New_York:20250806T203000
DTSTAMP:20260423T184754
CREATED:20250725T210217Z
LAST-MODIFIED:20250725T210217Z
UID:23010-1754510400-1754512200@vecncc.org
SUMMARY:Evening Prayer with Green Mountain Abbey
DESCRIPTION:The Green Mountain Online Abbey provides a daily offering of online prayer at 8:00 a.m. and 8:00 p.m. Monday through Saturday and 8:00 p.m. Sunday.\nPlease visit the Green Mountain Online Abbey page for more information including call-in instructions and bulletin downloads.
URL:https://vecncc.org/event/evening-prayer-with-green-mountain-abbey-210/
LOCATION:Online
CATEGORIES:Episcopal,Green Mountain Online Abbey
ATTACH;FMTTYPE=image/png:https://vecncc.org/wp-content/uploads/2025/01/Screen-Shot-2021-01-07-at-3.40.48-PM-orfXbY.tmp_.png
END:VEVENT
BEGIN:VEVENT
DTSTART;TZID=America/New_York:20250807T080000
DTEND;TZID=America/New_York:20250807T083000
DTSTAMP:20260423T184754
CREATED:20250725T210217Z
LAST-MODIFIED:20250725T210217Z
UID:23011-1754553600-1754555400@vecncc.org
SUMMARY:Morning Prayer with Green Mountain Abbey
DESCRIPTION:The Green Mountain Online Abbey provides a daily offering of online prayer at 8:00 a.m. and 8:00 p.m. Monday through Saturday and 8:00 p.m. Sunday.\nPlease visit the Green Mountain Online Abbey page for more information including call-in instructions and bulletin downloads.
URL:https://vecncc.org/event/morning-prayer-with-green-mountain-abbey-180/
LOCATION:Online
CATEGORIES:Episcopal,Green Mountain Online Abbey
ATTACH;FMTTYPE=image/png:https://vecncc.org/wp-content/uploads/2025/01/Screen-Shot-2021-01-07-at-3.40.48-PM-orfXbY.tmp_.png
END:VEVENT
BEGIN:VEVENT
DTSTART;TZID=America/New_York:20250807T200000
DTEND;TZID=America/New_York:20250807T203000
DTSTAMP:20260423T184754
CREATED:20250725T210218Z
LAST-MODIFIED:20250725T210218Z
UID:23012-1754596800-1754598600@vecncc.org
SUMMARY:Evening Prayer with Green Mountain Abbey
DESCRIPTION:The Green Mountain Online Abbey provides a daily offering of online prayer at 8:00 a.m. and 8:00 p.m. Monday through Saturday and 8:00 p.m. Sunday.\nPlease visit the Green Mountain Online Abbey page for more information including call-in instructions and bulletin downloads.
URL:https://vecncc.org/event/evening-prayer-with-green-mountain-abbey-211/
LOCATION:Online
CATEGORIES:Episcopal,Green Mountain Online Abbey
ATTACH;FMTTYPE=image/png:https://vecncc.org/wp-content/uploads/2025/01/Screen-Shot-2021-01-07-at-3.40.48-PM-orfXbY.tmp_.png
END:VEVENT
BEGIN:VEVENT
DTSTART;TZID=America/New_York:20250808T080000
DTEND;TZID=America/New_York:20250808T083000
DTSTAMP:20260423T184754
CREATED:20250725T210218Z
LAST-MODIFIED:20250725T210218Z
UID:23013-1754640000-1754641800@vecncc.org
SUMMARY:Morning Prayer with Green Mountain Abbey
DESCRIPTION:The Green Mountain Online Abbey provides a daily offering of online prayer at 8:00 a.m. and 8:00 p.m. Monday through Saturday and 8:00 p.m. Sunday.\nPlease visit the Green Mountain Online Abbey page for more information including call-in instructions and bulletin downloads.
URL:https://vecncc.org/event/morning-prayer-with-green-mountain-abbey-181/
LOCATION:Online
CATEGORIES:Episcopal,Green Mountain Online Abbey
ATTACH;FMTTYPE=image/png:https://vecncc.org/wp-content/uploads/2025/01/Screen-Shot-2021-01-07-at-3.40.48-PM-orfXbY.tmp_.png
END:VEVENT
BEGIN:VEVENT
DTSTART;TZID=America/New_York:20250808T200000
DTEND;TZID=America/New_York:20250808T203000
DTSTAMP:20260423T184754
CREATED:20250725T210218Z
LAST-MODIFIED:20250725T210218Z
UID:23014-1754683200-1754685000@vecncc.org
SUMMARY:Evening Prayer with Green Mountain Abbey
DESCRIPTION:The Green Mountain Online Abbey provides a daily offering of online prayer at 8:00 a.m. and 8:00 p.m. Monday through Saturday and 8:00 p.m. Sunday.\nPlease visit the Green Mountain Online Abbey page for more information including call-in instructions and bulletin downloads.
URL:https://vecncc.org/event/evening-prayer-with-green-mountain-abbey-212/
LOCATION:Online
CATEGORIES:Episcopal,Green Mountain Online Abbey
ATTACH;FMTTYPE=image/png:https://vecncc.org/wp-content/uploads/2025/01/Screen-Shot-2021-01-07-at-3.40.48-PM-orfXbY.tmp_.png
END:VEVENT
BEGIN:VEVENT
DTSTART;TZID=America/New_York:20250809T080000
DTEND;TZID=America/New_York:20250809T083000
DTSTAMP:20260423T184754
CREATED:20250725T210219Z
LAST-MODIFIED:20250725T210219Z
UID:23015-1754726400-1754728200@vecncc.org
SUMMARY:Morning Prayer with Green Mountain Abbey
DESCRIPTION:The Green Mountain Online Abbey provides a daily offering of online prayer at 8:00 a.m. and 8:00 p.m. Monday through Saturday and 8:00 p.m. Sunday.\nPlease visit the Green Mountain Online Abbey page for more information including call-in instructions and bulletin downloads.
URL:https://vecncc.org/event/morning-prayer-with-green-mountain-abbey-182/
LOCATION:Online
CATEGORIES:Episcopal,Green Mountain Online Abbey
ATTACH;FMTTYPE=image/png:https://vecncc.org/wp-content/uploads/2025/01/Screen-Shot-2021-01-07-at-3.40.48-PM-orfXbY.tmp_.png
END:VEVENT
BEGIN:VEVENT
DTSTART;TZID=America/New_York:20250809T200000
DTEND;TZID=America/New_York:20250809T203000
DTSTAMP:20260423T184754
CREATED:20250801T210210Z
LAST-MODIFIED:20250801T210210Z
UID:23029-1754769600-1754771400@vecncc.org
SUMMARY:Evening Prayer with Green Mountain Abbey
DESCRIPTION:The Green Mountain Online Abbey provides a daily offering of online prayer at 8:00 a.m. and 8:00 p.m. Monday through Saturday and 8:00 p.m. Sunday.\nPlease visit the Green Mountain Online Abbey page for more information including call-in instructions and bulletin downloads.
URL:https://vecncc.org/event/evening-prayer-with-green-mountain-abbey-213/
LOCATION:Online
CATEGORIES:Episcopal,Green Mountain Online Abbey
ATTACH;FMTTYPE=image/png:https://vecncc.org/wp-content/uploads/2025/01/Screen-Shot-2021-01-07-at-3.40.48-PM-orfXbY.tmp_.png
END:VEVENT
BEGIN:VEVENT
DTSTART;TZID=America/New_York:20250810T200000
DTEND;TZID=America/New_York:20250810T203000
DTSTAMP:20260423T184754
CREATED:20250801T210210Z
LAST-MODIFIED:20250801T210210Z
UID:23030-1754856000-1754857800@vecncc.org
SUMMARY:Evening Prayer with Green Mountain Abbey
DESCRIPTION:The Green Mountain Online Abbey provides a daily offering of online prayer at 8:00 a.m. and 8:00 p.m. Monday through Saturday and 8:00 p.m. Sunday.\nPlease visit the Green Mountain Online Abbey page for more information including call-in instructions and bulletin downloads.
URL:https://vecncc.org/event/evening-prayer-with-green-mountain-abbey-214/
LOCATION:Online
CATEGORIES:Episcopal,Green Mountain Online Abbey
ATTACH;FMTTYPE=image/png:https://vecncc.org/wp-content/uploads/2025/01/Screen-Shot-2021-01-07-at-3.40.48-PM-orfXbY.tmp_.png
END:VEVENT
BEGIN:VEVENT
DTSTART;TZID=America/New_York:20250811T080000
DTEND;TZID=America/New_York:20250811T083000
DTSTAMP:20260423T184754
CREATED:20250801T210211Z
LAST-MODIFIED:20250801T210211Z
UID:23031-1754899200-1754901000@vecncc.org
SUMMARY:Morning Prayer with Green Mountain Abbey
DESCRIPTION:The Green Mountain Online Abbey provides a daily offering of online prayer at 8:00 a.m. and 8:00 p.m. Monday through Saturday and 8:00 p.m. Sunday.\nPlease visit the Green Mountain Online Abbey page for more information including call-in instructions and bulletin downloads.
URL:https://vecncc.org/event/morning-prayer-with-green-mountain-abbey-183/
LOCATION:Online
CATEGORIES:Episcopal,Green Mountain Online Abbey
ATTACH;FMTTYPE=image/png:https://vecncc.org/wp-content/uploads/2025/01/Screen-Shot-2021-01-07-at-3.40.48-PM-orfXbY.tmp_.png
END:VEVENT
BEGIN:VEVENT
DTSTART;TZID=America/New_York:20250811T200000
DTEND;TZID=America/New_York:20250811T203000
DTSTAMP:20260423T184754
CREATED:20250801T210211Z
LAST-MODIFIED:20250801T210211Z
UID:23032-1754942400-1754944200@vecncc.org
SUMMARY:Evening Prayer with Green Mountain Abbey
DESCRIPTION:The Green Mountain Online Abbey provides a daily offering of online prayer at 8:00 a.m. and 8:00 p.m. Monday through Saturday and 8:00 p.m. Sunday.\nPlease visit the Green Mountain Online Abbey page for more information including call-in instructions and bulletin downloads.
URL:https://vecncc.org/event/evening-prayer-with-green-mountain-abbey-215/
LOCATION:Online
CATEGORIES:Episcopal,Green Mountain Online Abbey
ATTACH;FMTTYPE=image/png:https://vecncc.org/wp-content/uploads/2025/01/Screen-Shot-2021-01-07-at-3.40.48-PM-orfXbY.tmp_.png
END:VEVENT
BEGIN:VEVENT
DTSTART;TZID=America/New_York:20250812T080000
DTEND;TZID=America/New_York:20250812T083000
DTSTAMP:20260423T184754
CREATED:20250801T210212Z
LAST-MODIFIED:20250801T210212Z
UID:23033-1754985600-1754987400@vecncc.org
SUMMARY:Morning Prayer with Green Mountain Abbey
DESCRIPTION:The Green Mountain Online Abbey provides a daily offering of online prayer at 8:00 a.m. and 8:00 p.m. Monday through Saturday and 8:00 p.m. Sunday.\nPlease visit the Green Mountain Online Abbey page for more information including call-in instructions and bulletin downloads.
URL:https://vecncc.org/event/morning-prayer-with-green-mountain-abbey-184/
LOCATION:Online
CATEGORIES:Episcopal,Green Mountain Online Abbey
ATTACH;FMTTYPE=image/png:https://vecncc.org/wp-content/uploads/2025/01/Screen-Shot-2021-01-07-at-3.40.48-PM-orfXbY.tmp_.png
END:VEVENT
BEGIN:VEVENT
DTSTART;TZID=America/New_York:20250812T200000
DTEND;TZID=America/New_York:20250812T203000
DTSTAMP:20260423T184754
CREATED:20250801T210212Z
LAST-MODIFIED:20250801T210212Z
UID:23034-1755028800-1755030600@vecncc.org
SUMMARY:Evening Prayer with Green Mountain Abbey
DESCRIPTION:The Green Mountain Online Abbey provides a daily offering of online prayer at 8:00 a.m. and 8:00 p.m. Monday through Saturday and 8:00 p.m. Sunday.\nPlease visit the Green Mountain Online Abbey page for more information including call-in instructions and bulletin downloads.
URL:https://vecncc.org/event/evening-prayer-with-green-mountain-abbey-216/
LOCATION:Online
CATEGORIES:Episcopal,Green Mountain Online Abbey
ATTACH;FMTTYPE=image/png:https://vecncc.org/wp-content/uploads/2025/01/Screen-Shot-2021-01-07-at-3.40.48-PM-orfXbY.tmp_.png
END:VEVENT
BEGIN:VEVENT
DTSTART;TZID=America/New_York:20250813T080000
DTEND;TZID=America/New_York:20250813T083000
DTSTAMP:20260423T184754
CREATED:20250801T210213Z
LAST-MODIFIED:20250801T210213Z
UID:23035-1755072000-1755073800@vecncc.org
SUMMARY:Morning Prayer with Green Mountain Abbey
DESCRIPTION:The Green Mountain Online Abbey provides a daily offering of online prayer at 8:00 a.m. and 8:00 p.m. Monday through Saturday and 8:00 p.m. Sunday.\nPlease visit the Green Mountain Online Abbey page for more information including call-in instructions and bulletin downloads.
URL:https://vecncc.org/event/morning-prayer-with-green-mountain-abbey-185/
LOCATION:Online
CATEGORIES:Episcopal,Green Mountain Online Abbey
ATTACH;FMTTYPE=image/png:https://vecncc.org/wp-content/uploads/2025/01/Screen-Shot-2021-01-07-at-3.40.48-PM-orfXbY.tmp_.png
END:VEVENT
BEGIN:VEVENT
DTSTART;TZID=America/New_York:20250813T200000
DTEND;TZID=America/New_York:20250813T203000
DTSTAMP:20260423T184754
CREATED:20250801T210213Z
LAST-MODIFIED:20250801T210213Z
UID:23036-1755115200-1755117000@vecncc.org
SUMMARY:Evening Prayer with Green Mountain Abbey
DESCRIPTION:The Green Mountain Online Abbey provides a daily offering of online prayer at 8:00 a.m. and 8:00 p.m. Monday through Saturday and 8:00 p.m. Sunday.\nPlease visit the Green Mountain Online Abbey page for more information including call-in instructions and bulletin downloads.
URL:https://vecncc.org/event/evening-prayer-with-green-mountain-abbey-217/
LOCATION:Online
CATEGORIES:Episcopal,Green Mountain Online Abbey
ATTACH;FMTTYPE=image/png:https://vecncc.org/wp-content/uploads/2025/01/Screen-Shot-2021-01-07-at-3.40.48-PM-orfXbY.tmp_.png
END:VEVENT
BEGIN:VEVENT
DTSTART;TZID=America/New_York:20250814T080000
DTEND;TZID=America/New_York:20250814T083000
DTSTAMP:20260423T184754
CREATED:20250801T210214Z
LAST-MODIFIED:20250801T210214Z
UID:23037-1755158400-1755160200@vecncc.org
SUMMARY:Morning Prayer with Green Mountain Abbey
DESCRIPTION:The Green Mountain Online Abbey provides a daily offering of online prayer at 8:00 a.m. and 8:00 p.m. Monday through Saturday and 8:00 p.m. Sunday.\nPlease visit the Green Mountain Online Abbey page for more information including call-in instructions and bulletin downloads.
URL:https://vecncc.org/event/morning-prayer-with-green-mountain-abbey-186/
LOCATION:Online
CATEGORIES:Episcopal,Green Mountain Online Abbey
ATTACH;FMTTYPE=image/png:https://vecncc.org/wp-content/uploads/2025/01/Screen-Shot-2021-01-07-at-3.40.48-PM-orfXbY.tmp_.png
END:VEVENT
BEGIN:VEVENT
DTSTART;TZID=America/New_York:20250814T200000
DTEND;TZID=America/New_York:20250814T203000
DTSTAMP:20260423T184754
CREATED:20250801T210214Z
LAST-MODIFIED:20250801T210214Z
UID:23038-1755201600-1755203400@vecncc.org
SUMMARY:Evening Prayer with Green Mountain Abbey
DESCRIPTION:The Green Mountain Online Abbey provides a daily offering of online prayer at 8:00 a.m. and 8:00 p.m. Monday through Saturday and 8:00 p.m. Sunday.\nPlease visit the Green Mountain Online Abbey page for more information including call-in instructions and bulletin downloads.
URL:https://vecncc.org/event/evening-prayer-with-green-mountain-abbey-218/
LOCATION:Online
CATEGORIES:Episcopal,Green Mountain Online Abbey
ATTACH;FMTTYPE=image/png:https://vecncc.org/wp-content/uploads/2025/01/Screen-Shot-2021-01-07-at-3.40.48-PM-orfXbY.tmp_.png
END:VEVENT
BEGIN:VEVENT
DTSTART;TZID=America/New_York:20250815T080000
DTEND;TZID=America/New_York:20250815T083000
DTSTAMP:20260423T184754
CREATED:20250801T210214Z
LAST-MODIFIED:20250801T210214Z
UID:23039-1755244800-1755246600@vecncc.org
SUMMARY:Morning Prayer with Green Mountain Abbey
DESCRIPTION:The Green Mountain Online Abbey provides a daily offering of online prayer at 8:00 a.m. and 8:00 p.m. Monday through Saturday and 8:00 p.m. Sunday.\nPlease visit the Green Mountain Online Abbey page for more information including call-in instructions and bulletin downloads.
URL:https://vecncc.org/event/morning-prayer-with-green-mountain-abbey-187/
LOCATION:Online
CATEGORIES:Episcopal,Green Mountain Online Abbey
ATTACH;FMTTYPE=image/png:https://vecncc.org/wp-content/uploads/2025/01/Screen-Shot-2021-01-07-at-3.40.48-PM-orfXbY.tmp_.png
END:VEVENT
BEGIN:VEVENT
DTSTART;TZID=America/New_York:20250815T200000
DTEND;TZID=America/New_York:20250815T203000
DTSTAMP:20260423T184754
CREATED:20250801T210215Z
LAST-MODIFIED:20250801T210215Z
UID:23040-1755288000-1755289800@vecncc.org
SUMMARY:Evening Prayer with Green Mountain Abbey
DESCRIPTION:The Green Mountain Online Abbey provides a daily offering of online prayer at 8:00 a.m. and 8:00 p.m. Monday through Saturday and 8:00 p.m. Sunday.\nPlease visit the Green Mountain Online Abbey page for more information including call-in instructions and bulletin downloads.
URL:https://vecncc.org/event/evening-prayer-with-green-mountain-abbey-219/
LOCATION:Online
CATEGORIES:Episcopal,Green Mountain Online Abbey
ATTACH;FMTTYPE=image/png:https://vecncc.org/wp-content/uploads/2025/01/Screen-Shot-2021-01-07-at-3.40.48-PM-orfXbY.tmp_.png
END:VEVENT
BEGIN:VEVENT
DTSTART;TZID=America/New_York:20250816T080000
DTEND;TZID=America/New_York:20250816T083000
DTSTAMP:20260423T184754
CREATED:20250801T210215Z
LAST-MODIFIED:20250801T210215Z
UID:23041-1755331200-1755333000@vecncc.org
SUMMARY:Morning Prayer with Green Mountain Abbey
DESCRIPTION:The Green Mountain Online Abbey provides a daily offering of online prayer at 8:00 a.m. and 8:00 p.m. Monday through Saturday and 8:00 p.m. Sunday.\nPlease visit the Green Mountain Online Abbey page for more information including call-in instructions and bulletin downloads.
URL:https://vecncc.org/event/morning-prayer-with-green-mountain-abbey-188/
LOCATION:Online
CATEGORIES:Episcopal,Green Mountain Online Abbey
ATTACH;FMTTYPE=image/png:https://vecncc.org/wp-content/uploads/2025/01/Screen-Shot-2021-01-07-at-3.40.48-PM-orfXbY.tmp_.png
END:VEVENT
BEGIN:VEVENT
DTSTART;TZID=America/New_York:20250816T200000
DTEND;TZID=America/New_York:20250816T203000
DTSTAMP:20260423T184754
CREATED:20250808T210226Z
LAST-MODIFIED:20250808T210226Z
UID:23058-1755374400-1755376200@vecncc.org
SUMMARY:Evening Prayer with Green Mountain Abbey
DESCRIPTION:The Green Mountain Online Abbey provides a daily offering of online prayer at 8:00 a.m. and 8:00 p.m. Monday through Saturday and 8:00 p.m. Sunday.\nPlease visit the Green Mountain Online Abbey page for more information including call-in instructions and bulletin downloads.
URL:https://vecncc.org/event/evening-prayer-with-green-mountain-abbey-220/
LOCATION:Online
CATEGORIES:Episcopal,Green Mountain Online Abbey
ATTACH;FMTTYPE=image/png:https://vecncc.org/wp-content/uploads/2025/01/Screen-Shot-2021-01-07-at-3.40.48-PM-orfXbY.tmp_.png
END:VEVENT
BEGIN:VEVENT
DTSTART;TZID=America/New_York:20250817T200000
DTEND;TZID=America/New_York:20250817T203000
DTSTAMP:20260423T184754
CREATED:20250808T210226Z
LAST-MODIFIED:20250808T210226Z
UID:23059-1755460800-1755462600@vecncc.org
SUMMARY:Evening Prayer with Green Mountain Abbey
DESCRIPTION:The Green Mountain Online Abbey provides a daily offering of online prayer at 8:00 a.m. and 8:00 p.m. Monday through Saturday and 8:00 p.m. Sunday.\nPlease visit the Green Mountain Online Abbey page for more information including call-in instructions and bulletin downloads.
URL:https://vecncc.org/event/evening-prayer-with-green-mountain-abbey-221/
LOCATION:Online
CATEGORIES:Episcopal,Green Mountain Online Abbey
ATTACH;FMTTYPE=image/png:https://vecncc.org/wp-content/uploads/2025/01/Screen-Shot-2021-01-07-at-3.40.48-PM-orfXbY.tmp_.png
END:VEVENT
BEGIN:VEVENT
DTSTART;TZID=America/New_York:20250818T080000
DTEND;TZID=America/New_York:20250818T083000
DTSTAMP:20260423T184754
CREATED:20250808T210227Z
LAST-MODIFIED:20250808T210227Z
UID:23060-1755504000-1755505800@vecncc.org
SUMMARY:Morning Prayer with Green Mountain Abbey
DESCRIPTION:The Green Mountain Online Abbey provides a daily offering of online prayer at 8:00 a.m. and 8:00 p.m. Monday through Saturday and 8:00 p.m. Sunday.\nPlease visit the Green Mountain Online Abbey page for more information including call-in instructions and bulletin downloads.
URL:https://vecncc.org/event/morning-prayer-with-green-mountain-abbey-189/
LOCATION:Online
CATEGORIES:Episcopal,Green Mountain Online Abbey
ATTACH;FMTTYPE=image/png:https://vecncc.org/wp-content/uploads/2025/01/Screen-Shot-2021-01-07-at-3.40.48-PM-orfXbY.tmp_.png
END:VEVENT
END:VCALENDAR