BEGIN:VCALENDAR
VERSION:2.0
PRODID:-//VECNCC - ECPv6.15.11//NONSGML v1.0//EN
CALSCALE:GREGORIAN
METHOD:PUBLISH
X-WR-CALNAME:VECNCC
X-ORIGINAL-URL:https://vecncc.org
X-WR-CALDESC:Events for VECNCC
REFRESH-INTERVAL;VALUE=DURATION:PT1H
X-Robots-Tag:noindex
X-PUBLISHED-TTL:PT1H
BEGIN:VTIMEZONE
TZID:America/New_York
BEGIN:DAYLIGHT
TZOFFSETFROM:-0500
TZOFFSETTO:-0400
TZNAME:EDT
DTSTART:20240310T070000
END:DAYLIGHT
BEGIN:STANDARD
TZOFFSETFROM:-0400
TZOFFSETTO:-0500
TZNAME:EST
DTSTART:20241103T060000
END:STANDARD
BEGIN:DAYLIGHT
TZOFFSETFROM:-0500
TZOFFSETTO:-0400
TZNAME:EDT
DTSTART:20250309T070000
END:DAYLIGHT
BEGIN:STANDARD
TZOFFSETFROM:-0400
TZOFFSETTO:-0500
TZNAME:EST
DTSTART:20251102T060000
END:STANDARD
BEGIN:DAYLIGHT
TZOFFSETFROM:-0500
TZOFFSETTO:-0400
TZNAME:EDT
DTSTART:20260308T070000
END:DAYLIGHT
BEGIN:STANDARD
TZOFFSETFROM:-0400
TZOFFSETTO:-0500
TZNAME:EST
DTSTART:20261101T060000
END:STANDARD
END:VTIMEZONE
BEGIN:VEVENT
DTSTART;TZID=America/New_York:20250309T150000
DTEND;TZID=America/New_York:20250309T160000
DTSTAMP:20260423T134455
CREATED:20250228T013257Z
LAST-MODIFIED:20250228T013257Z
UID:22141-1741532400-1741536000@vecncc.org
SUMMARY:Rite of Election & Call to Continuing Conversion
DESCRIPTION:The Rite of Election and Call to Continuing Conversion will be celebrated by Bishop McDermott on the First Sunday at Lent at the Cathedral of Saint Joseph in Burlington. During this rite\, the Church “elects” those seeking full initiation into the Church through Baptism\, Confirmation\, and Eucharist at Easter. The Church also recognizes those already-baptized Christians seeking full initiation into the Catholic Church and pledges the support of prayer as they journey toward Full Communion in the Catholic Church.\nFriends and family of those participating in the Rite of Election and Call to Continuing Conversion and all the faithful from around the diocese are invited to celebrate with us.\nA reception follows the liturgy for all who attend.
URL:https://vecncc.org/event/rite-of-election-call-to-continuing-conversion/
CATEGORIES:Catholic,Liturgy
ATTACH;FMTTYPE=image/jpeg:https://vecncc.org/wp-content/uploads/2025/02/CROP_LR_Rite-of-Election-18-AegnOW.tmp_.jpg
ORGANIZER;CN="Josh Perry":MAILTO:jperry@vermontcatholic.org
END:VEVENT
END:VCALENDAR