BEGIN:VCALENDAR
VERSION:2.0
PRODID:-//VECNCC - ECPv6.15.11//NONSGML v1.0//EN
CALSCALE:GREGORIAN
METHOD:PUBLISH
X-WR-CALNAME:VECNCC
X-ORIGINAL-URL:https://vecncc.org
X-WR-CALDESC:Events for VECNCC
REFRESH-INTERVAL;VALUE=DURATION:PT1H
X-Robots-Tag:noindex
X-PUBLISHED-TTL:PT1H
BEGIN:VTIMEZONE
TZID:America/New_York
BEGIN:DAYLIGHT
TZOFFSETFROM:-0500
TZOFFSETTO:-0400
TZNAME:EDT
DTSTART:20240310T070000
END:DAYLIGHT
BEGIN:STANDARD
TZOFFSETFROM:-0400
TZOFFSETTO:-0500
TZNAME:EST
DTSTART:20241103T060000
END:STANDARD
BEGIN:DAYLIGHT
TZOFFSETFROM:-0500
TZOFFSETTO:-0400
TZNAME:EDT
DTSTART:20250309T070000
END:DAYLIGHT
BEGIN:STANDARD
TZOFFSETFROM:-0400
TZOFFSETTO:-0500
TZNAME:EST
DTSTART:20251102T060000
END:STANDARD
BEGIN:DAYLIGHT
TZOFFSETFROM:-0500
TZOFFSETTO:-0400
TZNAME:EDT
DTSTART:20260308T070000
END:DAYLIGHT
BEGIN:STANDARD
TZOFFSETFROM:-0400
TZOFFSETTO:-0500
TZNAME:EST
DTSTART:20261101T060000
END:STANDARD
END:VTIMEZONE
BEGIN:VEVENT
DTSTART;TZID=America/New_York:20250201T100000
DTEND;TZID=America/New_York:20250201T120000
DTSTAMP:20260423T035622
CREATED:20250124T013242Z
LAST-MODIFIED:20250124T013242Z
UID:21923-1738404000-1738411200@vecncc.org
SUMMARY:Grieving with Great Hope
DESCRIPTION:Grief Workshop at St. Catherine’s Parish:\nWe are blessed to be able to offer this workshop AGAIN at St. Catherine of Siena Parish (72 Church Street\, Shelburne\, VT)\, which will be facilitated by parishioner Tom Bonnette.\nTo Register: Call 802-985-2373 or email stcatherineofsiena@vermontcatholic.org (with your name/home parish) to reserve your spot.\nThis year\, the Grief Workshop will begin with a KICK-OFF SOCIAL on Saturday\, Jan. 25 at 5 PM in the parish hall right after the 4 PM Mass. It will give you a chance to get to know your peers before the workshop starts. Please bring a picture of your loved one(s) and their obituary to share if you are able.\nGrieving With Great Hope is a bereavement program based on Catholic teachings\, developed by Good Mourning Ministries (GMM) and presented on the FORMED website. It offers: Prayerful\, Practical\, and Personal Grief Support. It is appropriate whether you lost a loved one recently or long ago.\nThe program consists of five weekly sessions. Each session will include watching a video\, time for personal reflection\, and small group sharing. All conversations are confidential and no one may share in discussion outside of session. You will receive a participant workbook and a journal with great content to help guide you to healing.\nHere are the session topics & dates: (meets 10 AM to Noon in the parish hall)\n–Session One: (Saturday\, Feb. 1\, 2025)\nGrieving with Great Hope-Stories of loss and HOPE\n–Session Two: (Saturday\, Feb. 8\, 2025)\nEntering the Valley-An introduction to grief\, mourning\, and theories\n–Session Three: (Saturday\, Feb. 15\, 2025)\nThe Journey Through-Emotions\, Forgiveness\, and the Seven Intentions of Mourning\n–Session Four: (Saturday\, Feb. 22\, 2025)\nChoosing to Move Forward-Aspects of Grief\, Year of Firsts\, and Rituals\n–Session Five: (Saturday\, March 1\, 2025)/reception will follow\nJesus Wept-Fr. John Riccardo\, Exposition of the Blessed Sacrament\, Litany of the Saints
URL:https://vecncc.org/event/grieving-with-great-hope/
LOCATION:St. Catherine of Siena Parish Hall – Shelburne\, 72 Church St\, Shelburne\, VT\, United States
CATEGORIES:Catholic,ministry
ATTACH;FMTTYPE=image/png:https://vecncc.org/wp-content/uploads/2025/01/Grieving-with-great-hope-7wmTsS.tmp_.png
ORGANIZER;CN="St. Catherine of Siena Parish":MAILTO:stcatherineofsiena@vermontcatholic.org
END:VEVENT
BEGIN:VEVENT
DTSTART;TZID=America/New_York:20250207T183000
DTEND;TZID=America/New_York:20250207T210000
DTSTAMP:20260423T035623
CREATED:20250124T013245Z
LAST-MODIFIED:20250124T013245Z
UID:21931-1738953000-1738962000@vecncc.org
SUMMARY:Alpha Film Series at SJV Church
DESCRIPTION:Alpha is a series of interactive sessions to discuss life and faith in an informal\, fun\, and friendly environment. All are invited\, no matter their background or beliefs. It is free\, and there is no pressure to come back. Each of the sessions begins with a meal\, followed by a brief video on a broad question of the Christian faith. Guests are encouraged to participate in a small group discussion and share their views on the topic. It’s a place to connect with people and a place where you can say anything you like or nothing at all.\n \nThis series takes place every Friday\, beginning November 8 at 6:30 PM and going through February 7\, inclusive. We will skip November 29\, and the Friday\, December 20 session has been moved to Wednesday\, December 18.
URL:https://vecncc.org/event/alpha-film-series-at-sjv-church-5/
LOCATION:VT
CATEGORIES:Catholic,ministry
ORGANIZER;CN="Connie McDonald":MAILTO:SJVGoodNews@gmail.com
END:VEVENT
BEGIN:VEVENT
DTSTART;TZID=America/New_York:20250208T100000
DTEND;TZID=America/New_York:20250208T120000
DTSTAMP:20260423T035623
CREATED:20250124T013245Z
LAST-MODIFIED:20250124T013245Z
UID:21933-1739008800-1739016000@vecncc.org
SUMMARY:Grieving with Great Hope
DESCRIPTION:Grief Workshop at St. Catherine’s Parish:\nWe are blessed to be able to offer this workshop AGAIN at St. Catherine of Siena Parish (72 Church Street\, Shelburne\, VT)\, which will be facilitated by parishioner Tom Bonnette.\nTo Register: Call 802-985-2373 or email stcatherineofsiena@vermontcatholic.org (with your name/home parish) to reserve your spot.\nThis year\, the Grief Workshop will begin with a KICK-OFF SOCIAL on Saturday\, Jan. 25 at 5 PM in the parish hall right after the 4 PM Mass. It will give you a chance to get to know your peers before the workshop starts. Please bring a picture of your loved one(s) and their obituary to share if you are able.\nGrieving With Great Hope is a bereavement program based on Catholic teachings\, developed by Good Mourning Ministries (GMM) and presented on the FORMED website. It offers: Prayerful\, Practical\, and Personal Grief Support. It is appropriate whether you lost a loved one recently or long ago.\nThe program consists of five weekly sessions. Each session will include watching a video\, time for personal reflection\, and small group sharing. All conversations are confidential and no one may share in discussion outside of session. You will receive a participant workbook and a journal with great content to help guide you to healing.\nHere are the session topics & dates: (meets 10 AM to Noon in the parish hall)\n–Session One: (Saturday\, Feb. 1\, 2025)\nGrieving with Great Hope-Stories of loss and HOPE\n–Session Two: (Saturday\, Feb. 8\, 2025)\nEntering the Valley-An introduction to grief\, mourning\, and theories\n–Session Three: (Saturday\, Feb. 15\, 2025)\nThe Journey Through-Emotions\, Forgiveness\, and the Seven Intentions of Mourning\n–Session Four: (Saturday\, Feb. 22\, 2025)\nChoosing to Move Forward-Aspects of Grief\, Year of Firsts\, and Rituals\n–Session Five: (Saturday\, March 1\, 2025)/reception will follow\nJesus Wept-Fr. John Riccardo\, Exposition of the Blessed Sacrament\, Litany of the Saints
URL:https://vecncc.org/event/grieving-with-great-hope-2/
LOCATION:St. Catherine of Siena Parish Hall – Shelburne\, 72 Church St\, Shelburne\, VT\, United States
CATEGORIES:Catholic,ministry
ATTACH;FMTTYPE=image/png:https://vecncc.org/wp-content/uploads/2025/01/Grieving-with-great-hope-7wmTsS.tmp_.png
ORGANIZER;CN="St. Catherine of Siena Parish":MAILTO:stcatherineofsiena@vermontcatholic.org
END:VEVENT
BEGIN:VEVENT
DTSTART;TZID=America/New_York:20250212T180000
DTEND;TZID=America/New_York:20250212T190000
DTSTAMP:20260423T035623
CREATED:20250131T013225Z
LAST-MODIFIED:20250131T013225Z
UID:21965-1739383200-1739386800@vecncc.org
SUMMARY:Grief Ministry and Support
DESCRIPTION:A time of openness regarding the loss of a loved one. As a Deacon of the Catholic Church\, I am willing to accompany you during your times of trial. Here\, to listen to your desires and needs.
URL:https://vecncc.org/event/grief-ministry-and-support/
LOCATION:All Saints Church – Richford\, 152 Main St\, Richford\, VT\, United States
CATEGORIES:Catholic,ministry
ATTACH;FMTTYPE=image/png:https://vecncc.org/wp-content/uploads/2025/01/Diocesan-Header-Picture-5LKuaM.tmp_.png
ORGANIZER;CN="Deacon Armand Auclair":MAILTO:deaconarmandauclair@gmail.com
END:VEVENT
BEGIN:VEVENT
DTSTART;TZID=America/New_York:20250215T100000
DTEND;TZID=America/New_York:20250215T120000
DTSTAMP:20260423T035623
CREATED:20250207T013228Z
LAST-MODIFIED:20250207T013228Z
UID:22004-1739613600-1739620800@vecncc.org
SUMMARY:Grieving with Great Hope
DESCRIPTION:Grief Workshop at St. Catherine’s Parish:\nWe are blessed to be able to offer this workshop AGAIN at St. Catherine of Siena Parish (72 Church Street\, Shelburne\, VT)\, which will be facilitated by parishioner Tom Bonnette.\nTo Register: Call 802-985-2373 or email stcatherineofsiena@vermontcatholic.org (with your name/home parish) to reserve your spot.\nThis year\, the Grief Workshop will begin with a KICK-OFF SOCIAL on Saturday\, Jan. 25 at 5 PM in the parish hall right after the 4 PM Mass. It will give you a chance to get to know your peers before the workshop starts. Please bring a picture of your loved one(s) and their obituary to share if you are able.\nGrieving With Great Hope is a bereavement program based on Catholic teachings\, developed by Good Mourning Ministries (GMM) and presented on the FORMED website. It offers: Prayerful\, Practical\, and Personal Grief Support. It is appropriate whether you lost a loved one recently or long ago.\nThe program consists of five weekly sessions. Each session will include watching a video\, time for personal reflection\, and small group sharing. All conversations are confidential and no one may share in discussion outside of session. You will receive a participant workbook and a journal with great content to help guide you to healing.\nHere are the session topics & dates: (meets 10 AM to Noon in the parish hall)\n–Session One: (Saturday\, Feb. 1\, 2025)\nGrieving with Great Hope-Stories of loss and HOPE\n–Session Two: (Saturday\, Feb. 8\, 2025)\nEntering the Valley-An introduction to grief\, mourning\, and theories\n–Session Three: (Saturday\, Feb. 15\, 2025)\nThe Journey Through-Emotions\, Forgiveness\, and the Seven Intentions of Mourning\n–Session Four: (Saturday\, Feb. 22\, 2025)\nChoosing to Move Forward-Aspects of Grief\, Year of Firsts\, and Rituals\n–Session Five: (Saturday\, March 1\, 2025)/reception will follow\nJesus Wept-Fr. John Riccardo\, Exposition of the Blessed Sacrament\, Litany of the Saints
URL:https://vecncc.org/event/grieving-with-great-hope-3/
LOCATION:St. Catherine of Siena Parish Hall – Shelburne\, 72 Church St\, Shelburne\, VT\, United States
CATEGORIES:Catholic,ministry
ATTACH;FMTTYPE=image/png:https://vecncc.org/wp-content/uploads/2025/01/Grieving-with-great-hope-7wmTsS.tmp_.png
ORGANIZER;CN="St. Catherine of Siena Parish":MAILTO:stcatherineofsiena@vermontcatholic.org
END:VEVENT
BEGIN:VEVENT
DTSTART;TZID=America/New_York:20250222T100000
DTEND;TZID=America/New_York:20250222T120000
DTSTAMP:20260423T035623
CREATED:20250214T013257Z
LAST-MODIFIED:20250214T013257Z
UID:22052-1740218400-1740225600@vecncc.org
SUMMARY:Grieving with Great Hope
DESCRIPTION:Grief Workshop at St. Catherine’s Parish:\nWe are blessed to be able to offer this workshop AGAIN at St. Catherine of Siena Parish (72 Church Street\, Shelburne\, VT)\, which will be facilitated by parishioner Tom Bonnette.\nTo Register: Call 802-985-2373 or email stcatherineofsiena@vermontcatholic.org (with your name/home parish) to reserve your spot.\nThis year\, the Grief Workshop will begin with a KICK-OFF SOCIAL on Saturday\, Jan. 25 at 5 PM in the parish hall right after the 4 PM Mass. It will give you a chance to get to know your peers before the workshop starts. Please bring a picture of your loved one(s) and their obituary to share if you are able.\nGrieving With Great Hope is a bereavement program based on Catholic teachings\, developed by Good Mourning Ministries (GMM) and presented on the FORMED website. It offers: Prayerful\, Practical\, and Personal Grief Support. It is appropriate whether you lost a loved one recently or long ago.\nThe program consists of five weekly sessions. Each session will include watching a video\, time for personal reflection\, and small group sharing. All conversations are confidential and no one may share in discussion outside of session. You will receive a participant workbook and a journal with great content to help guide you to healing.\nHere are the session topics & dates: (meets 10 AM to Noon in the parish hall)\n–Session One: (Saturday\, Feb. 1\, 2025)\nGrieving with Great Hope-Stories of loss and HOPE\n–Session Two: (Saturday\, Feb. 8\, 2025)\nEntering the Valley-An introduction to grief\, mourning\, and theories\n–Session Three: (Saturday\, Feb. 15\, 2025)\nThe Journey Through-Emotions\, Forgiveness\, and the Seven Intentions of Mourning\n–Session Four: (Saturday\, Feb. 22\, 2025)\nChoosing to Move Forward-Aspects of Grief\, Year of Firsts\, and Rituals\n–Session Five: (Saturday\, March 1\, 2025)/reception will follow\nJesus Wept-Fr. John Riccardo\, Exposition of the Blessed Sacrament\, Litany of the Saints
URL:https://vecncc.org/event/grieving-with-great-hope-4/
LOCATION:St. Catherine of Siena Parish Hall – Shelburne\, 72 Church St\, Shelburne\, VT\, United States
CATEGORIES:Catholic,ministry
ATTACH;FMTTYPE=image/png:https://vecncc.org/wp-content/uploads/2025/01/Grieving-with-great-hope-7wmTsS.tmp_.png
ORGANIZER;CN="St. Catherine of Siena Parish":MAILTO:stcatherineofsiena@vermontcatholic.org
END:VEVENT
BEGIN:VEVENT
DTSTART;TZID=America/New_York:20250224T190000
DTEND;TZID=America/New_York:20250224T200000
DTSTAMP:20260423T035623
CREATED:20250214T013300Z
LAST-MODIFIED:20250214T013300Z
UID:22057-1740423600-1740427200@vecncc.org
SUMMARY:Diocesan Lay Formation Information Webinar
DESCRIPTION:Diocesan Lay Formation Leadership Program: This program seeks to form laity to assist in leadership roles in their parishes. For example: in serving as RCIA leaders\, Catechists\, Pre-Cana\, leading evangelization efforts\, facilitating adult formation\, and helping build vibrant parishes\, etc. Key to this formation is inspiring and equipping the laity to serve and evangelize their parishes and communities as missionary disciples. This is a 2-year program that meets one Saturday a month in person\, with additional formation taking place via online courses. Contact: Dcn. Phil Lawson plawson@vermontcatholic.org\nMonday\, February 24th\, 2025 7PM\nRegistration Link: http://tiny.cc/2hv5001\nWednesday February 26th\, 2025 7PM\nRegistration Link: http://tiny.cc/6hv5001
URL:https://vecncc.org/event/diocesan-lay-formation-information-webinar/
LOCATION:VT
CATEGORIES:Catholic,ministry
ORGANIZER;CN="Deacon Phil Lawson":MAILTO:plawson@vermontcatholic.org
END:VEVENT
BEGIN:VEVENT
DTSTART;TZID=America/New_York:20250226T190000
DTEND;TZID=America/New_York:20250226T200000
DTSTAMP:20260423T035623
CREATED:20250214T013302Z
LAST-MODIFIED:20250214T013302Z
UID:22062-1740596400-1740600000@vecncc.org
SUMMARY:Diocesan Lay Formation Information Webinar
DESCRIPTION:Diocesan Lay Formation Leadership Program: This program seeks to form laity to assist in leadership roles in their parishes. For example: in serving as RCIA leaders\, Catechists\, Pre-Cana\, leading evangelization efforts\, facilitating adult formation\, and helping build vibrant parishes\, etc. Key to this formation is inspiring and equipping the laity to serve and evangelize their parishes and communities as missionary disciples. This is a 2-year program that meets one Saturday a month in person\, with additional formation taking place via online courses. Contact: Dcn. Phil Lawson plawson@vermontcatholic.org\nMonday\, February 24th\, 2025 7PM\nRegistration Link: http://tiny.cc/2hv5001\nWednesday February 26th\, 2025 7PM\nRegistration Link: http://tiny.cc/6hv5001
URL:https://vecncc.org/event/diocesan-lay-formation-information-webinar-2/
LOCATION:VT
CATEGORIES:Catholic,ministry
ORGANIZER;CN="Deacon Phil Lawson":MAILTO:plawson@vermontcatholic.org
END:VEVENT
END:VCALENDAR