BEGIN:VCALENDAR
VERSION:2.0
PRODID:-//VECNCC - ECPv6.15.11//NONSGML v1.0//EN
CALSCALE:GREGORIAN
METHOD:PUBLISH
X-WR-CALNAME:VECNCC
X-ORIGINAL-URL:https://vecncc.org
X-WR-CALDESC:Events for VECNCC
REFRESH-INTERVAL;VALUE=DURATION:PT1H
X-Robots-Tag:noindex
X-PUBLISHED-TTL:PT1H
BEGIN:VTIMEZONE
TZID:America/New_York
BEGIN:DAYLIGHT
TZOFFSETFROM:-0500
TZOFFSETTO:-0400
TZNAME:EDT
DTSTART:20240310T070000
END:DAYLIGHT
BEGIN:STANDARD
TZOFFSETFROM:-0400
TZOFFSETTO:-0500
TZNAME:EST
DTSTART:20241103T060000
END:STANDARD
BEGIN:DAYLIGHT
TZOFFSETFROM:-0500
TZOFFSETTO:-0400
TZNAME:EDT
DTSTART:20250309T070000
END:DAYLIGHT
BEGIN:STANDARD
TZOFFSETFROM:-0400
TZOFFSETTO:-0500
TZNAME:EST
DTSTART:20251102T060000
END:STANDARD
BEGIN:DAYLIGHT
TZOFFSETFROM:-0500
TZOFFSETTO:-0400
TZNAME:EDT
DTSTART:20260308T070000
END:DAYLIGHT
BEGIN:STANDARD
TZOFFSETFROM:-0400
TZOFFSETTO:-0500
TZNAME:EST
DTSTART:20261101T060000
END:STANDARD
END:VTIMEZONE
BEGIN:VEVENT
DTSTART;TZID=America/New_York:20250301T100000
DTEND;TZID=America/New_York:20250301T120000
DTSTAMP:20260423T004654
CREATED:20250221T013306Z
LAST-MODIFIED:20250221T013306Z
UID:22092-1740823200-1740830400@vecncc.org
SUMMARY:Grieving with Great Hope
DESCRIPTION:Grief Workshop at St. Catherine’s Parish:\nWe are blessed to be able to offer this workshop AGAIN at St. Catherine of Siena Parish (72 Church Street\, Shelburne\, VT)\, which will be facilitated by parishioner Tom Bonnette.\nTo Register: Call 802-985-2373 or email stcatherineofsiena@vermontcatholic.org (with your name/home parish) to reserve your spot.\nThis year\, the Grief Workshop will begin with a KICK-OFF SOCIAL on Saturday\, Jan. 25 at 5 PM in the parish hall right after the 4 PM Mass. It will give you a chance to get to know your peers before the workshop starts. Please bring a picture of your loved one(s) and their obituary to share if you are able.\nGrieving With Great Hope is a bereavement program based on Catholic teachings\, developed by Good Mourning Ministries (GMM) and presented on the FORMED website. It offers: Prayerful\, Practical\, and Personal Grief Support. It is appropriate whether you lost a loved one recently or long ago.\nThe program consists of five weekly sessions. Each session will include watching a video\, time for personal reflection\, and small group sharing. All conversations are confidential and no one may share in discussion outside of session. You will receive a participant workbook and a journal with great content to help guide you to healing.\nHere are the session topics & dates: (meets 10 AM to Noon in the parish hall)\n–Session One: (Saturday\, Feb. 1\, 2025)\nGrieving with Great Hope-Stories of loss and HOPE\n–Session Two: (Saturday\, Feb. 8\, 2025)\nEntering the Valley-An introduction to grief\, mourning\, and theories\n–Session Three: (Saturday\, Feb. 15\, 2025)\nThe Journey Through-Emotions\, Forgiveness\, and the Seven Intentions of Mourning\n–Session Four: (Saturday\, Feb. 22\, 2025)\nChoosing to Move Forward-Aspects of Grief\, Year of Firsts\, and Rituals\n–Session Five: (Saturday\, March 1\, 2025)/reception will follow\nJesus Wept-Fr. John Riccardo\, Exposition of the Blessed Sacrament\, Litany of the Saints
URL:https://vecncc.org/event/grieving-with-great-hope-5/
LOCATION:St. Catherine of Siena Parish Hall – Shelburne\, 72 Church St\, Shelburne\, VT\, United States
CATEGORIES:Catholic,ministry
ATTACH;FMTTYPE=image/png:https://vecncc.org/wp-content/uploads/2025/01/Grieving-with-great-hope-7wmTsS.tmp_.png
ORGANIZER;CN="St. Catherine of Siena Parish":MAILTO:stcatherineofsiena@vermontcatholic.org
END:VEVENT
BEGIN:VEVENT
DTSTART;TZID=America/New_York:20250312T180000
DTEND;TZID=America/New_York:20250312T190000
DTSTAMP:20260423T004654
CREATED:20250307T013228Z
LAST-MODIFIED:20250307T013228Z
UID:22170-1741802400-1741806000@vecncc.org
SUMMARY:Grief Ministry and Support
DESCRIPTION:A time of openness regarding the loss of a loved one. As a Deacon of the Catholic Church\, I am willing to accompany you during your times of trial. Here\, to listen to your desires and needs.
URL:https://vecncc.org/event/grief-ministry-and-support-2/
LOCATION:All Saints Church – Richford\, 152 Main St\, Richford\, VT\, United States
CATEGORIES:Catholic,ministry
ATTACH;FMTTYPE=image/png:https://vecncc.org/wp-content/uploads/2025/01/Diocesan-Header-Picture-5LKuaM.tmp_.png
ORGANIZER;CN="Deacon Armand Auclair":MAILTO:deaconarmandauclair@gmail.com
END:VEVENT
BEGIN:VEVENT
DTSTART;TZID=America/New_York:20250321T181500
DTEND;TZID=America/New_York:20250321T203000
DTSTAMP:20260423T004654
CREATED:20250321T013208Z
LAST-MODIFIED:20250321T013208Z
UID:22247-1742580900-1742589000@vecncc.org
SUMMARY:Alpha Film Series at SJV Church
DESCRIPTION:Alpha is a series of interactive sessions to discuss life and faith in an informal\, fun\, and friendly environment. All are invited\, no matter their background or beliefs. It is free\, and there is no pressure to come back. Each of the sessions begins with a meal\, followed by a brief video on a broad question of the Christian faith. Guests are encouraged to participate in a small group discussion and share their views on the topic. It’s a place to connect with people and a place where you can say anything you like or nothing at all.\nThis series takes place every Friday\, beginning March 21 at 6:15 PM.
URL:https://vecncc.org/event/alpha-film-series-at-sjv-church-6/
LOCATION:St. John Vianney Church – South Burlington\, 160 Hinesburg Rd\, South Burlington\, VT\, United States
CATEGORIES:Catholic,ministry
ORGANIZER;CN="Connie McDonald":MAILTO:SJVGoodNews@gmail.com
END:VEVENT
BEGIN:VEVENT
DTSTART;TZID=America/New_York:20250322T090000
DTEND;TZID=America/New_York:20250322T141500
DTSTAMP:20260423T004654
CREATED:20250321T013209Z
LAST-MODIFIED:20250321T013209Z
UID:22249-1742634000-1742652900@vecncc.org
SUMMARY:Vermont Catholic Men's Conference
DESCRIPTION:Location will be Our Lady of Angels Church\, Randolph\, VT\nThe Keynote speaker will be our Vicar General\, Fr. Yvon Royer.\nRegistration Fee: Adults over 18: $30 / College Students: $15 / Young Adults 18 and under: Free with a paid accompanying adult.\nFor more information contact Deacon Armand Auclair at: aauclair@vermontcatholic.org
URL:https://vecncc.org/event/vermont-catholic-mens-conference/
LOCATION:Our Lady of Angels – Randolph\, 43 Hebard Hill Rd\, Randolph\, VT\, United States
CATEGORIES:Catholic,ministry
ATTACH;FMTTYPE=image/jpeg:https://vecncc.org/wp-content/uploads/2025/03/Catholic_Mens_Conference_2025_event-y0cfPt.tmp_.jpg
END:VEVENT
BEGIN:VEVENT
DTSTART;TZID=America/New_York:20250328T181500
DTEND;TZID=America/New_York:20250328T203000
DTSTAMP:20260423T004654
CREATED:20250321T013218Z
LAST-MODIFIED:20250321T013218Z
UID:22270-1743185700-1743193800@vecncc.org
SUMMARY:Alpha Film Series at SJV Church
DESCRIPTION:Alpha is a series of interactive sessions to discuss life and faith in an informal\, fun\, and friendly environment. All are invited\, no matter their background or beliefs. It is free\, and there is no pressure to come back. Each of the sessions begins with a meal\, followed by a brief video on a broad question of the Christian faith. Guests are encouraged to participate in a small group discussion and share their views on the topic. It’s a place to connect with people and a place where you can say anything you like or nothing at all.\nThis series takes place every Friday\, beginning March 21 at 6:15 PM.
URL:https://vecncc.org/event/alpha-film-series-at-sjv-church-7/
LOCATION:St. John Vianney Church – South Burlington\, 160 Hinesburg Rd\, South Burlington\, VT\, United States
CATEGORIES:Catholic,ministry
ORGANIZER;CN="Connie McDonald":MAILTO:SJVGoodNews@gmail.com
END:VEVENT
END:VCALENDAR