BEGIN:VCALENDAR
VERSION:2.0
PRODID:-//VECNCC - ECPv6.15.11//NONSGML v1.0//EN
CALSCALE:GREGORIAN
METHOD:PUBLISH
X-WR-CALNAME:VECNCC
X-ORIGINAL-URL:https://vecncc.org
X-WR-CALDESC:Events for VECNCC
REFRESH-INTERVAL;VALUE=DURATION:PT1H
X-Robots-Tag:noindex
X-PUBLISHED-TTL:PT1H
BEGIN:VTIMEZONE
TZID:America/New_York
BEGIN:DAYLIGHT
TZOFFSETFROM:-0500
TZOFFSETTO:-0400
TZNAME:EDT
DTSTART:20240310T070000
END:DAYLIGHT
BEGIN:STANDARD
TZOFFSETFROM:-0400
TZOFFSETTO:-0500
TZNAME:EST
DTSTART:20241103T060000
END:STANDARD
BEGIN:DAYLIGHT
TZOFFSETFROM:-0500
TZOFFSETTO:-0400
TZNAME:EDT
DTSTART:20250309T070000
END:DAYLIGHT
BEGIN:STANDARD
TZOFFSETFROM:-0400
TZOFFSETTO:-0500
TZNAME:EST
DTSTART:20251102T060000
END:STANDARD
BEGIN:DAYLIGHT
TZOFFSETFROM:-0500
TZOFFSETTO:-0400
TZNAME:EDT
DTSTART:20260308T070000
END:DAYLIGHT
BEGIN:STANDARD
TZOFFSETFROM:-0400
TZOFFSETTO:-0500
TZNAME:EST
DTSTART:20261101T060000
END:STANDARD
END:VTIMEZONE
BEGIN:VEVENT
DTSTART;TZID=America/New_York:20250502T181500
DTEND;TZID=America/New_York:20250502T203000
DTSTAMP:20260422T213741
CREATED:20250418T014720Z
LAST-MODIFIED:20250418T014720Z
UID:22452-1746209700-1746217800@vecncc.org
SUMMARY:Alpha Film Series at SJV Church
DESCRIPTION:Alpha is a series of interactive sessions to discuss life and faith in an informal\, fun\, and friendly environment. All are invited\, no matter their background or beliefs. It is free\, and there is no pressure to come back. Each of the sessions begins with a meal\, followed by a brief video on a broad question of the Christian faith. Guests are encouraged to participate in a small group discussion and share their views on the topic. It’s a place to connect with people and a place where you can say anything you like or nothing at all.\nThis series takes place every Friday\, beginning March 21 at 6:15 PM.
URL:https://vecncc.org/event/alpha-film-series-at-sjv-church-12/
LOCATION:St. John Vianney Church – South Burlington\, 160 Hinesburg Rd\, South Burlington\, VT\, United States
CATEGORIES:Catholic,ministry
ORGANIZER;CN="Connie McDonald":MAILTO:SJVGoodNews@gmail.com
END:VEVENT
BEGIN:VEVENT
DTSTART;TZID=America/New_York:20250509T181500
DTEND;TZID=America/New_York:20250509T203000
DTSTAMP:20260422T213741
CREATED:20250425T014754Z
LAST-MODIFIED:20250425T014754Z
UID:22488-1746814500-1746822600@vecncc.org
SUMMARY:Alpha Film Series at SJV Church
DESCRIPTION:Alpha is a series of interactive sessions to discuss life and faith in an informal\, fun\, and friendly environment. All are invited\, no matter their background or beliefs. It is free\, and there is no pressure to come back. Each of the sessions begins with a meal\, followed by a brief video on a broad question of the Christian faith. Guests are encouraged to participate in a small group discussion and share their views on the topic. It’s a place to connect with people and a place where you can say anything you like or nothing at all.\nThis series takes place every Friday\, beginning March 21 at 6:15 PM.
URL:https://vecncc.org/event/alpha-film-series-at-sjv-church-13/
LOCATION:St. John Vianney Church – South Burlington\, 160 Hinesburg Rd\, South Burlington\, VT\, United States
CATEGORIES:Catholic,ministry
ORGANIZER;CN="Connie McDonald":MAILTO:SJVGoodNews@gmail.com
END:VEVENT
BEGIN:VEVENT
DTSTART;TZID=America/New_York:20250514T180000
DTEND;TZID=America/New_York:20250514T190000
DTSTAMP:20260422T213741
CREATED:20250502T014847Z
LAST-MODIFIED:20250502T014847Z
UID:22516-1747245600-1747249200@vecncc.org
SUMMARY:Grief Ministry and Support
DESCRIPTION:A time of openness regarding the loss of a loved one. As a Deacon of the Catholic Church\, I am willing to accompany you during your times of trial. Here\, to listen to your desires and needs.
URL:https://vecncc.org/event/grief-ministry-and-support-4/
LOCATION:All Saints Church – Richford\, 152 Main St\, Richford\, VT\, United States
CATEGORIES:Catholic,ministry
ATTACH;FMTTYPE=image/png:https://vecncc.org/wp-content/uploads/2025/01/Diocesan-Header-Picture-5LKuaM.tmp_.png
ORGANIZER;CN="Deacon Armand Auclair":MAILTO:deaconarmandauclair@gmail.com
END:VEVENT
BEGIN:VEVENT
DTSTART;TZID=America/New_York:20250514T183000
DTEND;TZID=America/New_York:20250514T203000
DTSTAMP:20260422T213741
CREATED:20250502T014848Z
LAST-MODIFIED:20250502T014848Z
UID:22517-1747247400-1747254600@vecncc.org
SUMMARY:Series: What Would Jesus Do?
DESCRIPTION:What Would Jesus Do? \nForming the Christian Conscience Through Catholic Social Teaching \n \n“You have been told what is good and what the Lord requires of you: only to do justice and love goodness\, and to walk humbly with your God.” \nThe prophet Micah makes it sound so easy – but the world we live in can be a complicated place. Competing ideals and moral philosophies bombard us from every direction on a daily basis and sometimes make it hard to get a clear sense of what is right\, and what is wrong. How do we discern Justice and Goodness in this day and age? \nThe Social Teachings of the Catholic Church are built upon Holy Scripture and developed through the accumulated wisdom and example of the Saints\, teachers\, and spiritual leaders of the Church. It lays out some basic themes and principles that help develop our consciences and learn to better live together within society and among our sisters and brothers in Christ. \nJoin Deacon Josh McDonald in exploring the Seven Themes of Catholic Social Teaching and how they can apply to the issues\, challenges\, and difficulties of our world today. Wednesday evenings\, 6:30pm in the rectory of Our Lady of the Holy Rosary in Richmond. \n \nTheme 1 : Life and the Dignity of the Human Person.  \nTheme 2 : Call to Family\, Community\, and Participation. \nTheme 3 : Rights and Responsibilities. \nTheme 4 : Option for the Poor and Vulnerable. \nTheme 5 : Dignity of Work and the Rights of Workers. \nTheme 6 : Care for Creation. \nTheme 7 : Solidarity. 
URL:https://vecncc.org/event/series-what-would-jesus-do/
LOCATION:Our Lady of the Holy Rosary Church – Richmond\, 64 W Main St\, Richmond\, VT\, United States
CATEGORIES:Catholic,ministry,South
ATTACH;FMTTYPE=image/png:https://vecncc.org/wp-content/uploads/2025/05/n-bsCOPU.png
END:VEVENT
BEGIN:VEVENT
DTSTART;TZID=America/New_York:20250516T181500
DTEND;TZID=America/New_York:20250516T203000
DTSTAMP:20260422T213741
CREATED:20250502T014850Z
LAST-MODIFIED:20250502T014850Z
UID:22520-1747419300-1747427400@vecncc.org
SUMMARY:Alpha Film Series at SJV Church
DESCRIPTION:Alpha is a series of interactive sessions to discuss life and faith in an informal\, fun\, and friendly environment. All are invited\, no matter their background or beliefs. It is free\, and there is no pressure to come back. Each of the sessions begins with a meal\, followed by a brief video on a broad question of the Christian faith. Guests are encouraged to participate in a small group discussion and share their views on the topic. It’s a place to connect with people and a place where you can say anything you like or nothing at all.\nThis series takes place every Friday\, beginning March 21 at 6:15 PM.
URL:https://vecncc.org/event/alpha-film-series-at-sjv-church-14/
LOCATION:St. John Vianney Church – South Burlington\, 160 Hinesburg Rd\, South Burlington\, VT\, United States
CATEGORIES:Catholic,ministry
ORGANIZER;CN="Connie McDonald":MAILTO:SJVGoodNews@gmail.com
END:VEVENT
BEGIN:VEVENT
DTSTART;TZID=America/New_York:20250521T183000
DTEND;TZID=America/New_York:20250521T203000
DTSTAMP:20260422T213741
CREATED:20250509T014756Z
LAST-MODIFIED:20250509T014756Z
UID:22545-1747852200-1747859400@vecncc.org
SUMMARY:Series: What Would Jesus Do?
DESCRIPTION:What Would Jesus Do? \nForming the Christian Conscience Through Catholic Social Teaching \n \n“You have been told what is good and what the Lord requires of you: only to do justice and love goodness\, and to walk humbly with your God.” \nThe prophet Micah makes it sound so easy – but the world we live in can be a complicated place. Competing ideals and moral philosophies bombard us from every direction on a daily basis and sometimes make it hard to get a clear sense of what is right\, and what is wrong. How do we discern Justice and Goodness in this day and age? \nThe Social Teachings of the Catholic Church are built upon Holy Scripture and developed through the accumulated wisdom and example of the Saints\, teachers\, and spiritual leaders of the Church. It lays out some basic themes and principles that help develop our consciences and learn to better live together within society and among our sisters and brothers in Christ. \nJoin Deacon Josh McDonald in exploring the Seven Themes of Catholic Social Teaching and how they can apply to the issues\, challenges\, and difficulties of our world today. Wednesday evenings\, 6:30pm in the rectory of Our Lady of the Holy Rosary in Richmond. \n \nTheme 1 : Life and the Dignity of the Human Person.  \nTheme 2 : Call to Family\, Community\, and Participation. \nTheme 3 : Rights and Responsibilities. \nTheme 4 : Option for the Poor and Vulnerable. \nTheme 5 : Dignity of Work and the Rights of Workers. \nTheme 6 : Care for Creation. \nTheme 7 : Solidarity. 
URL:https://vecncc.org/event/series-what-would-jesus-do-2/
LOCATION:Our Lady of the Holy Rosary Church – Richmond\, 64 W Main St\, Richmond\, VT\, United States
CATEGORIES:Catholic,ministry,South
ATTACH;FMTTYPE=image/png:https://vecncc.org/wp-content/uploads/2025/05/n-bsCOPU.png
END:VEVENT
BEGIN:VEVENT
DTSTART;TZID=America/New_York:20250523T181500
DTEND;TZID=America/New_York:20250523T203000
DTSTAMP:20260422T213741
CREATED:20250509T014757Z
LAST-MODIFIED:20250509T014757Z
UID:22549-1748024100-1748032200@vecncc.org
SUMMARY:Alpha Film Series at SJV Church
DESCRIPTION:Alpha is a series of interactive sessions to discuss life and faith in an informal\, fun\, and friendly environment. All are invited\, no matter their background or beliefs. It is free\, and there is no pressure to come back. Each of the sessions begins with a meal\, followed by a brief video on a broad question of the Christian faith. Guests are encouraged to participate in a small group discussion and share their views on the topic. It’s a place to connect with people and a place where you can say anything you like or nothing at all.\nThis series takes place every Friday\, beginning March 21 at 6:15 PM.
URL:https://vecncc.org/event/alpha-film-series-at-sjv-church-15/
LOCATION:St. John Vianney Church – South Burlington\, 160 Hinesburg Rd\, South Burlington\, VT\, United States
CATEGORIES:Catholic,ministry
ORGANIZER;CN="Connie McDonald":MAILTO:SJVGoodNews@gmail.com
END:VEVENT
BEGIN:VEVENT
DTSTART;TZID=America/New_York:20250528T183000
DTEND;TZID=America/New_York:20250528T203000
DTSTAMP:20260422T213741
CREATED:20250509T014759Z
LAST-MODIFIED:20250509T014759Z
UID:22554-1748457000-1748464200@vecncc.org
SUMMARY:Series: What Would Jesus Do?
DESCRIPTION:What Would Jesus Do? \nForming the Christian Conscience Through Catholic Social Teaching \n \n“You have been told what is good and what the Lord requires of you: only to do justice and love goodness\, and to walk humbly with your God.” \nThe prophet Micah makes it sound so easy – but the world we live in can be a complicated place. Competing ideals and moral philosophies bombard us from every direction on a daily basis and sometimes make it hard to get a clear sense of what is right\, and what is wrong. How do we discern Justice and Goodness in this day and age? \nThe Social Teachings of the Catholic Church are built upon Holy Scripture and developed through the accumulated wisdom and example of the Saints\, teachers\, and spiritual leaders of the Church. It lays out some basic themes and principles that help develop our consciences and learn to better live together within society and among our sisters and brothers in Christ. \nJoin Deacon Josh McDonald in exploring the Seven Themes of Catholic Social Teaching and how they can apply to the issues\, challenges\, and difficulties of our world today. Wednesday evenings\, 6:30pm in the rectory of Our Lady of the Holy Rosary in Richmond. \n \nTheme 1 : Life and the Dignity of the Human Person.  \nTheme 2 : Call to Family\, Community\, and Participation. \nTheme 3 : Rights and Responsibilities. \nTheme 4 : Option for the Poor and Vulnerable. \nTheme 5 : Dignity of Work and the Rights of Workers. \nTheme 6 : Care for Creation. \nTheme 7 : Solidarity. 
URL:https://vecncc.org/event/series-what-would-jesus-do-3/
LOCATION:Our Lady of the Holy Rosary Church – Richmond\, 64 W Main St\, Richmond\, VT\, United States
CATEGORIES:Catholic,ministry,South
ATTACH;FMTTYPE=image/png:https://vecncc.org/wp-content/uploads/2025/05/n-bsCOPU.png
END:VEVENT
BEGIN:VEVENT
DTSTART;TZID=America/New_York:20250530T181500
DTEND;TZID=America/New_York:20250530T203000
DTSTAMP:20260422T213741
CREATED:20250516T015008Z
LAST-MODIFIED:20250516T015008Z
UID:22576-1748628900-1748637000@vecncc.org
SUMMARY:Alpha Film Series at SJV Church
DESCRIPTION:Alpha is a series of interactive sessions to discuss life and faith in an informal\, fun\, and friendly environment. All are invited\, no matter their background or beliefs. It is free\, and there is no pressure to come back. Each of the sessions begins with a meal\, followed by a brief video on a broad question of the Christian faith. Guests are encouraged to participate in a small group discussion and share their views on the topic. It’s a place to connect with people and a place where you can say anything you like or nothing at all.\nThis series takes place every Friday\, beginning March 21 at 6:15 PM.
URL:https://vecncc.org/event/alpha-film-series-at-sjv-church-16/
LOCATION:St. John Vianney Church – South Burlington\, 160 Hinesburg Rd\, South Burlington\, VT\, United States
CATEGORIES:Catholic,ministry
ORGANIZER;CN="Connie McDonald":MAILTO:SJVGoodNews@gmail.com
END:VEVENT
END:VCALENDAR