BEGIN:VCALENDAR
VERSION:2.0
PRODID:-//VECNCC - ECPv6.15.11//NONSGML v1.0//EN
CALSCALE:GREGORIAN
METHOD:PUBLISH
X-WR-CALNAME:VECNCC
X-ORIGINAL-URL:https://vecncc.org
X-WR-CALDESC:Events for VECNCC
REFRESH-INTERVAL;VALUE=DURATION:PT1H
X-Robots-Tag:noindex
X-PUBLISHED-TTL:PT1H
BEGIN:VTIMEZONE
TZID:America/New_York
BEGIN:DAYLIGHT
TZOFFSETFROM:-0500
TZOFFSETTO:-0400
TZNAME:EDT
DTSTART:20240310T070000
END:DAYLIGHT
BEGIN:STANDARD
TZOFFSETFROM:-0400
TZOFFSETTO:-0500
TZNAME:EST
DTSTART:20241103T060000
END:STANDARD
BEGIN:DAYLIGHT
TZOFFSETFROM:-0500
TZOFFSETTO:-0400
TZNAME:EDT
DTSTART:20250309T070000
END:DAYLIGHT
BEGIN:STANDARD
TZOFFSETFROM:-0400
TZOFFSETTO:-0500
TZNAME:EST
DTSTART:20251102T060000
END:STANDARD
BEGIN:DAYLIGHT
TZOFFSETFROM:-0500
TZOFFSETTO:-0400
TZNAME:EDT
DTSTART:20260308T070000
END:DAYLIGHT
BEGIN:STANDARD
TZOFFSETFROM:-0400
TZOFFSETTO:-0500
TZNAME:EST
DTSTART:20261101T060000
END:STANDARD
END:VTIMEZONE
BEGIN:VEVENT
DTSTART;TZID=America/New_York:20250224T190000
DTEND;TZID=America/New_York:20250224T200000
DTSTAMP:20260423T022301
CREATED:20250214T013300Z
LAST-MODIFIED:20250214T013300Z
UID:22057-1740423600-1740427200@vecncc.org
SUMMARY:Diocesan Lay Formation Information Webinar
DESCRIPTION:Diocesan Lay Formation Leadership Program: This program seeks to form laity to assist in leadership roles in their parishes. For example: in serving as RCIA leaders\, Catechists\, Pre-Cana\, leading evangelization efforts\, facilitating adult formation\, and helping build vibrant parishes\, etc. Key to this formation is inspiring and equipping the laity to serve and evangelize their parishes and communities as missionary disciples. This is a 2-year program that meets one Saturday a month in person\, with additional formation taking place via online courses. Contact: Dcn. Phil Lawson plawson@vermontcatholic.org\nMonday\, February 24th\, 2025 7PM\nRegistration Link: http://tiny.cc/2hv5001\nWednesday February 26th\, 2025 7PM\nRegistration Link: http://tiny.cc/6hv5001
URL:https://vecncc.org/event/diocesan-lay-formation-information-webinar/
LOCATION:VT
CATEGORIES:Catholic,ministry
ORGANIZER;CN="Deacon Phil Lawson":MAILTO:plawson@vermontcatholic.org
END:VEVENT
END:VCALENDAR