BEGIN:VCALENDAR
VERSION:2.0
PRODID:-//VECNCC - ECPv6.15.11//NONSGML v1.0//EN
CALSCALE:GREGORIAN
METHOD:PUBLISH
X-ORIGINAL-URL:https://vecncc.org
X-WR-CALDESC:Events for VECNCC
REFRESH-INTERVAL;VALUE=DURATION:PT1H
X-Robots-Tag:noindex
X-PUBLISHED-TTL:PT1H
BEGIN:VTIMEZONE
TZID:America/New_York
BEGIN:DAYLIGHT
TZOFFSETFROM:-0500
TZOFFSETTO:-0400
TZNAME:EDT
DTSTART:20240310T070000
END:DAYLIGHT
BEGIN:STANDARD
TZOFFSETFROM:-0400
TZOFFSETTO:-0500
TZNAME:EST
DTSTART:20241103T060000
END:STANDARD
BEGIN:DAYLIGHT
TZOFFSETFROM:-0500
TZOFFSETTO:-0400
TZNAME:EDT
DTSTART:20250309T070000
END:DAYLIGHT
BEGIN:STANDARD
TZOFFSETFROM:-0400
TZOFFSETTO:-0500
TZNAME:EST
DTSTART:20251102T060000
END:STANDARD
BEGIN:DAYLIGHT
TZOFFSETFROM:-0500
TZOFFSETTO:-0400
TZNAME:EDT
DTSTART:20260308T070000
END:DAYLIGHT
BEGIN:STANDARD
TZOFFSETFROM:-0400
TZOFFSETTO:-0500
TZNAME:EST
DTSTART:20261101T060000
END:STANDARD
END:VTIMEZONE
BEGIN:VEVENT
DTSTART;TZID=America/New_York:20250322T090000
DTEND;TZID=America/New_York:20250322T141500
DTSTAMP:20260423T040049
CREATED:20250321T013209Z
LAST-MODIFIED:20250321T013209Z
UID:22249-1742634000-1742652900@vecncc.org
SUMMARY:Vermont Catholic Men's Conference
DESCRIPTION:Location will be Our Lady of Angels Church\, Randolph\, VT\nThe Keynote speaker will be our Vicar General\, Fr. Yvon Royer.\nRegistration Fee: Adults over 18: $30 / College Students: $15 / Young Adults 18 and under: Free with a paid accompanying adult.\nFor more information contact Deacon Armand Auclair at: aauclair@vermontcatholic.org
URL:https://vecncc.org/event/vermont-catholic-mens-conference/
LOCATION:Our Lady of Angels – Randolph\, 43 Hebard Hill Rd\, Randolph\, VT\, United States
CATEGORIES:Catholic,ministry
ATTACH;FMTTYPE=image/jpeg:https://vecncc.org/wp-content/uploads/2025/03/Catholic_Mens_Conference_2025_event-y0cfPt.tmp_.jpg
END:VEVENT
END:VCALENDAR