BEGIN:VCALENDAR
VERSION:2.0
PRODID:-//VECNCC - ECPv6.15.11//NONSGML v1.0//EN
CALSCALE:GREGORIAN
METHOD:PUBLISH
X-ORIGINAL-URL:https://vecncc.org
X-WR-CALDESC:Events for VECNCC
REFRESH-INTERVAL;VALUE=DURATION:PT1H
X-Robots-Tag:noindex
X-PUBLISHED-TTL:PT1H
BEGIN:VTIMEZONE
TZID:America/New_York
BEGIN:DAYLIGHT
TZOFFSETFROM:-0500
TZOFFSETTO:-0400
TZNAME:EDT
DTSTART:20240310T070000
END:DAYLIGHT
BEGIN:STANDARD
TZOFFSETFROM:-0400
TZOFFSETTO:-0500
TZNAME:EST
DTSTART:20241103T060000
END:STANDARD
BEGIN:DAYLIGHT
TZOFFSETFROM:-0500
TZOFFSETTO:-0400
TZNAME:EDT
DTSTART:20250309T070000
END:DAYLIGHT
BEGIN:STANDARD
TZOFFSETFROM:-0400
TZOFFSETTO:-0500
TZNAME:EST
DTSTART:20251102T060000
END:STANDARD
BEGIN:DAYLIGHT
TZOFFSETFROM:-0500
TZOFFSETTO:-0400
TZNAME:EDT
DTSTART:20260308T070000
END:DAYLIGHT
BEGIN:STANDARD
TZOFFSETFROM:-0400
TZOFFSETTO:-0500
TZNAME:EST
DTSTART:20261101T060000
END:STANDARD
END:VTIMEZONE
BEGIN:VEVENT
DTSTART;TZID=America/New_York:20250813T180000
DTEND;TZID=America/New_York:20250813T190000
DTSTAMP:20260423T023020
CREATED:20250718T023214Z
LAST-MODIFIED:20250718T023214Z
UID:22950-1755108000-1755111600@vecncc.org
SUMMARY:Grief Ministry and Support
DESCRIPTION:A time of openness regarding the loss of a loved one. As a Deacon of the Catholic Church\, I am willing to accompany you during your times of trial. Here\, to listen to your desires and needs.
URL:https://vecncc.org/event/grief-ministry-and-support-7/
LOCATION:All Saints Church – Richford\, 152 Main St\, Richford\, VT\, United States
CATEGORIES:Catholic,ministry
ATTACH;FMTTYPE=image/png:https://vecncc.org/wp-content/uploads/2025/01/Diocesan-Header-Picture-5LKuaM.tmp_.png
ORGANIZER;CN="Deacon Armand Auclair":MAILTO:deaconarmandauclair@gmail.com
END:VEVENT
BEGIN:VEVENT
DTSTART;TZID=America/New_York:20250910T181500
DTEND;TZID=America/New_York:20250910T203000
DTSTAMP:20260423T023020
CREATED:20250829T031714Z
LAST-MODIFIED:20250829T031714Z
UID:23134-1757528100-1757536200@vecncc.org
SUMMARY:Alpha Film Series
DESCRIPTION:Alpha is a series of interactive sessions to discuss life and faith in an informal\, fun\, and friendly environment. All are invited\, no matter their background or beliefs. It is free\, and there is no pressure to come back. Each of the sessions begins with a meal\, followed by a brief video on a broad question of the Christian faith. Guests are encouraged to participate in a small group discussion and share their views on the topic. It’s a place to connect with people and a place where you can say anything you like or nothing at all.\nFor more info\, https://stjohnvianneyvt.org/alpha or sjvgoodnews@gmail.com.
URL:https://vecncc.org/event/alpha-film-series/
LOCATION:St. John Vianney – South Burlington\, 160 Hinesburg Rd\, South Burlington\, VT\, United States
CATEGORIES:Catholic,ministry
ORGANIZER;CN="Connie McDonald":MAILTO:SJVGoodNews@gmail.com
END:VEVENT
BEGIN:VEVENT
DTSTART;TZID=America/New_York:20250917T181500
DTEND;TZID=America/New_York:20250917T203000
DTSTAMP:20260423T023020
CREATED:20250905T031713Z
LAST-MODIFIED:20250905T031713Z
UID:23162-1758132900-1758141000@vecncc.org
SUMMARY:Alpha Film Series
DESCRIPTION:Alpha is a series of interactive sessions to discuss life and faith in an informal\, fun\, and friendly environment. All are invited\, no matter their background or beliefs. It is free\, and there is no pressure to come back. Each of the sessions begins with a meal\, followed by a brief video on a broad question of the Christian faith. Guests are encouraged to participate in a small group discussion and share their views on the topic. It’s a place to connect with people and a place where you can say anything you like or nothing at all.\nFor more info\, https://stjohnvianneyvt.org/alpha or sjvgoodnews@gmail.com.
URL:https://vecncc.org/event/alpha-film-series-2/
LOCATION:St. John Vianney – South Burlington\, 160 Hinesburg Rd\, South Burlington\, VT\, United States
CATEGORIES:Catholic,ministry
ORGANIZER;CN="Connie McDonald":MAILTO:SJVGoodNews@gmail.com
END:VEVENT
BEGIN:VEVENT
DTSTART;TZID=America/New_York:20250924T181500
DTEND;TZID=America/New_York:20250924T203000
DTSTAMP:20260423T023020
CREATED:20250912T031718Z
LAST-MODIFIED:20250912T031718Z
UID:23196-1758737700-1758745800@vecncc.org
SUMMARY:Alpha Film Series
DESCRIPTION:Alpha is a series of interactive sessions to discuss life and faith in an informal\, fun\, and friendly environment. All are invited\, no matter their background or beliefs. It is free\, and there is no pressure to come back. Each of the sessions begins with a meal\, followed by a brief video on a broad question of the Christian faith. Guests are encouraged to participate in a small group discussion and share their views on the topic. It’s a place to connect with people and a place where you can say anything you like or nothing at all.\nFor more info\, https://stjohnvianneyvt.org/alpha or sjvgoodnews@gmail.com.
URL:https://vecncc.org/event/alpha-film-series-3/
LOCATION:St. John Vianney – South Burlington\, 160 Hinesburg Rd\, South Burlington\, VT\, United States
CATEGORIES:Catholic,ministry
ORGANIZER;CN="Connie McDonald":MAILTO:SJVGoodNews@gmail.com
END:VEVENT
BEGIN:VEVENT
DTSTART;TZID=America/New_York:20251001T181500
DTEND;TZID=America/New_York:20251001T203000
DTSTAMP:20260423T023020
CREATED:20250919T032335Z
LAST-MODIFIED:20250919T032335Z
UID:23233-1759342500-1759350600@vecncc.org
SUMMARY:Alpha Film Series
DESCRIPTION:Alpha is a series of interactive sessions to discuss life and faith in an informal\, fun\, and friendly environment. All are invited\, no matter their background or beliefs. It is free\, and there is no pressure to come back. Each of the sessions begins with a meal\, followed by a brief video on a broad question of the Christian faith. Guests are encouraged to participate in a small group discussion and share their views on the topic. It’s a place to connect with people and a place where you can say anything you like or nothing at all.\nFor more info\, https://stjohnvianneyvt.org/alpha or sjvgoodnews@gmail.com.
URL:https://vecncc.org/event/alpha-film-series-4/
LOCATION:St. John Vianney – South Burlington\, 160 Hinesburg Rd\, South Burlington\, VT\, United States
CATEGORIES:Catholic,ministry
ORGANIZER;CN="Connie McDonald":MAILTO:SJVGoodNews@gmail.com
END:VEVENT
BEGIN:VEVENT
DTSTART;TZID=America/New_York:20251008T181500
DTEND;TZID=America/New_York:20251008T203000
DTSTAMP:20260423T023020
CREATED:20251003T033732Z
LAST-MODIFIED:20251003T033732Z
UID:23299-1759947300-1759955400@vecncc.org
SUMMARY:Alpha Film Series
DESCRIPTION:Alpha is a series of interactive sessions to discuss life and faith in an informal\, fun\, and friendly environment. All are invited\, no matter their background or beliefs. It is free\, and there is no pressure to come back. Each of the sessions begins with a meal\, followed by a brief video on a broad question of the Christian faith. Guests are encouraged to participate in a small group discussion and share their views on the topic. It’s a place to connect with people and a place where you can say anything you like or nothing at all.\nFor more info\, https://stjohnvianneyvt.org/alpha or sjvgoodnews@gmail.com.
URL:https://vecncc.org/event/alpha-film-series-5/
LOCATION:St. John Vianney – South Burlington\, 160 Hinesburg Rd\, South Burlington\, VT\, United States
CATEGORIES:Catholic,ministry
ORGANIZER;CN="Connie McDonald":MAILTO:SJVGoodNews@gmail.com
END:VEVENT
BEGIN:VEVENT
DTSTART;TZID=America/New_York:20251015T181500
DTEND;TZID=America/New_York:20251015T203000
DTSTAMP:20260423T023020
CREATED:20251010T033746Z
LAST-MODIFIED:20251010T033746Z
UID:23352-1760552100-1760560200@vecncc.org
SUMMARY:Alpha Film Series
DESCRIPTION:Alpha is a series of interactive sessions to discuss life and faith in an informal\, fun\, and friendly environment. All are invited\, no matter their background or beliefs. It is free\, and there is no pressure to come back. Each of the sessions begins with a meal\, followed by a brief video on a broad question of the Christian faith. Guests are encouraged to participate in a small group discussion and share their views on the topic. It’s a place to connect with people and a place where you can say anything you like or nothing at all.\nFor more info\, https://stjohnvianneyvt.org/alpha or sjvgoodnews@gmail.com.
URL:https://vecncc.org/event/alpha-film-series-6/
LOCATION:St. John Vianney – South Burlington\, 160 Hinesburg Rd\, South Burlington\, VT\, United States
CATEGORIES:Catholic,ministry
ORGANIZER;CN="Connie McDonald":MAILTO:SJVGoodNews@gmail.com
END:VEVENT
BEGIN:VEVENT
DTSTART;TZID=America/New_York:20251022T181500
DTEND;TZID=America/New_York:20251022T203000
DTSTAMP:20260423T023020
CREATED:20251017T033736Z
LAST-MODIFIED:20251017T033736Z
UID:23394-1761156900-1761165000@vecncc.org
SUMMARY:Alpha Film Series
DESCRIPTION:Alpha is a series of interactive sessions to discuss life and faith in an informal\, fun\, and friendly environment. All are invited\, no matter their background or beliefs. It is free\, and there is no pressure to come back. Each of the sessions begins with a meal\, followed by a brief video on a broad question of the Christian faith. Guests are encouraged to participate in a small group discussion and share their views on the topic. It’s a place to connect with people and a place where you can say anything you like or nothing at all.\nFor more info\, https://stjohnvianneyvt.org/alpha or sjvgoodnews@gmail.com.
URL:https://vecncc.org/event/alpha-film-series-7/
LOCATION:St. John Vianney – South Burlington\, 160 Hinesburg Rd\, South Burlington\, VT\, United States
CATEGORIES:Catholic,ministry
ORGANIZER;CN="Connie McDonald":MAILTO:SJVGoodNews@gmail.com
END:VEVENT
BEGIN:VEVENT
DTSTART;TZID=America/New_York:20251029T181500
DTEND;TZID=America/New_York:20251029T203000
DTSTAMP:20260423T023020
CREATED:20251017T033746Z
LAST-MODIFIED:20251017T033746Z
UID:23409-1761761700-1761769800@vecncc.org
SUMMARY:Alpha Film Series
DESCRIPTION:Alpha is a series of interactive sessions to discuss life and faith in an informal\, fun\, and friendly environment. All are invited\, no matter their background or beliefs. It is free\, and there is no pressure to come back. Each of the sessions begins with a meal\, followed by a brief video on a broad question of the Christian faith. Guests are encouraged to participate in a small group discussion and share their views on the topic. It’s a place to connect with people and a place where you can say anything you like or nothing at all.\nFor more info\, https://stjohnvianneyvt.org/alpha or sjvgoodnews@gmail.com.
URL:https://vecncc.org/event/alpha-film-series-8/
LOCATION:St. John Vianney – South Burlington\, 160 Hinesburg Rd\, South Burlington\, VT\, United States
CATEGORIES:Catholic,ministry
ORGANIZER;CN="Connie McDonald":MAILTO:SJVGoodNews@gmail.com
END:VEVENT
BEGIN:VEVENT
DTSTART;TZID=America/New_York:20251105T181500
DTEND;TZID=America/New_York:20251105T203000
DTSTAMP:20260423T023020
CREATED:20251024T033741Z
LAST-MODIFIED:20251024T033741Z
UID:23447-1762366500-1762374600@vecncc.org
SUMMARY:Alpha Film Series
DESCRIPTION:Alpha is a series of interactive sessions to discuss life and faith in an informal\, fun\, and friendly environment. All are invited\, no matter their background or beliefs. It is free\, and there is no pressure to come back. Each of the sessions begins with a meal\, followed by a brief video on a broad question of the Christian faith. Guests are encouraged to participate in a small group discussion and share their views on the topic. It’s a place to connect with people and a place where you can say anything you like or nothing at all.\nFor more info\, https://stjohnvianneyvt.org/alpha or sjvgoodnews@gmail.com.
URL:https://vecncc.org/event/alpha-film-series-9/
LOCATION:St. John Vianney – South Burlington\, 160 Hinesburg Rd\, South Burlington\, VT\, United States
CATEGORIES:Catholic,ministry
ORGANIZER;CN="Connie McDonald":MAILTO:SJVGoodNews@gmail.com
END:VEVENT
BEGIN:VEVENT
DTSTART;TZID=America/New_York:20251112T181500
DTEND;TZID=America/New_York:20251112T203000
DTSTAMP:20260423T023020
CREATED:20251107T033800Z
LAST-MODIFIED:20251107T033800Z
UID:23508-1762971300-1762979400@vecncc.org
SUMMARY:Alpha Film Series
DESCRIPTION:Alpha is a series of interactive sessions to discuss life and faith in an informal\, fun\, and friendly environment. All are invited\, no matter their background or beliefs. It is free\, and there is no pressure to come back. Each of the sessions begins with a meal\, followed by a brief video on a broad question of the Christian faith. Guests are encouraged to participate in a small group discussion and share their views on the topic. It’s a place to connect with people and a place where you can say anything you like or nothing at all.\nFor more info\, https://stjohnvianneyvt.org/alpha or sjvgoodnews@gmail.com.
URL:https://vecncc.org/event/alpha-film-series-10/
LOCATION:St. John Vianney – South Burlington\, 160 Hinesburg Rd\, South Burlington\, VT\, United States
CATEGORIES:Catholic,ministry
ORGANIZER;CN="Connie McDonald":MAILTO:SJVGoodNews@gmail.com
END:VEVENT
BEGIN:VEVENT
DTSTART;TZID=America/New_York:20251119T181500
DTEND;TZID=America/New_York:20251119T203000
DTSTAMP:20260423T023020
CREATED:20251107T033808Z
LAST-MODIFIED:20251107T033808Z
UID:23523-1763576100-1763584200@vecncc.org
SUMMARY:Alpha Film Series
DESCRIPTION:Alpha is a series of interactive sessions to discuss life and faith in an informal\, fun\, and friendly environment. All are invited\, no matter their background or beliefs. It is free\, and there is no pressure to come back. Each of the sessions begins with a meal\, followed by a brief video on a broad question of the Christian faith. Guests are encouraged to participate in a small group discussion and share their views on the topic. It’s a place to connect with people and a place where you can say anything you like or nothing at all.\nFor more info\, https://stjohnvianneyvt.org/alpha or sjvgoodnews@gmail.com.
URL:https://vecncc.org/event/alpha-film-series-11/
LOCATION:St. John Vianney – South Burlington\, 160 Hinesburg Rd\, South Burlington\, VT\, United States
CATEGORIES:Catholic,ministry
ORGANIZER;CN="Connie McDonald":MAILTO:SJVGoodNews@gmail.com
END:VEVENT
END:VCALENDAR