BEGIN:VCALENDAR
VERSION:2.0
PRODID:-//VECNCC - ECPv6.15.11//NONSGML v1.0//EN
CALSCALE:GREGORIAN
METHOD:PUBLISH
X-ORIGINAL-URL:https://vecncc.org
X-WR-CALDESC:Events for VECNCC
REFRESH-INTERVAL;VALUE=DURATION:PT1H
X-Robots-Tag:noindex
X-PUBLISHED-TTL:PT1H
BEGIN:VTIMEZONE
TZID:America/New_York
BEGIN:DAYLIGHT
TZOFFSETFROM:-0500
TZOFFSETTO:-0400
TZNAME:EDT
DTSTART:20240310T070000
END:DAYLIGHT
BEGIN:STANDARD
TZOFFSETFROM:-0400
TZOFFSETTO:-0500
TZNAME:EST
DTSTART:20241103T060000
END:STANDARD
BEGIN:DAYLIGHT
TZOFFSETFROM:-0500
TZOFFSETTO:-0400
TZNAME:EDT
DTSTART:20250309T070000
END:DAYLIGHT
BEGIN:STANDARD
TZOFFSETFROM:-0400
TZOFFSETTO:-0500
TZNAME:EST
DTSTART:20251102T060000
END:STANDARD
BEGIN:DAYLIGHT
TZOFFSETFROM:-0500
TZOFFSETTO:-0400
TZNAME:EDT
DTSTART:20260308T070000
END:DAYLIGHT
BEGIN:STANDARD
TZOFFSETFROM:-0400
TZOFFSETTO:-0500
TZNAME:EST
DTSTART:20261101T060000
END:STANDARD
END:VTIMEZONE
BEGIN:VEVENT
DTSTART;TZID=America/New_York:20250305T120000
DTEND;TZID=America/New_York:20250305T130000
DTSTAMP:20260422T171952
CREATED:20250221T013309Z
LAST-MODIFIED:20250221T013309Z
UID:22103-1741176000-1741179600@vecncc.org
SUMMARY:Bible Study
DESCRIPTION:Interested in joining an informal bible study group? Our bible study meets at Holy Cross every Wednesday from noon to 1:00pm to discuss and discern how to put God’s Word into practice in our lives. If you have questions\, please call the parish office at 802-863-3002. All are welcome to join.
URL:https://vecncc.org/event/bible-study-8/
LOCATION:Holy Cross Church – Colchester\, 416 Church Rd\, Bristol\, VT\, United States
CATEGORIES:Catholic,Northeast
END:VEVENT
BEGIN:VEVENT
DTSTART;TZID=America/New_York:20250312T091500
DTEND;TZID=America/New_York:20250312T103000
DTSTAMP:20260422T171952
CREATED:20250307T013228Z
LAST-MODIFIED:20250307T013228Z
UID:22168-1741770900-1741775400@vecncc.org
SUMMARY:Jesus' Invitation
DESCRIPTION:After Mass coffee time from 9:15 to 10:30 a.m.\nJesus said to them\, “Come away by yourselves to a deserted place and rest a while.” Mark 6:31. It is to Jesus’ invitation that we will respond during these 4 encounters (or classes) during Lent. Lead by Louise Boisvert.\n· March 12th: Jesus Christ\, the “living book”: On Spiritual Reading for Lent\n· March 19th: St Joseph: Apostolic Letter PATRISCORDE of the Holy Father Francis\n· March 26nd: Necessity of Humility\n· April 2nd: Necessity of Silence
URL:https://vecncc.org/event/jesus-invitation/
LOCATION:Holy Family Church – Essex Junction\, 30 Lincoln St\, Essex Junction\, VT\, United States
CATEGORIES:Catholic,Northeast
END:VEVENT
BEGIN:VEVENT
DTSTART;TZID=America/New_York:20250312T120000
DTEND;TZID=America/New_York:20250312T130000
DTSTAMP:20260422T171952
CREATED:20250307T013228Z
LAST-MODIFIED:20250307T013228Z
UID:22169-1741780800-1741784400@vecncc.org
SUMMARY:Bible Study
DESCRIPTION:Interested in joining an informal bible study group? Our bible study meets at Holy Cross every Wednesday from noon to 1:00pm to discuss and discern how to put God’s Word into practice in our lives. If you have questions\, please call the parish office at 802-863-3002. All are welcome to join.
URL:https://vecncc.org/event/bible-study-9/
LOCATION:Holy Cross Church – Colchester\, 416 Church Rd\, Bristol\, VT\, United States
CATEGORIES:Catholic,Northeast
END:VEVENT
BEGIN:VEVENT
DTSTART;TZID=America/New_York:20250319T091500
DTEND;TZID=America/New_York:20250319T103000
DTSTAMP:20260422T171952
CREATED:20250314T013246Z
LAST-MODIFIED:20250314T013246Z
UID:22212-1742375700-1742380200@vecncc.org
SUMMARY:Jesus' Invitation
DESCRIPTION:After Mass coffee time from 9:15 to 10:30 a.m.\nJesus said to them\, “Come away by yourselves to a deserted place and rest a while.” Mark 6:31. It is to Jesus’ invitation that we will respond during these 4 encounters (or classes) during Lent. Lead by Louise Boisvert.\n· March 12th: Jesus Christ\, the “living book”: On Spiritual Reading for Lent\n· March 19th: St Joseph: Apostolic Letter PATRISCORDE of the Holy Father Francis\n· March 26nd: Necessity of Humility\n· April 2nd: Necessity of Silence
URL:https://vecncc.org/event/jesus-invitation-2/
LOCATION:Holy Family Church – Essex Junction\, 30 Lincoln St\, Essex Junction\, VT\, United States
CATEGORIES:Catholic,Northeast
END:VEVENT
BEGIN:VEVENT
DTSTART;TZID=America/New_York:20250319T120000
DTEND;TZID=America/New_York:20250319T130000
DTSTAMP:20260422T171952
CREATED:20250314T013246Z
LAST-MODIFIED:20250314T013246Z
UID:22213-1742385600-1742389200@vecncc.org
SUMMARY:Bible Study
DESCRIPTION:Interested in joining an informal bible study group? Our bible study meets at Holy Cross every Wednesday from noon to 1:00pm to discuss and discern how to put God’s Word into practice in our lives. If you have questions\, please call the parish office at 802-863-3002. All are welcome to join.
URL:https://vecncc.org/event/bible-study-10/
LOCATION:Holy Cross Church – Colchester\, 416 Church Rd\, Bristol\, VT\, United States
CATEGORIES:Catholic,Northeast
END:VEVENT
BEGIN:VEVENT
DTSTART;TZID=America/New_York:20250326T091500
DTEND;TZID=America/New_York:20250326T103000
DTSTAMP:20260422T171952
CREATED:20250321T013215Z
LAST-MODIFIED:20250321T013215Z
UID:22262-1742980500-1742985000@vecncc.org
SUMMARY:Jesus' Invitation
DESCRIPTION:After Mass coffee time from 9:15 to 10:30 a.m.\nJesus said to them\, “Come away by yourselves to a deserted place and rest a while.” Mark 6:31. It is to Jesus’ invitation that we will respond during these 4 encounters (or classes) during Lent. Lead by Louise Boisvert.\n· March 12th: Jesus Christ\, the “living book”: On Spiritual Reading for Lent\n· March 19th: St Joseph: Apostolic Letter PATRISCORDE of the Holy Father Francis\n· March 26nd: Necessity of Humility\n· April 2nd: Necessity of Silence
URL:https://vecncc.org/event/jesus-invitation-3/
LOCATION:Holy Family Church – Essex Junction\, 30 Lincoln St\, Essex Junction\, VT\, United States
CATEGORIES:Catholic,Northeast
END:VEVENT
BEGIN:VEVENT
DTSTART;TZID=America/New_York:20250326T120000
DTEND;TZID=America/New_York:20250326T130000
DTSTAMP:20260422T171952
CREATED:20250321T013216Z
LAST-MODIFIED:20250321T013216Z
UID:22263-1742990400-1742994000@vecncc.org
SUMMARY:Bible Study
DESCRIPTION:Interested in joining an informal bible study group? Our bible study meets at Holy Cross every Wednesday from noon to 1:00pm to discuss and discern how to put God’s Word into practice in our lives. If you have questions\, please call the parish office at 802-863-3002. All are welcome to join.
URL:https://vecncc.org/event/bible-study-11/
LOCATION:Holy Cross Church – Colchester\, 416 Church Rd\, Bristol\, VT\, United States
CATEGORIES:Catholic,Northeast
END:VEVENT
BEGIN:VEVENT
DTSTART;TZID=America/New_York:20250330T160000
DTEND;TZID=America/New_York:20250330T180000
DTSTAMP:20260422T171952
CREATED:20250328T013219Z
LAST-MODIFIED:20250328T013219Z
UID:22301-1743350400-1743357600@vecncc.org
SUMMARY:Burlington Baroque – Lenten Meditations: BACH & HIS PREDECESSORS
DESCRIPTION:This program\, performed by the distinguished vocal soloists and instrumentalists of L’Harmonie des saisons and the Burlington Baroque Festival Singers\, directed by Eric Milnes\, features music written for the season of Lent by Johann Sebastian Bach\, Dietrich Buxtehude\, and Johann Christoph Bach. J.S. Bach is considered one of the greatest composers of all time\, his monumental position among European composers of the 18th century influencing all composers to follow. Alongside Handel and Vivaldi his works represent the pinnacle of Baroque Music to audiences even 300 years later. And yet\, Bach did not emerge monolithically from a musical vacuum without forebears and influences. We see from an early work like his Cantata #4 (written when he was 22 years old) the direct impact composers before him had on his style and expressionism. Buxtehude was a composer and mentor that Bach walked hundreds of miles to study with. J.C. Bach was an elder cousin among many distinguished related composers and church musicians in the region. The young Bach had numerous works of Buxtehude and J. C. Bach in his library\, painstakingly copied out by hand in order to fully understand and synthesize their work. In presenting this program Burlington Baroque offers listeners the rare opportunity to hear extraordinary sacred music from late 17th century Germany and to gain a greater appreciation for how a genius like Bach could emerge from his cultural heritage and attain the extraordinary acclaim the world would accord him.\nFor more information\, visit burlingtonbaroque.org.\nAll Select\, Premier\, and General Seating Tickets for purchase are located on the Orchestra Level.\nVENUE INFORMATION\nCathedral Church of St. Paul\n2 Cherry Street\nBurlington\, VT 05401
URL:https://vecncc.org/event/burlington-baroque-lenten-meditations-bach-his-predecessors/
LOCATION:VT
CATEGORIES:Catholic,Northeast
ATTACH;FMTTYPE=image/jpeg:https://vecncc.org/wp-content/uploads/2025/03/New-Web-Header-LJBufS.tmp_.jpg
END:VEVENT
END:VCALENDAR