BEGIN:VCALENDAR
VERSION:2.0
PRODID:-//VECNCC - ECPv6.15.11//NONSGML v1.0//EN
CALSCALE:GREGORIAN
METHOD:PUBLISH
X-WR-CALNAME:VECNCC
X-ORIGINAL-URL:https://vecncc.org
X-WR-CALDESC:Events for VECNCC
REFRESH-INTERVAL;VALUE=DURATION:PT1H
X-Robots-Tag:noindex
X-PUBLISHED-TTL:PT1H
BEGIN:VTIMEZONE
TZID:America/New_York
BEGIN:DAYLIGHT
TZOFFSETFROM:-0500
TZOFFSETTO:-0400
TZNAME:EDT
DTSTART:20240310T070000
END:DAYLIGHT
BEGIN:STANDARD
TZOFFSETFROM:-0400
TZOFFSETTO:-0500
TZNAME:EST
DTSTART:20241103T060000
END:STANDARD
BEGIN:DAYLIGHT
TZOFFSETFROM:-0500
TZOFFSETTO:-0400
TZNAME:EDT
DTSTART:20250309T070000
END:DAYLIGHT
BEGIN:STANDARD
TZOFFSETFROM:-0400
TZOFFSETTO:-0500
TZNAME:EST
DTSTART:20251102T060000
END:STANDARD
BEGIN:DAYLIGHT
TZOFFSETFROM:-0500
TZOFFSETTO:-0400
TZNAME:EDT
DTSTART:20260308T070000
END:DAYLIGHT
BEGIN:STANDARD
TZOFFSETFROM:-0400
TZOFFSETTO:-0500
TZNAME:EST
DTSTART:20261101T060000
END:STANDARD
END:VTIMEZONE
BEGIN:VEVENT
DTSTART;TZID=America/New_York:20250803T150000
DTEND;TZID=America/New_York:20250803T163000
DTSTAMP:20260422T110153
CREATED:20250704T023225Z
LAST-MODIFIED:20250704T023225Z
UID:22864-1754233200-1754238600@vecncc.org
SUMMARY:Eucharistic Healing Service
DESCRIPTION:Father Lance W. Harlow will conduct a Eucharistic Healing Service at 3:00pm at St. Pius X in Essex Center. There will be Adoration of the Most Blessed Sacrament along with praying over by Father Harlow.
URL:https://vecncc.org/event/eucharistic-healing-service-6/
LOCATION:St. Pius X – Essex\, 20 Jericho Rd\, Essex Junction\, VT\, United States
CATEGORIES:Catholic,Northeast
END:VEVENT
BEGIN:VEVENT
DTSTART;TZID=America/New_York:20250806T120000
DTEND;TZID=America/New_York:20250806T130000
DTSTAMP:20260422T110153
CREATED:20250711T023217Z
LAST-MODIFIED:20250711T023217Z
UID:22908-1754481600-1754485200@vecncc.org
SUMMARY:Bible Study
DESCRIPTION:Interested in joining an informal bible study group? Our bible study meets at Holy Cross every Wednesday from noon to 1:00pm to discuss and discern how to put God’s Word into practice in our lives. If you have questions\, please call the parish office at 802-863-3002. All are welcome to join.
URL:https://vecncc.org/event/bible-study-30/
LOCATION:Holy Cross Church – Colchester\, 416 Church Rd\, Bristol\, VT\, United States
CATEGORIES:Catholic,Northeast
END:VEVENT
BEGIN:VEVENT
DTSTART;TZID=America/New_York:20250809T173000
DTEND;TZID=America/New_York:20250809T193000
DTSTAMP:20260422T110153
CREATED:20250718T023212Z
LAST-MODIFIED:20250718T023212Z
UID:22946-1754760600-1754767800@vecncc.org
SUMMARY:Feast of St. Lawrence Celebration
DESCRIPTION:FEAST OF ST. LAWRENCE CELEBRATION\nSaturday\, August 9 @ 5:30 pm\nHoly Family parish hall\nCome join us as we celebrate our patron saint. Mass at 4:00pm celebrated by Bishop McDermott to take place at St. Lawrence Church followed by a dinner at Holy Family Hall at 5:30 pm. The menu will be salad\, barbeque chicken and salmon\, corn on the cob\, Fr. Charlie’s homemade baked beans\, and birthday cake (it is the pastor’s 80th birthday). The “steward of the year” award will be announced at the dinner. Everyone is invited. PLEASE RSVP BY CONTACTING THE PARISH OFFICE AT 802 878-5331
URL:https://vecncc.org/event/feast-of-st-lawrence-celebration/
LOCATION:Holy Family Parish Hall\, 28 Lincoln St\, Essex Junction\, VT\, United States
CATEGORIES:Catholic,Northeast
END:VEVENT
BEGIN:VEVENT
DTSTART;TZID=America/New_York:20250813T120000
DTEND;TZID=America/New_York:20250813T130000
DTSTAMP:20260422T110153
CREATED:20250718T023213Z
LAST-MODIFIED:20250718T023213Z
UID:22949-1755086400-1755090000@vecncc.org
SUMMARY:Bible Study
DESCRIPTION:Interested in joining an informal bible study group? Our bible study meets at Holy Cross every Wednesday from noon to 1:00pm to discuss and discern how to put God’s Word into practice in our lives. If you have questions\, please call the parish office at 802-863-3002. All are welcome to join.
URL:https://vecncc.org/event/bible-study-31/
LOCATION:Holy Cross Church – Colchester\, 416 Church Rd\, Bristol\, VT\, United States
CATEGORIES:Catholic,Northeast
END:VEVENT
BEGIN:VEVENT
DTSTART;TZID=America/New_York:20250814T170000
DTEND;TZID=America/New_York:20250814T183000
DTSTAMP:20260422T110153
CREATED:20250725T023216Z
LAST-MODIFIED:20250725T023216Z
UID:22992-1755190800-1755196200@vecncc.org
SUMMARY:Chicken Pie Supper
DESCRIPTION:Seatings at 5:00 pm and 6:30 pm. Chicken Pie\, Baked Beans\, Casseroles\, Goulash\, Cranberry Sauce\, Cole Slaw\, Veggies\, Rolls\, and choice of homemade pie for dessert. Gluten free available. Take outs available. Sponsored by Catholic Daughters Court St. Veronica #1273 and co-sponsored by Catholic Financial Life Chapter St. Jean. Catholic Financial Life will match a portion of the net proceeds to benefit Mary Queen of All Saints Parish.
URL:https://vecncc.org/event/chicken-pie-supper/
LOCATION:St. Michael Church – Greensboro Bend\, 271 The Bend Rd\, Greensboro Bend\, VT\, United States
CATEGORIES:Catholic,Northeast
ATTACH;FMTTYPE=image/jpeg:https://vecncc.org/wp-content/uploads/2025/07/Middle-table-scaled-oq5skU.jpg
ORGANIZER;CN="Catholic Daughters of the Americas #1273 and Catholic Financial Life Chapter St. Jean":MAILTO:cfli443@gmtmom.com
END:VEVENT
BEGIN:VEVENT
DTSTART;TZID=America/New_York:20250820T120000
DTEND;TZID=America/New_York:20250820T130000
DTSTAMP:20260422T110153
CREATED:20250725T023218Z
LAST-MODIFIED:20250725T023218Z
UID:22996-1755691200-1755694800@vecncc.org
SUMMARY:Bible Study
DESCRIPTION:Interested in joining an informal bible study group? Our bible study meets at Holy Cross every Wednesday from noon to 1:00pm to discuss and discern how to put God’s Word into practice in our lives. If you have questions\, please call the parish office at 802-863-3002. All are welcome to join.
URL:https://vecncc.org/event/bible-study-32/
LOCATION:Holy Cross Church – Colchester\, 416 Church Rd\, Bristol\, VT\, United States
CATEGORIES:Catholic,Northeast
END:VEVENT
BEGIN:VEVENT
DTSTART;TZID=America/New_York:20250827T120000
DTEND;TZID=America/New_York:20250827T130000
DTSTAMP:20260422T110153
CREATED:20250801T024713Z
LAST-MODIFIED:20250801T024713Z
UID:23020-1756296000-1756299600@vecncc.org
SUMMARY:Bible Study
DESCRIPTION:Interested in joining an informal bible study group? Our bible study meets at Holy Cross every Wednesday from noon to 1:00pm to discuss and discern how to put God’s Word into practice in our lives. If you have questions\, please call the parish office at 802-863-3002. All are welcome to join.
URL:https://vecncc.org/event/bible-study-33/
LOCATION:Holy Cross Church – Colchester\, 416 Church Rd\, Bristol\, VT\, United States
CATEGORIES:Catholic,Northeast
END:VEVENT
END:VCALENDAR