BEGIN:VCALENDAR
VERSION:2.0
PRODID:-//VECNCC - ECPv6.15.11//NONSGML v1.0//EN
CALSCALE:GREGORIAN
METHOD:PUBLISH
X-ORIGINAL-URL:https://vecncc.org
X-WR-CALDESC:Events for VECNCC
REFRESH-INTERVAL;VALUE=DURATION:PT1H
X-Robots-Tag:noindex
X-PUBLISHED-TTL:PT1H
BEGIN:VTIMEZONE
TZID:America/New_York
BEGIN:DAYLIGHT
TZOFFSETFROM:-0500
TZOFFSETTO:-0400
TZNAME:EDT
DTSTART:20240310T070000
END:DAYLIGHT
BEGIN:STANDARD
TZOFFSETFROM:-0400
TZOFFSETTO:-0500
TZNAME:EST
DTSTART:20241103T060000
END:STANDARD
BEGIN:DAYLIGHT
TZOFFSETFROM:-0500
TZOFFSETTO:-0400
TZNAME:EDT
DTSTART:20250309T070000
END:DAYLIGHT
BEGIN:STANDARD
TZOFFSETFROM:-0400
TZOFFSETTO:-0500
TZNAME:EST
DTSTART:20251102T060000
END:STANDARD
BEGIN:DAYLIGHT
TZOFFSETFROM:-0500
TZOFFSETTO:-0400
TZNAME:EDT
DTSTART:20260308T070000
END:DAYLIGHT
BEGIN:STANDARD
TZOFFSETFROM:-0400
TZOFFSETTO:-0500
TZNAME:EST
DTSTART:20261101T060000
END:STANDARD
END:VTIMEZONE
BEGIN:VEVENT
DTSTART;TZID=America/New_York:20250903T120000
DTEND;TZID=America/New_York:20250903T130000
DTSTAMP:20260422T062005
CREATED:20250801T024715Z
LAST-MODIFIED:20250801T024715Z
UID:23026-1756900800-1756904400@vecncc.org
SUMMARY:Bible Study
DESCRIPTION:Interested in joining an informal bible study group? Our bible study meets at Holy Cross every Wednesday from noon to 1:00pm to discuss and discern how to put God’s Word into practice in our lives. If you have questions\, please call the parish office at 802-863-3002. All are welcome to join.
URL:https://vecncc.org/event/bible-study-34/
LOCATION:Holy Cross Church – Colchester\, 416 Church Rd\, Bristol\, VT\, United States
CATEGORIES:Catholic,Northeast
END:VEVENT
BEGIN:VEVENT
DTSTART;TZID=America/New_York:20250910T120000
DTEND;TZID=America/New_York:20250910T130000
DTSTAMP:20260422T062005
CREATED:20250815T030232Z
LAST-MODIFIED:20250815T030232Z
UID:23085-1757505600-1757509200@vecncc.org
SUMMARY:Bible Study
DESCRIPTION:Interested in joining an informal bible study group? Our bible study meets at Holy Cross every Wednesday from noon to 1:00pm to discuss and discern how to put God’s Word into practice in our lives. If you have questions\, please call the parish office at 802-863-3002. All are welcome to join.
URL:https://vecncc.org/event/bible-study-35/
LOCATION:Holy Cross Church – Colchester\, 416 Church Rd\, Bristol\, VT\, United States
CATEGORIES:Catholic,Northeast
END:VEVENT
BEGIN:VEVENT
DTSTART;TZID=America/New_York:20250914T103000
DTEND;TZID=America/New_York:20250914T123000
DTSTAMP:20260422T062005
CREATED:20250822T030233Z
LAST-MODIFIED:20250822T030233Z
UID:23111-1757845800-1757853000@vecncc.org
SUMMARY:Seven Sorrows of the Blessed Virgin at IHM
DESCRIPTION:Come join Immaculate Heart of Mary Parish and the Blue Army on the Feast of the Seven Sorrows of the Blessed Virgin Mary on September 14th after the 10:30am Sunday morning Mass in Williston. We will pray the Chaplet of the Seven Sorrows at the Seven Stations by the Grotto adjacent to the Church. For those not attending the 10:30 Mass at IHM\, but would still like to attend\, please plan to meet at the Grotto by 11:15am.
URL:https://vecncc.org/event/seven-sorrows-of-the-blessed-virgin-at-ihm/
LOCATION:Immaculate Heart of Mary Church – Williston\, 7417 Williston Rd\, Williston\, VT\, United States
CATEGORIES:Catholic,Northeast
END:VEVENT
BEGIN:VEVENT
DTSTART;TZID=America/New_York:20250917T120000
DTEND;TZID=America/New_York:20250917T130000
DTSTAMP:20260422T062005
CREATED:20250905T031713Z
LAST-MODIFIED:20250905T031713Z
UID:23161-1758110400-1758114000@vecncc.org
SUMMARY:Bible Study
DESCRIPTION:Interested in joining an informal bible study group? Our bible study meets at Holy Cross every Wednesday from noon to 1:00pm to discuss and discern how to put God’s Word into practice in our lives. If you have questions\, please call the parish office at 802-863-3002. All are welcome to join.
URL:https://vecncc.org/event/bible-study-36/
LOCATION:Holy Cross Church – Colchester\, 416 Church Rd\, Bristol\, VT\, United States
CATEGORIES:Catholic,Northeast
END:VEVENT
BEGIN:VEVENT
DTSTART;TZID=America/New_York:20250924T120000
DTEND;TZID=America/New_York:20250924T130000
DTSTAMP:20260422T062005
CREATED:20250912T031718Z
LAST-MODIFIED:20250912T031718Z
UID:23195-1758715200-1758718800@vecncc.org
SUMMARY:Bible Study
DESCRIPTION:Interested in joining an informal bible study group? Our bible study meets at Holy Cross every Wednesday from noon to 1:00pm to discuss and discern how to put God’s Word into practice in our lives. If you have questions\, please call the parish office at 802-863-3002. All are welcome to join.
URL:https://vecncc.org/event/bible-study-37/
LOCATION:Holy Cross Church – Colchester\, 416 Church Rd\, Bristol\, VT\, United States
CATEGORIES:Catholic,Northeast
END:VEVENT
BEGIN:VEVENT
DTSTART;TZID=America/New_York:20250924T190000
DTEND;TZID=America/New_York:20250924T210000
DTSTAMP:20260422T062005
CREATED:20250912T031719Z
LAST-MODIFIED:20250912T031719Z
UID:23198-1758740400-1758747600@vecncc.org
SUMMARY:Chris Stefanick & Reboot!
DESCRIPTION:This high-energy\, 2-hour event with internationally acclaimed speaker Chris Stafanick will awaken your faith\, reignite your joy\, and equip you with tools to live the life God created you for: A life of JOY. It will help you rediscover the JOY you were created for\, and is perfect for everyone … even friends\, family and children (12+) who may not be actively practicing their faith. Tickets are $33\, to purchase: https://buytickets.at/reallifecatholic/1663037.
URL:https://vecncc.org/event/chris-stefanick-reboot/
LOCATION:St. Francis Xavier – Winooski\, 3 Potter Rd\, Fairfax\, VT\, United States
CATEGORIES:Catholic,Northeast
END:VEVENT
END:VCALENDAR