BEGIN:VCALENDAR
VERSION:2.0
PRODID:-//VECNCC - ECPv6.15.11//NONSGML v1.0//EN
CALSCALE:GREGORIAN
METHOD:PUBLISH
X-WR-CALNAME:VECNCC
X-ORIGINAL-URL:https://vecncc.org
X-WR-CALDESC:Events for VECNCC
REFRESH-INTERVAL;VALUE=DURATION:PT1H
X-Robots-Tag:noindex
X-PUBLISHED-TTL:PT1H
BEGIN:VTIMEZONE
TZID:America/New_York
BEGIN:DAYLIGHT
TZOFFSETFROM:-0500
TZOFFSETTO:-0400
TZNAME:EDT
DTSTART:20240310T070000
END:DAYLIGHT
BEGIN:STANDARD
TZOFFSETFROM:-0400
TZOFFSETTO:-0500
TZNAME:EST
DTSTART:20241103T060000
END:STANDARD
BEGIN:DAYLIGHT
TZOFFSETFROM:-0500
TZOFFSETTO:-0400
TZNAME:EDT
DTSTART:20250309T070000
END:DAYLIGHT
BEGIN:STANDARD
TZOFFSETFROM:-0400
TZOFFSETTO:-0500
TZNAME:EST
DTSTART:20251102T060000
END:STANDARD
BEGIN:DAYLIGHT
TZOFFSETFROM:-0500
TZOFFSETTO:-0400
TZNAME:EDT
DTSTART:20260308T070000
END:DAYLIGHT
BEGIN:STANDARD
TZOFFSETFROM:-0400
TZOFFSETTO:-0500
TZNAME:EST
DTSTART:20261101T060000
END:STANDARD
END:VTIMEZONE
BEGIN:VEVENT
DTSTART;TZID=America/New_York:20251001T120000
DTEND;TZID=America/New_York:20251001T130000
DTSTAMP:20260422T043742
CREATED:20250919T032334Z
LAST-MODIFIED:20250919T032334Z
UID:23232-1759320000-1759323600@vecncc.org
SUMMARY:Bible Study
DESCRIPTION:Interested in joining an informal bible study group? Our bible study meets at Holy Cross every Wednesday from noon to 1:00pm to discuss and discern how to put God’s Word into practice in our lives. If you have questions\, please call the parish office at 802-863-3002. All are welcome to join.
URL:https://vecncc.org/event/bible-study-38/
LOCATION:Holy Cross Church – Colchester\, 416 Church Rd\, Bristol\, VT\, United States
CATEGORIES:Catholic,Northeast
END:VEVENT
BEGIN:VEVENT
DTSTART;TZID=America/New_York:20251005T140000
DTEND;TZID=America/New_York:20251005T150000
DTSTAMP:20260422T043742
CREATED:20250926T033737Z
LAST-MODIFIED:20250926T033737Z
UID:23271-1759672800-1759676400@vecncc.org
SUMMARY:Life Chain
DESCRIPTION:Life Chain is a peaceful\, prayerful\, pro-life\, public witness in the world of pro-life individuals standing for 60 minutes and praying for our nation and for an end to abortion. Sunday\, October 5\, 2-3 p.m. 100 Main Street\, Newport.\nFor more information\, contact Jeannine at lifechain4newport@gmtmom.com or phone 802-586-2899. More information is also available at www.lifechain.org contact: Tim Palmquist tim@glorifyjesus.com 
URL:https://vecncc.org/event/life-chain/
LOCATION:100 Main Street Newport\, 1 E Main St\, Newport\, VT\, United States
CATEGORIES:Catholic,Northeast
END:VEVENT
BEGIN:VEVENT
DTSTART;TZID=America/New_York:20251008T120000
DTEND;TZID=America/New_York:20251008T130000
DTSTAMP:20260422T043742
CREATED:20251003T033731Z
LAST-MODIFIED:20251003T033731Z
UID:23298-1759924800-1759928400@vecncc.org
SUMMARY:Bible Study
DESCRIPTION:Interested in joining an informal bible study group? Our bible study meets at Holy Cross every Wednesday from noon to 1:00pm to discuss and discern how to put God’s Word into practice in our lives. If you have questions\, please call the parish office at 802-863-3002. All are welcome to join.
URL:https://vecncc.org/event/bible-study-39/
LOCATION:Holy Cross Church – Colchester\, 416 Church Rd\, Bristol\, VT\, United States
CATEGORIES:Catholic,Northeast
END:VEVENT
BEGIN:VEVENT
DTSTART;TZID=America/New_York:20251011T170000
DTEND;TZID=America/New_York:20251011T210000
DTSTAMP:20260422T043742
CREATED:20251003T033737Z
LAST-MODIFIED:20251003T033737Z
UID:23310-1760202000-1760216400@vecncc.org
SUMMARY:Calcutta Night
DESCRIPTION:Knights of Columbus Council 297 is hosting a Calcutta Night\, on Saturday\, October 11 from 5 PM – 9 PM at the St. Albans American Legion to support the roof replacement at Holy Angels Church in St. Albans. The evening will feature: A Calcutta\, silent auction\, a 50/50 Raffle\, live music\, and a delicious dinner. The Car Raffle Drawing at the event’s conclusion.\nTo purchase Calcutta and/or car raffle tickets\, please contact: Maurice Bonnette (Chairman) – 802.309.1492\, or Valdemar Garibay (Council 297 Grand Knight) – 802.393.1768 (text message preferred).\nNote: You do not need to be present to win.
URL:https://vecncc.org/event/calcutta-night/
LOCATION:American Legion\, 100 Parah Dr\, Saint Albans\, VT\, United States
CATEGORIES:Catholic,Northeast
ATTACH;FMTTYPE=image/jpeg:https://vecncc.org/wp-content/uploads/2025/10/K-of-C-Calcutta-ugOPxE.jpg
END:VEVENT
BEGIN:VEVENT
DTSTART;TZID=America/New_York:20251015T120000
DTEND;TZID=America/New_York:20251015T130000
DTSTAMP:20260422T043742
CREATED:20251010T033744Z
LAST-MODIFIED:20251010T033744Z
UID:23349-1760529600-1760533200@vecncc.org
SUMMARY:Bible Study
DESCRIPTION:Interested in joining an informal bible study group? Our bible study meets at Holy Cross every Wednesday from noon to 1:00pm to discuss and discern how to put God’s Word into practice in our lives. If you have questions\, please call the parish office at 802-863-3002. All are welcome to join.
URL:https://vecncc.org/event/bible-study-40/
LOCATION:Holy Cross Church – Colchester\, 416 Church Rd\, Bristol\, VT\, United States
CATEGORIES:Catholic,Northeast
END:VEVENT
BEGIN:VEVENT
DTSTART;TZID=America/New_York:20251022T120000
DTEND;TZID=America/New_York:20251022T130000
DTSTAMP:20260422T043742
CREATED:20251017T033736Z
LAST-MODIFIED:20251017T033736Z
UID:23393-1761134400-1761138000@vecncc.org
SUMMARY:Bible Study
DESCRIPTION:Interested in joining an informal bible study group? Our bible study meets at Holy Cross every Wednesday from noon to 1:00pm to discuss and discern how to put God’s Word into practice in our lives. If you have questions\, please call the parish office at 802-863-3002. All are welcome to join.
URL:https://vecncc.org/event/bible-study-41/
LOCATION:Holy Cross Church – Colchester\, 416 Church Rd\, Bristol\, VT\, United States
CATEGORIES:Catholic,Northeast
END:VEVENT
BEGIN:VEVENT
DTSTART;TZID=America/New_York:20251025T174500
DTEND;TZID=America/New_York:20251025T204500
DTSTAMP:20260422T043742
CREATED:20251017T033738Z
LAST-MODIFIED:20251017T033738Z
UID:23399-1761414300-1761425100@vecncc.org
SUMMARY:Echoes of Grace
DESCRIPTION:Step into Resurrection Park and sacred silence for a one-of-a-kind evening of grace and reflection. As you walk quietly through the cemetery\, you’ll hear firsthand from beloved saints as they impart their words of wisdom to guide you in your life today. Each moment will leave you inspired and renewed by their faith-filled messages of love\, hope\, and perseverance.\nAfter the walk\, you can continue your experience by finding solace and peace in Eucharistic Adoration or the Sacrament of Confession. Afterward\, relax with fellow pilgrims over light refreshments.\nJoin us at Saint John Vianney Parish Center\, 160 Hinesburg Road\, South Burlington\, starting at 5:45 PM on Saturday\, October 25\, 2025.\nThis year we are asking that people register for the event: https://stjohnvianney.vermontcatholic.org/echoes-of-grace
URL:https://vecncc.org/event/echoes-of-grace/
LOCATION:St. John Vianney – South Burlington\, 160 Hinesburg Rd\, South Burlington\, VT\, United States
CATEGORIES:Catholic,Northeast
END:VEVENT
BEGIN:VEVENT
DTSTART;TZID=America/New_York:20251026T123000
DTEND;TZID=America/New_York:20251026T133000
DTSTAMP:20260422T043742
CREATED:20251017T033740Z
LAST-MODIFIED:20251017T033740Z
UID:23400-1761481800-1761485400@vecncc.org
SUMMARY:French Canadian Dinner
DESCRIPTION:Join us on Sunday\, October 26th for a French Canadian Dinner at St. Norbert in Hardwick. There will be meat pies\, pea soup (green & yellow) baked beans\, cole slaw\, pickled beets\, sugar pies\, fruit pies and More! Serving is from 12:30 to 1:30 P.M.\nAdults $15 Children 12 & Under $10 Under 5-Free\nThere will also be a Sing Along with Bernie Lussier and Friends.\nThe funds raised benefit Mary Queen of All Saints Parish and is sponsored by MQAS Parish Council and co-sponsored by Catholic Financial Life Chapter N443 St. Jean.\n 
URL:https://vecncc.org/event/french-canadian-dinner/
LOCATION:St. Norbert Church – Hardwick\, 193 S Main St\, Hardwick\, VT\, United States
CATEGORIES:Catholic,Northeast
ATTACH;FMTTYPE=image/jpeg:https://vecncc.org/wp-content/uploads/2025/10/Bernie-L-scaled-e1758713836900-9AZHHw.jpg
ORGANIZER;CN="Catholic Financial Life Chapter N443 St.Jean":MAILTO:cfli443@gmtmom.com
END:VEVENT
BEGIN:VEVENT
DTSTART;TZID=America/New_York:20251029T120000
DTEND;TZID=America/New_York:20251029T130000
DTSTAMP:20260422T043742
CREATED:20251017T033746Z
LAST-MODIFIED:20251017T033746Z
UID:23408-1761739200-1761742800@vecncc.org
SUMMARY:Bible Study
DESCRIPTION:Interested in joining an informal bible study group? Our bible study meets at Holy Cross every Wednesday from noon to 1:00pm to discuss and discern how to put God’s Word into practice in our lives. If you have questions\, please call the parish office at 802-863-3002. All are welcome to join.
URL:https://vecncc.org/event/bible-study-42/
LOCATION:Holy Cross Church – Colchester\, 416 Church Rd\, Bristol\, VT\, United States
CATEGORIES:Catholic,Northeast
END:VEVENT
END:VCALENDAR