BEGIN:VCALENDAR
VERSION:2.0
PRODID:-//VECNCC - ECPv6.15.11//NONSGML v1.0//EN
CALSCALE:GREGORIAN
METHOD:PUBLISH
X-WR-CALNAME:VECNCC
X-ORIGINAL-URL:https://vecncc.org
X-WR-CALDESC:Events for VECNCC
REFRESH-INTERVAL;VALUE=DURATION:PT1H
X-Robots-Tag:noindex
X-PUBLISHED-TTL:PT1H
BEGIN:VTIMEZONE
TZID:America/New_York
BEGIN:DAYLIGHT
TZOFFSETFROM:-0500
TZOFFSETTO:-0400
TZNAME:EDT
DTSTART:20240310T070000
END:DAYLIGHT
BEGIN:STANDARD
TZOFFSETFROM:-0400
TZOFFSETTO:-0500
TZNAME:EST
DTSTART:20241103T060000
END:STANDARD
BEGIN:DAYLIGHT
TZOFFSETFROM:-0500
TZOFFSETTO:-0400
TZNAME:EDT
DTSTART:20250309T070000
END:DAYLIGHT
BEGIN:STANDARD
TZOFFSETFROM:-0400
TZOFFSETTO:-0500
TZNAME:EST
DTSTART:20251102T060000
END:STANDARD
BEGIN:DAYLIGHT
TZOFFSETFROM:-0500
TZOFFSETTO:-0400
TZNAME:EDT
DTSTART:20260308T070000
END:DAYLIGHT
BEGIN:STANDARD
TZOFFSETFROM:-0400
TZOFFSETTO:-0500
TZNAME:EST
DTSTART:20261101T060000
END:STANDARD
END:VTIMEZONE
BEGIN:VEVENT
DTSTART;TZID=America/New_York:20250312T091500
DTEND;TZID=America/New_York:20250312T103000
DTSTAMP:20260422T203836
CREATED:20250307T013228Z
LAST-MODIFIED:20250307T013228Z
UID:22168-1741770900-1741775400@vecncc.org
SUMMARY:Jesus' Invitation
DESCRIPTION:After Mass coffee time from 9:15 to 10:30 a.m.\nJesus said to them\, “Come away by yourselves to a deserted place and rest a while.” Mark 6:31. It is to Jesus’ invitation that we will respond during these 4 encounters (or classes) during Lent. Lead by Louise Boisvert.\n· March 12th: Jesus Christ\, the “living book”: On Spiritual Reading for Lent\n· March 19th: St Joseph: Apostolic Letter PATRISCORDE of the Holy Father Francis\n· March 26nd: Necessity of Humility\n· April 2nd: Necessity of Silence
URL:https://vecncc.org/event/jesus-invitation/
LOCATION:Holy Family Church – Essex Junction\, 30 Lincoln St\, Essex Junction\, VT\, United States
CATEGORIES:Catholic,Northeast
END:VEVENT
BEGIN:VEVENT
DTSTART;TZID=America/New_York:20250312T120000
DTEND;TZID=America/New_York:20250312T130000
DTSTAMP:20260422T203836
CREATED:20250307T013228Z
LAST-MODIFIED:20250307T013228Z
UID:22169-1741780800-1741784400@vecncc.org
SUMMARY:Bible Study
DESCRIPTION:Interested in joining an informal bible study group? Our bible study meets at Holy Cross every Wednesday from noon to 1:00pm to discuss and discern how to put God’s Word into practice in our lives. If you have questions\, please call the parish office at 802-863-3002. All are welcome to join.
URL:https://vecncc.org/event/bible-study-9/
LOCATION:Holy Cross Church – Colchester\, 416 Church Rd\, Bristol\, VT\, United States
CATEGORIES:Catholic,Northeast
END:VEVENT
END:VCALENDAR