BEGIN:VCALENDAR
VERSION:2.0
PRODID:-//VECNCC - ECPv6.15.11//NONSGML v1.0//EN
CALSCALE:GREGORIAN
METHOD:PUBLISH
X-WR-CALNAME:VECNCC
X-ORIGINAL-URL:https://vecncc.org
X-WR-CALDESC:Events for VECNCC
REFRESH-INTERVAL;VALUE=DURATION:PT1H
X-Robots-Tag:noindex
X-PUBLISHED-TTL:PT1H
BEGIN:VTIMEZONE
TZID:America/New_York
BEGIN:DAYLIGHT
TZOFFSETFROM:-0500
TZOFFSETTO:-0400
TZNAME:EDT
DTSTART:20240310T070000
END:DAYLIGHT
BEGIN:STANDARD
TZOFFSETFROM:-0400
TZOFFSETTO:-0500
TZNAME:EST
DTSTART:20241103T060000
END:STANDARD
BEGIN:DAYLIGHT
TZOFFSETFROM:-0500
TZOFFSETTO:-0400
TZNAME:EDT
DTSTART:20250309T070000
END:DAYLIGHT
BEGIN:STANDARD
TZOFFSETFROM:-0400
TZOFFSETTO:-0500
TZNAME:EST
DTSTART:20251102T060000
END:STANDARD
BEGIN:DAYLIGHT
TZOFFSETFROM:-0500
TZOFFSETTO:-0400
TZNAME:EDT
DTSTART:20260308T070000
END:DAYLIGHT
BEGIN:STANDARD
TZOFFSETFROM:-0400
TZOFFSETTO:-0500
TZNAME:EST
DTSTART:20261101T060000
END:STANDARD
END:VTIMEZONE
BEGIN:VEVENT
DTSTART;VALUE=DATE:20250404
DTEND;VALUE=DATE:20250407
DTSTAMP:20260422T190652
CREATED:20250328T013226Z
LAST-MODIFIED:20250328T013226Z
UID:22314-1743724800-1743983999@vecncc.org
SUMMARY:2025 Young Adult Retreat
DESCRIPTION:The Diocese of Burlington is excited to announce that from April 4-6 we will host our third annual Young Adult Retreat at Saint Anne’s Shrine in Isle La Motte. The retreat begins at 6:30 PM on Friday\, April 4 and lasts until 11:30 AM on Sunday\, April 6. It is open to young adults\, aged 18-39 years old.\nThe theme of the retreat is Hope and Healing. During this Lenten season\, we invite you to enter a space for prayer and reflection focused on healing from spiritual\, emotional\, and physical pain.\nWe are blessed to welcome Father Lance Harlow\, Derek George\, and Sharon Trani who will help to guide us in our time together.\nFather Harlow will host a healing Adoration service during the retreat. This will be a beautiful opportunity for us to lay our ailments at the feet of Jesus\, seeking His love and mercy.\nDerek and Sharon are both counselors from Vermont Catholic Charities. They will provide insight on how to start your healing journey and the process of healing\, providing much food for thought for our time together and after we depart.\nSince we are in the midst of the Jubilee of Hope\, we will keep our eyes set on Jesus\, not just as our Divine Physician\, but also as our Bright Morning Star\, lighting the path toward our future.\nThe retreat will feature chances to meet new people and build community\, free time to explore and pray around the Shrine grounds\, all-night Adoration\, the Holy Sacrifice of the Mass on both Saturday and Sunday\, fun activities\, bonding moments\, and much more.\nWe invite you to come heal and hope together.\nThe cost is $100 per person\, which includes lodging for 2 nights and 4 meals (breakfast\, lunch\, and dinner on Saturday\, and breakfast on Sunday).\nIf you have any questions\, please reach out to our Diocesan Youth and Young Adult Minister\, Isaac Desranleau (idesranleau@vermontcatholic.org).
URL:https://vecncc.org/event/2025-young-adult-retreat/
LOCATION:St. Anne’s Shrine\, Isle La Motte
CATEGORIES:Catholic,Northeast
END:VEVENT
END:VCALENDAR