BEGIN:VCALENDAR
VERSION:2.0
PRODID:-//VECNCC - ECPv6.15.11//NONSGML v1.0//EN
CALSCALE:GREGORIAN
METHOD:PUBLISH
X-WR-CALNAME:VECNCC
X-ORIGINAL-URL:https://vecncc.org
X-WR-CALDESC:Events for VECNCC
REFRESH-INTERVAL;VALUE=DURATION:PT1H
X-Robots-Tag:noindex
X-PUBLISHED-TTL:PT1H
BEGIN:VTIMEZONE
TZID:America/New_York
BEGIN:DAYLIGHT
TZOFFSETFROM:-0500
TZOFFSETTO:-0400
TZNAME:EDT
DTSTART:20240310T070000
END:DAYLIGHT
BEGIN:STANDARD
TZOFFSETFROM:-0400
TZOFFSETTO:-0500
TZNAME:EST
DTSTART:20241103T060000
END:STANDARD
BEGIN:DAYLIGHT
TZOFFSETFROM:-0500
TZOFFSETTO:-0400
TZNAME:EDT
DTSTART:20250309T070000
END:DAYLIGHT
BEGIN:STANDARD
TZOFFSETFROM:-0400
TZOFFSETTO:-0500
TZNAME:EST
DTSTART:20251102T060000
END:STANDARD
BEGIN:DAYLIGHT
TZOFFSETFROM:-0500
TZOFFSETTO:-0400
TZNAME:EDT
DTSTART:20260308T070000
END:DAYLIGHT
BEGIN:STANDARD
TZOFFSETFROM:-0400
TZOFFSETTO:-0500
TZNAME:EST
DTSTART:20261101T060000
END:STANDARD
END:VTIMEZONE
BEGIN:VEVENT
DTSTART;TZID=America/New_York:20250510T090000
DTEND;TZID=America/New_York:20250510T120000
DTSTAMP:20260422T190723
CREATED:20250425T014755Z
LAST-MODIFIED:20250425T014755Z
UID:22491-1746867600-1746878400@vecncc.org
SUMMARY:The Celebration of Our Lady of Fatima Apparitions
DESCRIPTION:Mary’s apparitions in bringing God’s message for Hope\, Peace and Love through the children of Fatima\, Portugal in 1917\, will be celebrated on Saturday\, May 10th at St. Mark’s Church\, Burlington\, VT.\nThe celebration starts with 9 AM Mass\, outdoor Procession with the Blessed Sacrament and VT state pilgrim statue of Our Lady of Fatima\, Rosary and the investiture of the Brown Scapular of Our lady of Mt. Carmel.\nRefreshments to follow after.
URL:https://vecncc.org/event/the-celebration-of-our-lady-of-fatima-apparitions/
LOCATION:St. Mark Church – Burlington\, 1251 North Ave\, Burlington\, VT\, United States
CATEGORIES:Catholic,Northeast
ATTACH;FMTTYPE=image/png:https://vecncc.org/wp-content/uploads/2025/04/Web-Poster-St-Marks-May-2025-qIQyhT.png
ORGANIZER;CN="OurLadyofFatimaBlue ArmyVT":MAILTO:mamahub3@gmail.com
END:VEVENT
BEGIN:VEVENT
DTSTART;TZID=America/New_York:20250510T090000
DTEND;TZID=America/New_York:20250510T120000
DTSTAMP:20260422T190723
CREATED:20250425T014757Z
LAST-MODIFIED:20250425T014757Z
UID:22493-1746867600-1746878400@vecncc.org
SUMMARY:The Celebration of Our Lady of Fatima Apparitions
DESCRIPTION:Mary’s apparitions in bringing God’s message for Hope\, Peace and Love through the children of Fatima\, Portugal in 1917\, will be celebrated on Saturday May 10th at St. Mark’s Church\, Burlington\, VT.\nThe celebration starts with 9 AM Mass\, outdoor Procession with the Blessed Sacrament and VT state pilgrim statue of Our Lady of Fatima\, Rosary and the investiture of the Brown Scapular of Our lady of Mt. Carmel.\nRefreshments to follow after.
URL:https://vecncc.org/event/the-celebration-of-our-lady-of-fatima-apparitions-2/
LOCATION:St. Mark Church – Burlington\, 1251 North Ave\, Burlington\, VT\, United States
CATEGORIES:Catholic,Northeast
ATTACH;FMTTYPE=image/png:https://vecncc.org/wp-content/uploads/2025/04/Web-Poster-St-Marks-May-2025-qIQyhT.png
ORGANIZER;CN="OurLadyofFatimaBlue ArmyVT":MAILTO:mamahub3@gmail.com
END:VEVENT
END:VCALENDAR