BEGIN:VCALENDAR
VERSION:2.0
PRODID:-//VECNCC - ECPv6.15.11//NONSGML v1.0//EN
CALSCALE:GREGORIAN
METHOD:PUBLISH
X-ORIGINAL-URL:https://vecncc.org
X-WR-CALDESC:Events for VECNCC
REFRESH-INTERVAL;VALUE=DURATION:PT1H
X-Robots-Tag:noindex
X-PUBLISHED-TTL:PT1H
BEGIN:VTIMEZONE
TZID:America/New_York
BEGIN:DAYLIGHT
TZOFFSETFROM:-0500
TZOFFSETTO:-0400
TZNAME:EDT
DTSTART:20240310T070000
END:DAYLIGHT
BEGIN:STANDARD
TZOFFSETFROM:-0400
TZOFFSETTO:-0500
TZNAME:EST
DTSTART:20241103T060000
END:STANDARD
BEGIN:DAYLIGHT
TZOFFSETFROM:-0500
TZOFFSETTO:-0400
TZNAME:EDT
DTSTART:20250309T070000
END:DAYLIGHT
BEGIN:STANDARD
TZOFFSETFROM:-0400
TZOFFSETTO:-0500
TZNAME:EST
DTSTART:20251102T060000
END:STANDARD
BEGIN:DAYLIGHT
TZOFFSETFROM:-0500
TZOFFSETTO:-0400
TZNAME:EDT
DTSTART:20260308T070000
END:DAYLIGHT
BEGIN:STANDARD
TZOFFSETFROM:-0400
TZOFFSETTO:-0500
TZNAME:EST
DTSTART:20261101T060000
END:STANDARD
END:VTIMEZONE
BEGIN:VEVENT
DTSTART;TZID=America/New_York:20250719T160000
DTEND;TZID=America/New_York:20250719T200000
DTSTAMP:20260422T191027
CREATED:20250627T023212Z
LAST-MODIFIED:20250627T023212Z
UID:22817-1752940800-1752955200@vecncc.org
SUMMARY:Diocesan Convocation - Day 3
DESCRIPTION:Join us July 17\, 18\, and 19 for the Jubilee Year of Hope Diocesan Convocation. Each evening features dinner\, presentations to inspire and deepen faith\, and opportunities for prayer and worship. Each evening will also have a simple activity you can partake in to become an “agent of hope.”\nOur final evening’s theme is Mary: Model and Source of Hope\n4:00 – 5:00 pm: Festive Convocation Mass (Celebrant: Bishop McDermott)\n5:00 – 6:00 pm: Meal\n6:00 – 7:00 pm: Presentations\n7:00 – 7:30 pm: Rosary Commending the Diocese of Burlington to the Intercession of Mary\, Mother of Divine Hope\nSpeakers and presentations TBA.\nREGISTRATION OPENS IN MAY.\nFor more information on the Diocesan Convocation\, visit www.vermontcatholic.org/convocation
URL:https://vecncc.org/event/diocesan-convocation-day-3/
LOCATION:St. Mary Star Of The Sea Church – Newport\, 191 Clermont Ter\, Newport\, VT\, United States
CATEGORIES:Catholic,Northeast
ATTACH;FMTTYPE=image/jpeg:https://vecncc.org/wp-content/uploads/2025/06/Jubilee_Convocation_2025_event-MOYRDT.jpg
ORGANIZER;CN="Josh Perry":MAILTO:jperry@vermontcatholic.org
END:VEVENT
END:VCALENDAR