BEGIN:VCALENDAR
VERSION:2.0
PRODID:-//VECNCC - ECPv6.15.11//NONSGML v1.0//EN
CALSCALE:GREGORIAN
METHOD:PUBLISH
X-WR-CALNAME:VECNCC
X-ORIGINAL-URL:https://vecncc.org
X-WR-CALDESC:Events for VECNCC
REFRESH-INTERVAL;VALUE=DURATION:PT1H
X-Robots-Tag:noindex
X-PUBLISHED-TTL:PT1H
BEGIN:VTIMEZONE
TZID:America/New_York
BEGIN:DAYLIGHT
TZOFFSETFROM:-0500
TZOFFSETTO:-0400
TZNAME:EDT
DTSTART:20240310T070000
END:DAYLIGHT
BEGIN:STANDARD
TZOFFSETFROM:-0400
TZOFFSETTO:-0500
TZNAME:EST
DTSTART:20241103T060000
END:STANDARD
BEGIN:DAYLIGHT
TZOFFSETFROM:-0500
TZOFFSETTO:-0400
TZNAME:EDT
DTSTART:20250309T070000
END:DAYLIGHT
BEGIN:STANDARD
TZOFFSETFROM:-0400
TZOFFSETTO:-0500
TZNAME:EST
DTSTART:20251102T060000
END:STANDARD
BEGIN:DAYLIGHT
TZOFFSETFROM:-0500
TZOFFSETTO:-0400
TZNAME:EDT
DTSTART:20260308T070000
END:DAYLIGHT
BEGIN:STANDARD
TZOFFSETFROM:-0400
TZOFFSETTO:-0500
TZNAME:EST
DTSTART:20261101T060000
END:STANDARD
END:VTIMEZONE
BEGIN:VEVENT
DTSTART;TZID=America/New_York:20251011T170000
DTEND;TZID=America/New_York:20251011T210000
DTSTAMP:20260422T075733
CREATED:20251003T033737Z
LAST-MODIFIED:20251003T033737Z
UID:23310-1760202000-1760216400@vecncc.org
SUMMARY:Calcutta Night
DESCRIPTION:Knights of Columbus Council 297 is hosting a Calcutta Night\, on Saturday\, October 11 from 5 PM – 9 PM at the St. Albans American Legion to support the roof replacement at Holy Angels Church in St. Albans. The evening will feature: A Calcutta\, silent auction\, a 50/50 Raffle\, live music\, and a delicious dinner. The Car Raffle Drawing at the event’s conclusion.\nTo purchase Calcutta and/or car raffle tickets\, please contact: Maurice Bonnette (Chairman) – 802.309.1492\, or Valdemar Garibay (Council 297 Grand Knight) – 802.393.1768 (text message preferred).\nNote: You do not need to be present to win.
URL:https://vecncc.org/event/calcutta-night/
LOCATION:American Legion\, 100 Parah Dr\, Saint Albans\, VT\, United States
CATEGORIES:Catholic,Northeast
ATTACH;FMTTYPE=image/jpeg:https://vecncc.org/wp-content/uploads/2025/10/K-of-C-Calcutta-ugOPxE.jpg
END:VEVENT
END:VCALENDAR