BEGIN:VCALENDAR
VERSION:2.0
PRODID:-//VECNCC - ECPv6.15.11//NONSGML v1.0//EN
CALSCALE:GREGORIAN
METHOD:PUBLISH
X-ORIGINAL-URL:https://vecncc.org
X-WR-CALDESC:Events for VECNCC
REFRESH-INTERVAL;VALUE=DURATION:PT1H
X-Robots-Tag:noindex
X-PUBLISHED-TTL:PT1H
BEGIN:VTIMEZONE
TZID:America/New_York
BEGIN:DAYLIGHT
TZOFFSETFROM:-0500
TZOFFSETTO:-0400
TZNAME:EDT
DTSTART:20240310T070000
END:DAYLIGHT
BEGIN:STANDARD
TZOFFSETFROM:-0400
TZOFFSETTO:-0500
TZNAME:EST
DTSTART:20241103T060000
END:STANDARD
BEGIN:DAYLIGHT
TZOFFSETFROM:-0500
TZOFFSETTO:-0400
TZNAME:EDT
DTSTART:20250309T070000
END:DAYLIGHT
BEGIN:STANDARD
TZOFFSETFROM:-0400
TZOFFSETTO:-0500
TZNAME:EST
DTSTART:20251102T060000
END:STANDARD
BEGIN:DAYLIGHT
TZOFFSETFROM:-0500
TZOFFSETTO:-0400
TZNAME:EDT
DTSTART:20260308T070000
END:DAYLIGHT
BEGIN:STANDARD
TZOFFSETFROM:-0400
TZOFFSETTO:-0500
TZNAME:EST
DTSTART:20261101T060000
END:STANDARD
END:VTIMEZONE
BEGIN:VEVENT
DTSTART;TZID=America/New_York:20251025T174500
DTEND;TZID=America/New_York:20251025T204500
DTSTAMP:20260422T062455
CREATED:20251017T033738Z
LAST-MODIFIED:20251017T033738Z
UID:23399-1761414300-1761425100@vecncc.org
SUMMARY:Echoes of Grace
DESCRIPTION:Step into Resurrection Park and sacred silence for a one-of-a-kind evening of grace and reflection. As you walk quietly through the cemetery\, you’ll hear firsthand from beloved saints as they impart their words of wisdom to guide you in your life today. Each moment will leave you inspired and renewed by their faith-filled messages of love\, hope\, and perseverance.\nAfter the walk\, you can continue your experience by finding solace and peace in Eucharistic Adoration or the Sacrament of Confession. Afterward\, relax with fellow pilgrims over light refreshments.\nJoin us at Saint John Vianney Parish Center\, 160 Hinesburg Road\, South Burlington\, starting at 5:45 PM on Saturday\, October 25\, 2025.\nThis year we are asking that people register for the event: https://stjohnvianney.vermontcatholic.org/echoes-of-grace
URL:https://vecncc.org/event/echoes-of-grace/
LOCATION:St. John Vianney – South Burlington\, 160 Hinesburg Rd\, South Burlington\, VT\, United States
CATEGORIES:Catholic,Northeast
END:VEVENT
END:VCALENDAR