BEGIN:VCALENDAR
VERSION:2.0
PRODID:-//VECNCC - ECPv6.15.11//NONSGML v1.0//EN
CALSCALE:GREGORIAN
METHOD:PUBLISH
X-WR-CALNAME:VECNCC
X-ORIGINAL-URL:https://vecncc.org
X-WR-CALDESC:Events for VECNCC
REFRESH-INTERVAL;VALUE=DURATION:PT1H
X-Robots-Tag:noindex
X-PUBLISHED-TTL:PT1H
BEGIN:VTIMEZONE
TZID:America/New_York
BEGIN:DAYLIGHT
TZOFFSETFROM:-0500
TZOFFSETTO:-0400
TZNAME:EDT
DTSTART:20240310T070000
END:DAYLIGHT
BEGIN:STANDARD
TZOFFSETFROM:-0400
TZOFFSETTO:-0500
TZNAME:EST
DTSTART:20241103T060000
END:STANDARD
BEGIN:DAYLIGHT
TZOFFSETFROM:-0500
TZOFFSETTO:-0400
TZNAME:EDT
DTSTART:20250309T070000
END:DAYLIGHT
BEGIN:STANDARD
TZOFFSETFROM:-0400
TZOFFSETTO:-0500
TZNAME:EST
DTSTART:20251102T060000
END:STANDARD
BEGIN:DAYLIGHT
TZOFFSETFROM:-0500
TZOFFSETTO:-0400
TZNAME:EDT
DTSTART:20260308T070000
END:DAYLIGHT
BEGIN:STANDARD
TZOFFSETFROM:-0400
TZOFFSETTO:-0500
TZNAME:EST
DTSTART:20261101T060000
END:STANDARD
END:VTIMEZONE
BEGIN:VEVENT
DTSTART;TZID=America/New_York:20250326T091500
DTEND;TZID=America/New_York:20250326T103000
DTSTAMP:20260422T160843
CREATED:20250321T013215Z
LAST-MODIFIED:20250321T013215Z
UID:22262-1742980500-1742985000@vecncc.org
SUMMARY:Jesus' Invitation
DESCRIPTION:After Mass coffee time from 9:15 to 10:30 a.m.\nJesus said to them\, “Come away by yourselves to a deserted place and rest a while.” Mark 6:31. It is to Jesus’ invitation that we will respond during these 4 encounters (or classes) during Lent. Lead by Louise Boisvert.\n· March 12th: Jesus Christ\, the “living book”: On Spiritual Reading for Lent\n· March 19th: St Joseph: Apostolic Letter PATRISCORDE of the Holy Father Francis\n· March 26nd: Necessity of Humility\n· April 2nd: Necessity of Silence
URL:https://vecncc.org/event/jesus-invitation-3/
LOCATION:Holy Family Church – Essex Junction\, 30 Lincoln St\, Essex Junction\, VT\, United States
CATEGORIES:Catholic,Northeast
END:VEVENT
BEGIN:VEVENT
DTSTART;TZID=America/New_York:20250319T120000
DTEND;TZID=America/New_York:20250319T130000
DTSTAMP:20260422T160843
CREATED:20250314T013246Z
LAST-MODIFIED:20250314T013246Z
UID:22213-1742385600-1742389200@vecncc.org
SUMMARY:Bible Study
DESCRIPTION:Interested in joining an informal bible study group? Our bible study meets at Holy Cross every Wednesday from noon to 1:00pm to discuss and discern how to put God’s Word into practice in our lives. If you have questions\, please call the parish office at 802-863-3002. All are welcome to join.
URL:https://vecncc.org/event/bible-study-10/
LOCATION:Holy Cross Church – Colchester\, 416 Church Rd\, Bristol\, VT\, United States
CATEGORIES:Catholic,Northeast
END:VEVENT
BEGIN:VEVENT
DTSTART;TZID=America/New_York:20250319T091500
DTEND;TZID=America/New_York:20250319T103000
DTSTAMP:20260422T160843
CREATED:20250314T013246Z
LAST-MODIFIED:20250314T013246Z
UID:22212-1742375700-1742380200@vecncc.org
SUMMARY:Jesus' Invitation
DESCRIPTION:After Mass coffee time from 9:15 to 10:30 a.m.\nJesus said to them\, “Come away by yourselves to a deserted place and rest a while.” Mark 6:31. It is to Jesus’ invitation that we will respond during these 4 encounters (or classes) during Lent. Lead by Louise Boisvert.\n· March 12th: Jesus Christ\, the “living book”: On Spiritual Reading for Lent\n· March 19th: St Joseph: Apostolic Letter PATRISCORDE of the Holy Father Francis\n· March 26nd: Necessity of Humility\n· April 2nd: Necessity of Silence
URL:https://vecncc.org/event/jesus-invitation-2/
LOCATION:Holy Family Church – Essex Junction\, 30 Lincoln St\, Essex Junction\, VT\, United States
CATEGORIES:Catholic,Northeast
END:VEVENT
BEGIN:VEVENT
DTSTART;TZID=America/New_York:20250312T120000
DTEND;TZID=America/New_York:20250312T130000
DTSTAMP:20260422T160843
CREATED:20250307T013228Z
LAST-MODIFIED:20250307T013228Z
UID:22169-1741780800-1741784400@vecncc.org
SUMMARY:Bible Study
DESCRIPTION:Interested in joining an informal bible study group? Our bible study meets at Holy Cross every Wednesday from noon to 1:00pm to discuss and discern how to put God’s Word into practice in our lives. If you have questions\, please call the parish office at 802-863-3002. All are welcome to join.
URL:https://vecncc.org/event/bible-study-9/
LOCATION:Holy Cross Church – Colchester\, 416 Church Rd\, Bristol\, VT\, United States
CATEGORIES:Catholic,Northeast
END:VEVENT
BEGIN:VEVENT
DTSTART;TZID=America/New_York:20250312T091500
DTEND;TZID=America/New_York:20250312T103000
DTSTAMP:20260422T160843
CREATED:20250307T013228Z
LAST-MODIFIED:20250307T013228Z
UID:22168-1741770900-1741775400@vecncc.org
SUMMARY:Jesus' Invitation
DESCRIPTION:After Mass coffee time from 9:15 to 10:30 a.m.\nJesus said to them\, “Come away by yourselves to a deserted place and rest a while.” Mark 6:31. It is to Jesus’ invitation that we will respond during these 4 encounters (or classes) during Lent. Lead by Louise Boisvert.\n· March 12th: Jesus Christ\, the “living book”: On Spiritual Reading for Lent\n· March 19th: St Joseph: Apostolic Letter PATRISCORDE of the Holy Father Francis\n· March 26nd: Necessity of Humility\n· April 2nd: Necessity of Silence
URL:https://vecncc.org/event/jesus-invitation/
LOCATION:Holy Family Church – Essex Junction\, 30 Lincoln St\, Essex Junction\, VT\, United States
CATEGORIES:Catholic,Northeast
END:VEVENT
BEGIN:VEVENT
DTSTART;TZID=America/New_York:20250305T120000
DTEND;TZID=America/New_York:20250305T130000
DTSTAMP:20260422T160843
CREATED:20250221T013309Z
LAST-MODIFIED:20250221T013309Z
UID:22103-1741176000-1741179600@vecncc.org
SUMMARY:Bible Study
DESCRIPTION:Interested in joining an informal bible study group? Our bible study meets at Holy Cross every Wednesday from noon to 1:00pm to discuss and discern how to put God’s Word into practice in our lives. If you have questions\, please call the parish office at 802-863-3002. All are welcome to join.
URL:https://vecncc.org/event/bible-study-8/
LOCATION:Holy Cross Church – Colchester\, 416 Church Rd\, Bristol\, VT\, United States
CATEGORIES:Catholic,Northeast
END:VEVENT
BEGIN:VEVENT
DTSTART;TZID=America/New_York:20250226T120000
DTEND;TZID=America/New_York:20250226T130000
DTSTAMP:20260422T160843
CREATED:20250214T013301Z
LAST-MODIFIED:20250214T013301Z
UID:22060-1740571200-1740574800@vecncc.org
SUMMARY:Bible Study
DESCRIPTION:Interested in joining an informal bible study group? Our bible study meets at Holy Cross every Wednesday from noon to 1:00pm to discuss and discern how to put God’s Word into practice in our lives. If you have questions\, please call the parish office at 802-863-3002. All are welcome to join.
URL:https://vecncc.org/event/bible-study-7/
LOCATION:Holy Cross Church – Colchester\, 416 Church Rd\, Bristol\, VT\, United States
CATEGORIES:Catholic,Northeast
END:VEVENT
BEGIN:VEVENT
DTSTART;TZID=America/New_York:20250222T093000
DTEND;TZID=America/New_York:20250222T153000
DTSTAMP:20260422T160843
CREATED:20250214T013256Z
LAST-MODIFIED:20250214T013256Z
UID:22051-1740216600-1740238200@vecncc.org
SUMMARY:Light of Hope: Diocesan Youth Day Retreat - St. Johnsbury
DESCRIPTION:Calling all 7th-12th graders! Join us on Saturday\, February 22 from 9:30 AM-3:30 PM at the Father Lively Center in St. Johnsbury for a free Diocesan Day Retreat. Come together with other local youth and enjoy a day of prayer\, reflection\, fun\, and hope!\nWe will be exploring the theme\, “Light of Hope\,” in parallel with the Year of Jubilee\, “Pilgrims of Hope\,” celebration around the world. Throughout the day\, we will partake in fun activities\, talks\, small group time\, Adoration\, and Mass. Bring your friends and get to know other Catholics from around the state!\nThe retreat is free of charge\, but we are asking participants to bring a bagged lunch and snacks with them.\nThe official end of the retreat is at 3:30 PM at which time parents or guardians are welcome to pick up participants or stay to attend the 4:00 PM Mass at St. John the Evangelist Church with the group.\nTo register for the retreat\, please fill out the form available here: https://bit.ly/day-retreat-registration.\nYou can send any questions about the retreat to Isaac Desranleau\, the Diocesan Youth and Young Adult Minister\, via his email at idesranleau@vermontcatholic.org.
URL:https://vecncc.org/event/light-of-hope-diocesan-youth-day-retreat-st-johnsbury/
LOCATION:Fr. Joseph Lively Parish Center\, 506 Summer St\, Saint Johnsbury\, VT\, United States
CATEGORIES:Catholic,Northeast
ORGANIZER;CN="Isaac Desranleau":MAILTO:idesranleau@vermontcatholic.org
END:VEVENT
BEGIN:VEVENT
DTSTART;TZID=America/New_York:20250219T120000
DTEND;TZID=America/New_York:20250219T130000
DTSTAMP:20260422T160843
CREATED:20250207T013232Z
LAST-MODIFIED:20250207T013232Z
UID:22019-1739966400-1739970000@vecncc.org
SUMMARY:Bible Study
DESCRIPTION:Interested in joining an informal bible study group? Our bible study meets at Holy Cross every Wednesday from noon to 1:00pm to discuss and discern how to put God’s Word into practice in our lives. If you have questions\, please call the parish office at 802-863-3002. All are welcome to join.
URL:https://vecncc.org/event/bible-study-6/
LOCATION:Holy Cross Church – Colchester\, 416 Church Rd\, Bristol\, VT\, United States
CATEGORIES:Catholic,Northeast
END:VEVENT
BEGIN:VEVENT
DTSTART;TZID=America/New_York:20250212T120000
DTEND;TZID=America/New_York:20250212T130000
DTSTAMP:20260422T160843
CREATED:20250131T013224Z
LAST-MODIFIED:20250131T013224Z
UID:21962-1739361600-1739365200@vecncc.org
SUMMARY:Bible Study
DESCRIPTION:Interested in joining an informal bible study group? Our bible study meets at Holy Cross every Wednesday from noon to 1:00pm to discuss and discern how to put God’s Word into practice in our lives. If you have questions\, please call the parish office at 802-863-3002. All are welcome to join.
URL:https://vecncc.org/event/bible-study-5/
LOCATION:Holy Cross Church – Colchester\, 416 Church Rd\, Bristol\, VT\, United States
CATEGORIES:Catholic,Northeast
END:VEVENT
BEGIN:VEVENT
DTSTART;TZID=America/New_York:20250209T090000
DTEND;TZID=America/New_York:20250209T113000
DTSTAMP:20260422T160843
CREATED:20250124T013246Z
LAST-MODIFIED:20250124T013246Z
UID:21935-1739091600-1739100600@vecncc.org
SUMMARY:Pancake Breakfast
DESCRIPTION:The Knights of Columbus\, DeGoesbriand Council # 279 will host a Pancake Breakfast in the Cathedral of St. Joseph Parish Hall from 9:00 AM until 11:30 AM.\nJoin us for an old-fashioned all-you-can-care-to-eat pancake breakfast. The breakfast feast will feature all of your favorites: bacon\, sausage\, scrambled eggs\, blueberry pancakes and French toast with Vermont maple syrup\, home fries\, and more. Coffee\, juice\, and butter are included.\nTake-out is available. Admission is $ 10 per person $5. For Kids and $25 for family of four or more. For more information\, call (802) 862-5109 or email Davidely1986@gmail.com
URL:https://vecncc.org/event/pancake-breakfast-3/
LOCATION:VT
CATEGORIES:Catholic,Northeast
ORGANIZER;CN="Knight of Columbus DeGoesbriand Council #279 Burlington":MAILTO:Davidely1986@gmail.com
END:VEVENT
BEGIN:VEVENT
DTSTART;TZID=America/New_York:20250205T120000
DTEND;TZID=America/New_York:20250205T130000
DTSTAMP:20260422T160843
CREATED:20250124T013243Z
LAST-MODIFIED:20250124T013243Z
UID:21927-1738756800-1738760400@vecncc.org
SUMMARY:Bible Study
DESCRIPTION:Interested in joining an informal bible study group? Our bible study meets at Holy Cross every Wednesday from noon to 1:00pm to discuss and discern how to put God’s Word into practice in our lives. If you have questions\, please call the parish office at 802-863-3002. All are welcome to join.
URL:https://vecncc.org/event/bible-study-4/
LOCATION:Holy Cross Church – Colchester\, 416 Church Rd\, Bristol\, VT\, United States
CATEGORIES:Catholic,Northeast
END:VEVENT
BEGIN:VEVENT
DTSTART;TZID=America/New_York:20250129T120000
DTEND;TZID=America/New_York:20250129T130000
DTSTAMP:20260422T160843
CREATED:20250117T012057Z
LAST-MODIFIED:20250117T012057Z
UID:21898-1738152000-1738155600@vecncc.org
SUMMARY:Bible Study
DESCRIPTION:Interested in joining an informal bible study group? Our bible study meets at Holy Cross every Wednesday from noon to 1:00pm to discuss and discern how to put God’s Word into practice in our lives. If you have questions\, please call the parish office at 802-863-3002. All are welcome to join.
URL:https://vecncc.org/event/bible-study-3/
LOCATION:Holy Cross Church – Colchester\, 416 Church Rd\, Bristol\, VT\, United States
CATEGORIES:Catholic,Northeast
END:VEVENT
BEGIN:VEVENT
DTSTART;TZID=America/New_York:20250122T120000
DTEND;TZID=America/New_York:20250122T130000
DTSTAMP:20260422T160843
CREATED:20250110T011009Z
LAST-MODIFIED:20250110T011009Z
UID:21841-1737547200-1737550800@vecncc.org
SUMMARY:Bible Study
DESCRIPTION:Interested in joining an informal bible study group? Our bible study meets at Holy Cross every Wednesday from noon to 1:00pm to discuss and discern how to put God’s Word into practice in our lives. If you have questions\, please call the parish office at 802-863-3002. All are welcome to join.
URL:https://vecncc.org/event/bible-study-2/
LOCATION:Holy Cross Church – Colchester\, 416 Church Rd\, Bristol\, VT\, United States
CATEGORIES:Catholic,Northeast
END:VEVENT
BEGIN:VEVENT
DTSTART;TZID=America/New_York:20250115T120000
DTEND;TZID=America/New_York:20250115T130000
DTSTAMP:20260422T160843
CREATED:20250110T011001Z
LAST-MODIFIED:20250110T011001Z
UID:21821-1736942400-1736946000@vecncc.org
SUMMARY:Bible Study
DESCRIPTION:Interested in joining an informal bible study group? Our bible study meets at Holy Cross every Wednesday from noon to 1:00pm to discuss and discern how to put God’s Word into practice in our lives. If you have questions\, please call the parish office at 802-863-3002. All are welcome to join.
URL:https://vecncc.org/event/bible-study/
LOCATION:Holy Cross Church – Colchester\, 416 Church Rd\, Bristol\, VT\, United States
CATEGORIES:Catholic,Northeast
END:VEVENT
BEGIN:VEVENT
DTSTART;TZID=America/New_York:20250112T113000
DTEND;TZID=America/New_York:20250112T123000
DTSTAMP:20260422T160843
CREATED:20250110T010957Z
LAST-MODIFIED:20250110T010957Z
UID:21810-1736681400-1736685000@vecncc.org
SUMMARY:Mass with Bishop McDermott - St. John the Evangelist\, St. Johnsbury
DESCRIPTION:Bishop McDermott will be the celebrant at the 11:30 am Mass.
URL:https://vecncc.org/event/mass-with-bishop-mcdermott-st-john-the-evangelist-st-johnsbury-2/
LOCATION:St. John the Evangelist – St. Johnsbury\, 49 Winter St\, Saint Johnsbury\, VT\, United States
CATEGORIES:Catholic,Liturgy,Northeast
END:VEVENT
BEGIN:VEVENT
DTSTART;TZID=America/New_York:20250112T093000
DTEND;TZID=America/New_York:20250112T103000
DTSTAMP:20260422T160843
CREATED:20250110T010956Z
LAST-MODIFIED:20250110T010956Z
UID:21806-1736674200-1736677800@vecncc.org
SUMMARY:Mass with Bishop McDermott - St. Elizabeth\, Lyndonville
DESCRIPTION:Bishop McDermott will be the celebrant at the 9:30 am Mass.
URL:https://vecncc.org/event/mass-with-bishop-mcdermott-st-elizabeth-lyndonville/
LOCATION:St. Elizabeth Church – Lyndonville\, 630 Hill St\, Lyndonville\, VT\, United States
CATEGORIES:Catholic,Liturgy,Northeast
END:VEVENT
BEGIN:VEVENT
DTSTART;TZID=America/New_York:20250112T080000
DTEND;TZID=America/New_York:20250112T090000
DTSTAMP:20260422T160843
CREATED:20250110T010955Z
LAST-MODIFIED:20250110T010955Z
UID:21803-1736668800-1736672400@vecncc.org
SUMMARY:Mass with Bishop McDermott - Our Lady Queen of Peace\, Danville
DESCRIPTION:Bishop McDermott will be the celebrant at the 8 am Mass.
URL:https://vecncc.org/event/mass-with-bishop-mcdermott-our-lady-queen-of-peace-danville/
LOCATION:Our Lady Queen of Peace Church – Danville\, 88 US Hwy 2\, Danville\, VT\, United States
CATEGORIES:Catholic,Liturgy,Northeast
END:VEVENT
BEGIN:VEVENT
DTSTART;TZID=America/New_York:20250111T160000
DTEND;TZID=America/New_York:20250111T170000
DTSTAMP:20260422T160843
CREATED:20250110T010954Z
LAST-MODIFIED:20250110T010954Z
UID:21801-1736611200-1736614800@vecncc.org
SUMMARY:Mass with Bishop McDermott - St. John the Evangelist\, St. Johnsbury
DESCRIPTION:Bishop McDermott will be the celebrant at the 4:00 pm Mass.
URL:https://vecncc.org/event/mass-with-bishop-mcdermott-st-john-the-evangelist-st-johnsbury/
LOCATION:St. John the Evangelist – St. Johnsbury\, 49 Winter St\, Saint Johnsbury\, VT\, United States
CATEGORIES:Catholic,Liturgy,Northeast
END:VEVENT
END:VCALENDAR