BEGIN:VCALENDAR
VERSION:2.0
PRODID:-//VECNCC - ECPv6.15.11//NONSGML v1.0//EN
CALSCALE:GREGORIAN
METHOD:PUBLISH
X-ORIGINAL-URL:https://vecncc.org
X-WR-CALDESC:Events for VECNCC
REFRESH-INTERVAL;VALUE=DURATION:PT1H
X-Robots-Tag:noindex
X-PUBLISHED-TTL:PT1H
BEGIN:VTIMEZONE
TZID:America/New_York
BEGIN:DAYLIGHT
TZOFFSETFROM:-0500
TZOFFSETTO:-0400
TZNAME:EDT
DTSTART:20240310T070000
END:DAYLIGHT
BEGIN:STANDARD
TZOFFSETFROM:-0400
TZOFFSETTO:-0500
TZNAME:EST
DTSTART:20241103T060000
END:STANDARD
BEGIN:DAYLIGHT
TZOFFSETFROM:-0500
TZOFFSETTO:-0400
TZNAME:EDT
DTSTART:20250309T070000
END:DAYLIGHT
BEGIN:STANDARD
TZOFFSETFROM:-0400
TZOFFSETTO:-0500
TZNAME:EST
DTSTART:20251102T060000
END:STANDARD
BEGIN:DAYLIGHT
TZOFFSETFROM:-0500
TZOFFSETTO:-0400
TZNAME:EDT
DTSTART:20260308T070000
END:DAYLIGHT
BEGIN:STANDARD
TZOFFSETFROM:-0400
TZOFFSETTO:-0500
TZNAME:EST
DTSTART:20261101T060000
END:STANDARD
END:VTIMEZONE
BEGIN:VEVENT
DTSTART;TZID=America/New_York:20250201T080000
DTEND;TZID=America/New_York:20250201T090000
DTSTAMP:20260423T101711
CREATED:20250117T012100Z
LAST-MODIFIED:20250117T012100Z
UID:21907-1738396800-1738400400@vecncc.org
SUMMARY:First Saturday Mass at Holy Family
DESCRIPTION:Every first Saturday starting with Confessions and the Rosary at 8:00 am followed by Mass at 8:30 am\nat Holy Family church in Essex Junction\, VT
URL:https://vecncc.org/event/first-saturday-mass-at-holy-family/
LOCATION:Holy Family Church – Essex Junction\, 30 Lincoln St\, Essex Junction\, VT\, United States
CATEGORIES:Catholic,Northwest
ORGANIZER;CN="Essex Catholic Community":MAILTO:holyfamilysecretary@comcast.net
END:VEVENT
BEGIN:VEVENT
DTSTART;TZID=America/New_York:20250201T170000
DTEND;TZID=America/New_York:20250201T183000
DTSTAMP:20260423T101711
CREATED:20250117T012101Z
LAST-MODIFIED:20250117T012101Z
UID:21910-1738429200-1738434600@vecncc.org
SUMMARY:Annual French Canadian Supper
DESCRIPTION:Saturday\, February 1 \, 2025 from 5:00 PM – 6:30 PM at Our Lady of the Holy Rosary Church Hall in Richmond\, VT.\nDine-in or Take-out\nPea Soup\, Meat Pie\, Mashed Potatoes\nDessert\, Beverages\, etc.\n$15/ suggested donation to benefit the charities of\nRosary Council of the Knights of Columbus 4684\nReservations can be made online at: https://tinyurl.com/KnightsMeatPieDinner2025\nContact Ron with any questions: call or text: (470) 588 – 5515 or email KK1Lron@gmail.com\n 
URL:https://vecncc.org/event/annual-french-canadian-supper/
LOCATION:Our Lady of the Holy Rosary Church – Richmond\, 64 W Main St\, Richmond\, VT\, United States
CATEGORIES:Catholic,Northwest
ORGANIZER;CN="Knights of Columbus #4684":MAILTO:goodrensch.vt@gmail.com
END:VEVENT
BEGIN:VEVENT
DTSTART;TZID=America/New_York:20250204T190000
DTEND;TZID=America/New_York:20250204T210000
DTSTAMP:20260423T101711
CREATED:20250124T013243Z
LAST-MODIFIED:20250124T013243Z
UID:21925-1738695600-1738702800@vecncc.org
SUMMARY:Discussion on the Papal Encyclical\,  Dilexit Nos (He Loved Us)
DESCRIPTION:In his fourth encyclical\, Dilexit Nos (He loved us)\, Pope Francis invites us to reflect on aspects of the Lord’s love that resonate meaningfully with “a world that seems to have lost its heart.” The Holy Father calls for a change of perspective\, urging humanity to rediscover what is most essential: the heart. \nLouise Boisvert will lead a discussion of this encyclical\, which includes reflections from Sacred Scripture and previous magisterial teachings\, reintroduces the Church to the spiritually profound devotion to the Sacred Heart. \n“What characterizes our group\,” Louise says\, “is the simplicity and depth of our exchanges\, combined with fraternal life and a good cup of coffee! A warm welcome to all!”
URL:https://vecncc.org/event/discussion-on-the-papal-encyclical-dilexit-nos-he-loved-us-7/
LOCATION:St. Pius X – Essex\, 20 Jericho Rd\, Essex Junction\, VT\, United States
CATEGORIES:Catholic,Northwest
ORGANIZER;CN="Essex Catholic Community":MAILTO:holyfamilysecretary@comcast.net
END:VEVENT
BEGIN:VEVENT
DTSTART;TZID=America/New_York:20250205T090000
DTEND;TZID=America/New_York:20250205T223000
DTSTAMP:20260423T101711
CREATED:20250124T013243Z
LAST-MODIFIED:20250124T013243Z
UID:21926-1738746000-1738794600@vecncc.org
SUMMARY:Discussion on the Papal Encyclical\,  Dilexit Nos (He Loved Us)
DESCRIPTION:In his fourth encyclical\, Dilexit Nos (He loved us)\, Pope Francis invites us to reflect on aspects of the Lord’s love that resonate meaningfully with “a world that seems to have lost its heart.” The Holy Father calls for a change of perspective\, urging humanity to rediscover what is most essential: the heart. \nLouise Boisvert will lead a discussion of this encyclical\, which includes reflections from Sacred Scripture and previous magisterial teachings\, reintroduces the Church to the spiritually profound devotion to the Sacred Heart. \n“What characterizes our group\,” Louise says\, “is the simplicity and depth of our exchanges\, combined with fraternal life and a good cup of coffee! A warm welcome to all!”
URL:https://vecncc.org/event/discussion-on-the-papal-encyclical-dilexit-nos-he-loved-us-8/
LOCATION:Holy Family Parish Hall\, 28 Lincoln St\, Essex Junction\, VT\, United States
CATEGORIES:Catholic,Northwest
ORGANIZER;CN="Essex Catholic Community":MAILTO:holyfamilysecretary@comcast.net
END:VEVENT
BEGIN:VEVENT
DTSTART;TZID=America/New_York:20250208T080000
DTEND;TZID=America/New_York:20250208T090000
DTSTAMP:20260423T101711
CREATED:20250124T013245Z
LAST-MODIFIED:20250124T013245Z
UID:21932-1739001600-1739005200@vecncc.org
SUMMARY:St. Padre Pio Prayer Group
DESCRIPTION:The Padre Pio group meets the second Saturday of each month\, at Holy Family Church.  We begin with the Rosary at 8:00am followed by Mass at 8:30am.  Special Intentions for the intercession of Saint Padre Pio and then learning about Padre Pio’s life\, ministry and spiritual gifts.  If you have any questions\, please contact Laura Duquette at 802-557–1593.
URL:https://vecncc.org/event/st-padre-pio-prayer-group-2/
LOCATION:Holy Family Church – Essex Junction\, 30 Lincoln St\, Essex Junction\, VT\, United States
CATEGORIES:Catholic,Northwest
ORGANIZER;CN="Essex Catholic Community":MAILTO:holyfamilysecretary@comcast.net
END:VEVENT
BEGIN:VEVENT
DTSTART;TZID=America/New_York:20250211T190000
DTEND;TZID=America/New_York:20250211T210000
DTSTAMP:20260423T101711
CREATED:20250131T013223Z
LAST-MODIFIED:20250131T013223Z
UID:21960-1739300400-1739307600@vecncc.org
SUMMARY:Discussion on the Papal Encyclical\,  Dilexit Nos (He Loved Us)
DESCRIPTION:In his fourth encyclical\, Dilexit Nos (He loved us)\, Pope Francis invites us to reflect on aspects of the Lord’s love that resonate meaningfully with “a world that seems to have lost its heart.” The Holy Father calls for a change of perspective\, urging humanity to rediscover what is most essential: the heart. \nLouise Boisvert will lead a discussion of this encyclical\, which includes reflections from Sacred Scripture and previous magisterial teachings\, reintroduces the Church to the spiritually profound devotion to the Sacred Heart. \n“What characterizes our group\,” Louise says\, “is the simplicity and depth of our exchanges\, combined with fraternal life and a good cup of coffee! A warm welcome to all!”
URL:https://vecncc.org/event/discussion-on-the-papal-encyclical-dilexit-nos-he-loved-us-9/
LOCATION:St. Pius X – Essex\, 20 Jericho Rd\, Essex Junction\, VT\, United States
CATEGORIES:Catholic,Northwest
ORGANIZER;CN="Essex Catholic Community":MAILTO:holyfamilysecretary@comcast.net
END:VEVENT
BEGIN:VEVENT
DTSTART;TZID=America/New_York:20250212T090000
DTEND;TZID=America/New_York:20250212T223000
DTSTAMP:20260423T101711
CREATED:20250131T013224Z
LAST-MODIFIED:20250131T013224Z
UID:21961-1739350800-1739399400@vecncc.org
SUMMARY:Discussion on the Papal Encyclical\,  Dilexit Nos (He Loved Us)
DESCRIPTION:In his fourth encyclical\, Dilexit Nos (He loved us)\, Pope Francis invites us to reflect on aspects of the Lord’s love that resonate meaningfully with “a world that seems to have lost its heart.” The Holy Father calls for a change of perspective\, urging humanity to rediscover what is most essential: the heart. \nLouise Boisvert will lead a discussion of this encyclical\, which includes reflections from Sacred Scripture and previous magisterial teachings\, reintroduces the Church to the spiritually profound devotion to the Sacred Heart. \n“What characterizes our group\,” Louise says\, “is the simplicity and depth of our exchanges\, combined with fraternal life and a good cup of coffee! A warm welcome to all!”
URL:https://vecncc.org/event/discussion-on-the-papal-encyclical-dilexit-nos-he-loved-us-10/
LOCATION:Holy Family Parish Hall\, 28 Lincoln St\, Essex Junction\, VT\, United States
CATEGORIES:Catholic,Northwest
ORGANIZER;CN="Essex Catholic Community":MAILTO:holyfamilysecretary@comcast.net
END:VEVENT
BEGIN:VEVENT
DTSTART;TZID=America/New_York:20250214T173000
DTEND;TZID=America/New_York:20250214T190000
DTSTAMP:20260423T101711
CREATED:20250207T013224Z
LAST-MODIFIED:20250207T013224Z
UID:21996-1739554200-1739559600@vecncc.org
SUMMARY:Essex Community Dinner
DESCRIPTION:Essex Community Dinners are provided in order to grow and promote our community! They are also intended to feed the lonely and needy among us. These meals are free to all but donations are appreciated to cover parish expenses.\nTake-out dinners are also available\, starting at 6:00pm\, for those who still need to avoid crowds.
URL:https://vecncc.org/event/essex-community-dinner/
LOCATION:Holy Family Parish Hall\, 28 Lincoln St\, Essex Junction\, VT\, United States
CATEGORIES:Catholic,Northwest
ORGANIZER;CN="Essex Catholic Community":MAILTO:holyfamilysecretary@comcast.net
END:VEVENT
BEGIN:VEVENT
DTSTART;TZID=America/New_York:20250218T190000
DTEND;TZID=America/New_York:20250218T210000
DTSTAMP:20260423T101711
CREATED:20250207T013231Z
LAST-MODIFIED:20250207T013231Z
UID:22017-1739905200-1739912400@vecncc.org
SUMMARY:Discussion on the Papal Encyclical\,  Dilexit Nos (He Loved Us)
DESCRIPTION:In his fourth encyclical\, Dilexit Nos (He loved us)\, Pope Francis invites us to reflect on aspects of the Lord’s love that resonate meaningfully with “a world that seems to have lost its heart.” The Holy Father calls for a change of perspective\, urging humanity to rediscover what is most essential: the heart. \nLouise Boisvert will lead a discussion of this encyclical\, which includes reflections from Sacred Scripture and previous magisterial teachings\, reintroduces the Church to the spiritually profound devotion to the Sacred Heart. \n“What characterizes our group\,” Louise says\, “is the simplicity and depth of our exchanges\, combined with fraternal life and a good cup of coffee! A warm welcome to all!”
URL:https://vecncc.org/event/discussion-on-the-papal-encyclical-dilexit-nos-he-loved-us-11/
LOCATION:St. Pius X – Essex\, 20 Jericho Rd\, Essex Junction\, VT\, United States
CATEGORIES:Catholic,Northwest
ORGANIZER;CN="Essex Catholic Community":MAILTO:holyfamilysecretary@comcast.net
END:VEVENT
BEGIN:VEVENT
DTSTART;TZID=America/New_York:20250219T090000
DTEND;TZID=America/New_York:20250219T223000
DTSTAMP:20260423T101711
CREATED:20250207T013232Z
LAST-MODIFIED:20250207T013232Z
UID:22018-1739955600-1740004200@vecncc.org
SUMMARY:Discussion on the Papal Encyclical\,  Dilexit Nos (He Loved Us)
DESCRIPTION:In his fourth encyclical\, Dilexit Nos (He loved us)\, Pope Francis invites us to reflect on aspects of the Lord’s love that resonate meaningfully with “a world that seems to have lost its heart.” The Holy Father calls for a change of perspective\, urging humanity to rediscover what is most essential: the heart. \nLouise Boisvert will lead a discussion of this encyclical\, which includes reflections from Sacred Scripture and previous magisterial teachings\, reintroduces the Church to the spiritually profound devotion to the Sacred Heart. \n“What characterizes our group\,” Louise says\, “is the simplicity and depth of our exchanges\, combined with fraternal life and a good cup of coffee! A warm welcome to all!”
URL:https://vecncc.org/event/discussion-on-the-papal-encyclical-dilexit-nos-he-loved-us-12/
LOCATION:Holy Family Parish Hall\, 28 Lincoln St\, Essex Junction\, VT\, United States
CATEGORIES:Catholic,Northwest
ORGANIZER;CN="Essex Catholic Community":MAILTO:holyfamilysecretary@comcast.net
END:VEVENT
BEGIN:VEVENT
DTSTART;TZID=America/New_York:20250222T163000
DTEND;TZID=America/New_York:20250222T183000
DTSTAMP:20260423T101711
CREATED:20250214T013257Z
LAST-MODIFIED:20250214T013257Z
UID:22053-1740241800-1740249000@vecncc.org
SUMMARY:Chicken & Biscuits Dinner
DESCRIPTION:Serving Chicken & Biscuits\, Stuffing\, Cranberry Sauce\, Coleslaw & Dessert. Take-Outs Available. 802-363-1452
URL:https://vecncc.org/event/chicken-biscuits-dinner/
LOCATION:Nativity of the BVM Church – Swanton\, 65 Canada St\, Swanton\, VT\, United States
CATEGORIES:Catholic,Northwest
ATTACH;FMTTYPE=image/jpeg:https://vecncc.org/wp-content/uploads/2025/02/Chicken-_-Biscuits-sign-2025-qPhANT.tmp_.jpg
ORGANIZER;CN="Knights of Columbus #7669":MAILTO:lucjdps@yahoo.com
END:VEVENT
END:VCALENDAR