BEGIN:VCALENDAR
VERSION:2.0
PRODID:-//VECNCC - ECPv6.15.11//NONSGML v1.0//EN
CALSCALE:GREGORIAN
METHOD:PUBLISH
X-WR-CALNAME:VECNCC
X-ORIGINAL-URL:https://vecncc.org
X-WR-CALDESC:Events for VECNCC
REFRESH-INTERVAL;VALUE=DURATION:PT1H
X-Robots-Tag:noindex
X-PUBLISHED-TTL:PT1H
BEGIN:VTIMEZONE
TZID:America/New_York
BEGIN:DAYLIGHT
TZOFFSETFROM:-0500
TZOFFSETTO:-0400
TZNAME:EDT
DTSTART:20240310T070000
END:DAYLIGHT
BEGIN:STANDARD
TZOFFSETFROM:-0400
TZOFFSETTO:-0500
TZNAME:EST
DTSTART:20241103T060000
END:STANDARD
BEGIN:DAYLIGHT
TZOFFSETFROM:-0500
TZOFFSETTO:-0400
TZNAME:EDT
DTSTART:20250309T070000
END:DAYLIGHT
BEGIN:STANDARD
TZOFFSETFROM:-0400
TZOFFSETTO:-0500
TZNAME:EST
DTSTART:20251102T060000
END:STANDARD
BEGIN:DAYLIGHT
TZOFFSETFROM:-0500
TZOFFSETTO:-0400
TZNAME:EDT
DTSTART:20260308T070000
END:DAYLIGHT
BEGIN:STANDARD
TZOFFSETFROM:-0400
TZOFFSETTO:-0500
TZNAME:EST
DTSTART:20261101T060000
END:STANDARD
END:VTIMEZONE
BEGIN:VEVENT
DTSTART;TZID=America/New_York:20250301T080000
DTEND;TZID=America/New_York:20250301T090000
DTSTAMP:20260423T072235
CREATED:20250221T013305Z
LAST-MODIFIED:20250221T013305Z
UID:22090-1740816000-1740819600@vecncc.org
SUMMARY:First Saturday Mass at Holy Family
DESCRIPTION:Every first Saturday starting with Confessions and the Rosary at 8:00 am followed by Mass at 8:30 am\nat Holy Family church in Essex Junction\, VT
URL:https://vecncc.org/event/first-saturday-mass-at-holy-family-2/
LOCATION:Holy Family Church – Essex Junction\, 30 Lincoln St\, Essex Junction\, VT\, United States
CATEGORIES:Catholic,Northwest
ORGANIZER;CN="Essex Catholic Community":MAILTO:holyfamilysecretary@comcast.net
END:VEVENT
BEGIN:VEVENT
DTSTART;TZID=America/New_York:20250304T090000
DTEND;TZID=America/New_York:20250304T103000
DTSTAMP:20260423T072235
CREATED:20250221T013308Z
LAST-MODIFIED:20250221T013308Z
UID:22099-1741078800-1741084200@vecncc.org
SUMMARY:Wilderness Within
DESCRIPTION:This Lent\, St John Vianney Women’s Ministry presents “Wilderness Within\,” a multimedia journey on Tuesdays at 9AM or 6:30 PM in the Fellowship Room of the Parish Center\, beginning March 4. Using daily reflections\, journalling\, and video presentations\, Sr Josephine Garrett\, CSFN\, will guide us to discover the ways in which Christ wants to transform and heal our hearts. Journals are $10 each\, and the order will be placed on or about February 14\, so be sure to sign up soon. More information and registration are at stjohnvianneyvt.org/wilderness-within
URL:https://vecncc.org/event/wilderness-within/
LOCATION:St. John Vianney Church – South Burlington\, 160 Hinesburg Rd\, South Burlington\, VT\, United States
CATEGORIES:Catholic,Northwest
ORGANIZER;CN="Connie McDonald":MAILTO:SJVGoodNews@gmail.com
END:VEVENT
BEGIN:VEVENT
DTSTART;TZID=America/New_York:20250304T090000
DTEND;TZID=America/New_York:20250304T103000
DTSTAMP:20260423T072235
CREATED:20250221T013308Z
LAST-MODIFIED:20250221T013308Z
UID:22100-1741078800-1741084200@vecncc.org
SUMMARY:Wilderness Within
DESCRIPTION:This Lent\, St John Vianney Women’s Ministry presents “Wilderness Within\,” a multimedia journey on Tuesdays at 9AM or 6:30 PM in the Fellowship Room of the Parish Center\, beginning March 4. Using daily reflections\, journalling\, and video presentations\, Sr Josephine Garrett\, CSFN\, will guide us to discover the ways in which Christ wants to transform and heal our hearts. Journals are $10 each\, and the order will be placed on or about February 14\, so be sure to sign up soon. More information and registration are at stjohnvianneyvt.org/wilderness-within
URL:https://vecncc.org/event/wilderness-within-2/
LOCATION:St. John Vianney Church – South Burlington\, 160 Hinesburg Rd\, South Burlington\, VT\, United States
CATEGORIES:Catholic,Northwest
ORGANIZER;CN="Connie McDonald":MAILTO:SJVGoodNews@gmail.com
END:VEVENT
BEGIN:VEVENT
DTSTART;TZID=America/New_York:20250304T183000
DTEND;TZID=America/New_York:20250304T200000
DTSTAMP:20260423T072235
CREATED:20250221T013309Z
LAST-MODIFIED:20250221T013309Z
UID:22102-1741113000-1741118400@vecncc.org
SUMMARY:Wilderness Within
DESCRIPTION:This Lent\, St John Vianney Women’s Ministry presents “Wilderness Within\,” a multimedia journey on Tuesdays at 9AM or 6:30 PM in the Fellowship Room of the Parish Center\, beginning March 4. Using daily reflections\, journalling\, and video presentations\, Sr Josephine Garrett\, CSFN\, will guide us to discover the ways in which Christ wants to transform and heal our hearts. Journals are $10 each\, and the order will be placed on or about February 14\, so be sure to sign up soon. More information and registration are at stjohnvianneyvt.org/wilderness-within
URL:https://vecncc.org/event/wilderness-within-3/
LOCATION:St. John Vianney Church – South Burlington\, 160 Hinesburg Rd\, South Burlington\, VT\, United States
CATEGORIES:Catholic,Northwest
ORGANIZER;CN="Connie McDonald":MAILTO:SJVGoodNews@gmail.com
END:VEVENT
BEGIN:VEVENT
DTSTART;TZID=America/New_York:20250308T080000
DTEND;TZID=America/New_York:20250308T090000
DTSTAMP:20260423T072235
CREATED:20250228T013256Z
LAST-MODIFIED:20250228T013256Z
UID:22137-1741420800-1741424400@vecncc.org
SUMMARY:St. Padre Pio Prayer Group
DESCRIPTION:The Padre Pio group meets the second Saturday of each month\, at Holy Family Church.  We begin with the Rosary at 8:00am followed by Mass at 8:30am.  Special Intentions for the intercession of Saint Padre Pio and then learning about Padre Pio’s life\, ministry and spiritual gifts.  If you have any questions\, please contact Laura Duquette at 802-557–1593.
URL:https://vecncc.org/event/st-padre-pio-prayer-group-3/
LOCATION:Holy Family Church – Essex Junction\, 30 Lincoln St\, Essex Junction\, VT\, United States
CATEGORIES:Catholic,Northwest
ORGANIZER;CN="Essex Catholic Community":MAILTO:holyfamilysecretary@comcast.net
END:VEVENT
BEGIN:VEVENT
DTSTART;TZID=America/New_York:20250311T090000
DTEND;TZID=America/New_York:20250311T103000
DTSTAMP:20260423T072235
CREATED:20250307T013226Z
LAST-MODIFIED:20250307T013226Z
UID:22164-1741683600-1741689000@vecncc.org
SUMMARY:Wilderness Within
DESCRIPTION:This Lent\, St John Vianney Women’s Ministry presents “Wilderness Within\,” a multimedia journey on Tuesdays at 9AM or 6:30 PM in the Fellowship Room of the Parish Center\, beginning March 4. Using daily reflections\, journalling\, and video presentations\, Sr Josephine Garrett\, CSFN\, will guide us to discover the ways in which Christ wants to transform and heal our hearts. Journals are $10 each\, and the order will be placed on or about February 14\, so be sure to sign up soon. More information and registration are at stjohnvianneyvt.org/wilderness-within
URL:https://vecncc.org/event/wilderness-within-4/
LOCATION:St. John Vianney Church – South Burlington\, 160 Hinesburg Rd\, South Burlington\, VT\, United States
CATEGORIES:Catholic,Northwest
ORGANIZER;CN="Connie McDonald":MAILTO:SJVGoodNews@gmail.com
END:VEVENT
BEGIN:VEVENT
DTSTART;TZID=America/New_York:20250311T183000
DTEND;TZID=America/New_York:20250311T200000
DTSTAMP:20260423T072235
CREATED:20250307T013227Z
LAST-MODIFIED:20250307T013227Z
UID:22167-1741717800-1741723200@vecncc.org
SUMMARY:Wilderness Within
DESCRIPTION:This Lent\, St John Vianney Women’s Ministry presents “Wilderness Within\,” a multimedia journey on Tuesdays at 9AM or 6:30 PM in the Fellowship Room of the Parish Center\, beginning March 4. Using daily reflections\, journalling\, and video presentations\, Sr Josephine Garrett\, CSFN\, will guide us to discover the ways in which Christ wants to transform and heal our hearts. Journals are $10 each\, and the order will be placed on or about February 14\, so be sure to sign up soon. More information and registration are at stjohnvianneyvt.org/wilderness-within
URL:https://vecncc.org/event/wilderness-within-5/
LOCATION:St. John Vianney Church – South Burlington\, 160 Hinesburg Rd\, South Burlington\, VT\, United States
CATEGORIES:Catholic,Northwest
ORGANIZER;CN="Connie McDonald":MAILTO:SJVGoodNews@gmail.com
END:VEVENT
BEGIN:VEVENT
DTSTART;TZID=America/New_York:20250314T173000
DTEND;TZID=America/New_York:20250314T190000
DTSTAMP:20260423T072235
CREATED:20250307T013230Z
LAST-MODIFIED:20250307T013230Z
UID:22176-1741973400-1741978800@vecncc.org
SUMMARY:Essex Community Dinner
DESCRIPTION:Essex Community Dinners are provided in order to grow and promote our community! They are also intended to feed the lonely and needy among us. These meals are free to all but donations are appreciated to cover parish expenses.\nTake-out dinners are also available\, starting at 6:00pm\, for those who still need to avoid crowds.
URL:https://vecncc.org/event/essex-community-dinner-2/
LOCATION:Holy Family Parish Hall\, 28 Lincoln St\, Essex Junction\, VT\, United States
CATEGORIES:Catholic,Northwest
ORGANIZER;CN="Essex Catholic Community":MAILTO:holyfamilysecretary@comcast.net
END:VEVENT
BEGIN:VEVENT
DTSTART;TZID=America/New_York:20250315T173000
DTEND;TZID=America/New_York:20250315T183000
DTSTAMP:20260423T072235
CREATED:20250307T013232Z
LAST-MODIFIED:20250307T013232Z
UID:22181-1742059800-1742063400@vecncc.org
SUMMARY:St. Patrick’s Day Dinner
DESCRIPTION:St. Pius X\, Essex Center * 5:30\nPlease join us for a traditional corned beef & cabbage dinner.\nDue to limited seating\, reservations are required and must be received by Monday\, March 10th. Takeout will not be offered.\nContact: Jane Watson (janewatsonvt@comcast.net).
URL:https://vecncc.org/event/st-patricks-day-dinner/
LOCATION:St. Pius X – Essex\, 20 Jericho Rd\, Essex Junction\, VT\, United States
CATEGORIES:Catholic,Northwest
END:VEVENT
BEGIN:VEVENT
DTSTART;TZID=America/New_York:20250318T090000
DTEND;TZID=America/New_York:20250318T103000
DTSTAMP:20260423T072235
CREATED:20250314T013244Z
LAST-MODIFIED:20250314T013244Z
UID:22207-1742288400-1742293800@vecncc.org
SUMMARY:Wilderness Within
DESCRIPTION:This Lent\, St John Vianney Women’s Ministry presents “Wilderness Within\,” a multimedia journey on Tuesdays at 9AM or 6:30 PM in the Fellowship Room of the Parish Center\, beginning March 4. Using daily reflections\, journalling\, and video presentations\, Sr Josephine Garrett\, CSFN\, will guide us to discover the ways in which Christ wants to transform and heal our hearts. Journals are $10 each\, and the order will be placed on or about February 14\, so be sure to sign up soon. More information and registration are at stjohnvianneyvt.org/wilderness-within
URL:https://vecncc.org/event/wilderness-within-6/
LOCATION:St. John Vianney Church – South Burlington\, 160 Hinesburg Rd\, South Burlington\, VT\, United States
CATEGORIES:Catholic,Northwest
ORGANIZER;CN="Connie McDonald":MAILTO:SJVGoodNews@gmail.com
END:VEVENT
BEGIN:VEVENT
DTSTART;TZID=America/New_York:20250318T183000
DTEND;TZID=America/New_York:20250318T200000
DTSTAMP:20260423T072235
CREATED:20250314T013245Z
LAST-MODIFIED:20250314T013245Z
UID:22209-1742322600-1742328000@vecncc.org
SUMMARY:Wilderness Within
DESCRIPTION:This Lent\, St John Vianney Women’s Ministry presents “Wilderness Within\,” a multimedia journey on Tuesdays at 9AM or 6:30 PM in the Fellowship Room of the Parish Center\, beginning March 4. Using daily reflections\, journalling\, and video presentations\, Sr Josephine Garrett\, CSFN\, will guide us to discover the ways in which Christ wants to transform and heal our hearts. Journals are $10 each\, and the order will be placed on or about February 14\, so be sure to sign up soon. More information and registration are at stjohnvianneyvt.org/wilderness-within
URL:https://vecncc.org/event/wilderness-within-7/
LOCATION:St. John Vianney Church – South Burlington\, 160 Hinesburg Rd\, South Burlington\, VT\, United States
CATEGORIES:Catholic,Northwest
ORGANIZER;CN="Connie McDonald":MAILTO:SJVGoodNews@gmail.com
END:VEVENT
BEGIN:VEVENT
DTSTART;TZID=America/New_York:20250318T190000
DTEND;TZID=America/New_York:20250318T200000
DTSTAMP:20260423T072235
CREATED:20250314T013245Z
LAST-MODIFIED:20250314T013245Z
UID:22210-1742324400-1742328000@vecncc.org
SUMMARY:To Follow Jesus - Lesser-Known Examples in the Gospel
DESCRIPTION:“To follow Jesus-Lesser-known Examples in the Gospels”- a presentation by Rev. Richard Berube SSE\, Ph.D.\, a retired Religious Studies Professor at St. Michael’s College to take place at Holy Family Parish Hall 36 Lincoln St. Essex Junction\, VT\, on March 18th and March 25th from 7:00 pm until 8:00 pm. All are invited.
URL:https://vecncc.org/event/to-follow-jesus-lesser-known-examples-in-the-gospel/
LOCATION:Holy Family Parish Hall\, 28 Lincoln St\, Essex Junction\, VT\, United States
CATEGORIES:Catholic,Northwest
END:VEVENT
BEGIN:VEVENT
DTSTART;TZID=America/New_York:20250323T090000
DTEND;TZID=America/New_York:20250323T123000
DTSTAMP:20260423T072235
CREATED:20250321T013211Z
LAST-MODIFIED:20250321T013211Z
UID:22251-1742720400-1742733000@vecncc.org
SUMMARY:Pancake Breakfast
DESCRIPTION:Serving Pancakes (GFA)\, Scrambled Eggs\, Home Fries\, Sausage\, Ham\, English Muffins\, Coffee\, Juice & Fruit. Proceeds to benefit the Windows Renovation Project. 802-363-1452
URL:https://vecncc.org/event/pancake-breakfast-4/
LOCATION:Nativity of the BVM Church – Swanton\, 65 Canada St\, Swanton\, VT\, United States
CATEGORIES:Catholic,Northwest
ORGANIZER;CN="Knights of Columbus #7669":MAILTO:lucjdps@yahoo.com
END:VEVENT
BEGIN:VEVENT
DTSTART;TZID=America/New_York:20250325T090000
DTEND;TZID=America/New_York:20250325T103000
DTSTAMP:20260423T072235
CREATED:20250321T013214Z
LAST-MODIFIED:20250321T013214Z
UID:22257-1742893200-1742898600@vecncc.org
SUMMARY:Wilderness Within
DESCRIPTION:This Lent\, St John Vianney Women’s Ministry presents “Wilderness Within\,” a multimedia journey on Tuesdays at 9AM or 6:30 PM in the Fellowship Room of the Parish Center\, beginning March 4. Using daily reflections\, journalling\, and video presentations\, Sr Josephine Garrett\, CSFN\, will guide us to discover the ways in which Christ wants to transform and heal our hearts. Journals are $10 each\, and the order will be placed on or about February 14\, so be sure to sign up soon. More information and registration are at stjohnvianneyvt.org/wilderness-within
URL:https://vecncc.org/event/wilderness-within-8/
LOCATION:St. John Vianney Church – South Burlington\, 160 Hinesburg Rd\, South Burlington\, VT\, United States
CATEGORIES:Catholic,Northwest
ORGANIZER;CN="Connie McDonald":MAILTO:SJVGoodNews@gmail.com
END:VEVENT
BEGIN:VEVENT
DTSTART;TZID=America/New_York:20250325T183000
DTEND;TZID=America/New_York:20250325T200000
DTSTAMP:20260423T072235
CREATED:20250321T013214Z
LAST-MODIFIED:20250321T013214Z
UID:22259-1742927400-1742932800@vecncc.org
SUMMARY:Wilderness Within
DESCRIPTION:This Lent\, St John Vianney Women’s Ministry presents “Wilderness Within\,” a multimedia journey on Tuesdays at 9AM or 6:30 PM in the Fellowship Room of the Parish Center\, beginning March 4. Using daily reflections\, journalling\, and video presentations\, Sr Josephine Garrett\, CSFN\, will guide us to discover the ways in which Christ wants to transform and heal our hearts. Journals are $10 each\, and the order will be placed on or about February 14\, so be sure to sign up soon. More information and registration are at stjohnvianneyvt.org/wilderness-within
URL:https://vecncc.org/event/wilderness-within-9/
LOCATION:St. John Vianney Church – South Burlington\, 160 Hinesburg Rd\, South Burlington\, VT\, United States
CATEGORIES:Catholic,Northwest
ORGANIZER;CN="Connie McDonald":MAILTO:SJVGoodNews@gmail.com
END:VEVENT
BEGIN:VEVENT
DTSTART;TZID=America/New_York:20250325T190000
DTEND;TZID=America/New_York:20250325T200000
DTSTAMP:20260423T072235
CREATED:20250321T013215Z
LAST-MODIFIED:20250321T013215Z
UID:22260-1742929200-1742932800@vecncc.org
SUMMARY:To Follow Jesus - Lesser-Known Examples in the Gospel
DESCRIPTION:“To follow Jesus-Lesser-known Examples in the Gospels”- a presentation by Rev. Richard Berube SSE\, Ph.D.\, a retired Religious Studies Professor at St. Michael’s College to take place at Holy Family Parish Hall 36 Lincoln St. Essex Junction\, VT\, on March 18th and March 25th from 7:00 pm until 8:00 pm. All are invited.
URL:https://vecncc.org/event/to-follow-jesus-lesser-known-examples-in-the-gospel-2/
LOCATION:Holy Family Parish Hall\, 28 Lincoln St\, Essex Junction\, VT\, United States
CATEGORIES:Catholic,Northwest
END:VEVENT
END:VCALENDAR