BEGIN:VCALENDAR
VERSION:2.0
PRODID:-//VECNCC - ECPv6.15.11//NONSGML v1.0//EN
CALSCALE:GREGORIAN
METHOD:PUBLISH
X-ORIGINAL-URL:https://vecncc.org
X-WR-CALDESC:Events for VECNCC
REFRESH-INTERVAL;VALUE=DURATION:PT1H
X-Robots-Tag:noindex
X-PUBLISHED-TTL:PT1H
BEGIN:VTIMEZONE
TZID:America/New_York
BEGIN:DAYLIGHT
TZOFFSETFROM:-0500
TZOFFSETTO:-0400
TZNAME:EDT
DTSTART:20240310T070000
END:DAYLIGHT
BEGIN:STANDARD
TZOFFSETFROM:-0400
TZOFFSETTO:-0500
TZNAME:EST
DTSTART:20241103T060000
END:STANDARD
BEGIN:DAYLIGHT
TZOFFSETFROM:-0500
TZOFFSETTO:-0400
TZNAME:EDT
DTSTART:20250309T070000
END:DAYLIGHT
BEGIN:STANDARD
TZOFFSETFROM:-0400
TZOFFSETTO:-0500
TZNAME:EST
DTSTART:20251102T060000
END:STANDARD
BEGIN:DAYLIGHT
TZOFFSETFROM:-0500
TZOFFSETTO:-0400
TZNAME:EDT
DTSTART:20260308T070000
END:DAYLIGHT
BEGIN:STANDARD
TZOFFSETFROM:-0400
TZOFFSETTO:-0500
TZNAME:EST
DTSTART:20261101T060000
END:STANDARD
END:VTIMEZONE
BEGIN:VEVENT
DTSTART;TZID=America/New_York:20250401T090000
DTEND;TZID=America/New_York:20250401T103000
DTSTAMP:20260423T055217
CREATED:20250328T013222Z
LAST-MODIFIED:20250328T013222Z
UID:22304-1743498000-1743503400@vecncc.org
SUMMARY:Wilderness Within
DESCRIPTION:This Lent\, St John Vianney Women’s Ministry presents “Wilderness Within\,” a multimedia journey on Tuesdays at 9AM or 6:30 PM in the Fellowship Room of the Parish Center\, beginning March 4. Using daily reflections\, journalling\, and video presentations\, Sr Josephine Garrett\, CSFN\, will guide us to discover the ways in which Christ wants to transform and heal our hearts. Journals are $10 each\, and the order will be placed on or about February 14\, so be sure to sign up soon. More information and registration are at stjohnvianneyvt.org/wilderness-within
URL:https://vecncc.org/event/wilderness-within-10/
LOCATION:St. John Vianney Church – South Burlington\, 160 Hinesburg Rd\, South Burlington\, VT\, United States
CATEGORIES:Catholic,Northwest
ORGANIZER;CN="Connie McDonald":MAILTO:SJVGoodNews@gmail.com
END:VEVENT
BEGIN:VEVENT
DTSTART;TZID=America/New_York:20250401T183000
DTEND;TZID=America/New_York:20250401T200000
DTSTAMP:20260423T055217
CREATED:20250328T013223Z
LAST-MODIFIED:20250328T013223Z
UID:22306-1743532200-1743537600@vecncc.org
SUMMARY:Wilderness Within
DESCRIPTION:This Lent\, St John Vianney Women’s Ministry presents “Wilderness Within\,” a multimedia journey on Tuesdays at 9AM or 6:30 PM in the Fellowship Room of the Parish Center\, beginning March 4. Using daily reflections\, journalling\, and video presentations\, Sr Josephine Garrett\, CSFN\, will guide us to discover the ways in which Christ wants to transform and heal our hearts. Journals are $10 each\, and the order will be placed on or about February 14\, so be sure to sign up soon. More information and registration are at stjohnvianneyvt.org/wilderness-within
URL:https://vecncc.org/event/wilderness-within-11/
LOCATION:St. John Vianney Church – South Burlington\, 160 Hinesburg Rd\, South Burlington\, VT\, United States
CATEGORIES:Catholic,Northwest
ORGANIZER;CN="Connie McDonald":MAILTO:SJVGoodNews@gmail.com
END:VEVENT
BEGIN:VEVENT
DTSTART;TZID=America/New_York:20250401T190000
DTEND;TZID=America/New_York:20250401T210000
DTSTAMP:20260423T055217
CREATED:20250328T013223Z
LAST-MODIFIED:20250328T013223Z
UID:22308-1743534000-1743541200@vecncc.org
SUMMARY:Shroud of Turin
DESCRIPTION:April 1st Presentation: Shroud of Turin\nThe Essex Catholic Community will host a presentation April 1st on the Shroud of Turin by Jim Bertrand. The presentation will be held 7:00 p.m. at St. Pius X Church\, 20 Jericho Road\, Essex. Bertrand is a retired teacher\, a member of St. Peter Parish in Lincoln\, Nebraska\, and a member of the American Confraternity of the Holy Shroud.
URL:https://vecncc.org/event/shroud-of-turin/
LOCATION:St. Pius X – Essex\, 20 Jericho Rd\, Essex Junction\, VT\, United States
CATEGORIES:Catholic,Northwest
END:VEVENT
BEGIN:VEVENT
DTSTART;TZID=America/New_York:20250404T173000
DTEND;TZID=America/New_York:20250405T000000
DTSTAMP:20260423T055217
CREATED:20250404T014713Z
LAST-MODIFIED:20250404T014713Z
UID:22342-1743787800-1743811200@vecncc.org
SUMMARY:Night of Love - A Night Vigil of Reparation
DESCRIPTION:The night vigil of reparation has been developed by the World Apostolate of Fatima as a response to Our Lord’s request that reparation for our sins and the sins of all mankind be made to His Sacred Heart and Mary’s Immaculate Heart. This all night devotion had brought so many graces to people who pray intimately\, with Jesus and Mary\, combining the 1st Friday and 1st Saturday Devotions\, and to enrich our spiritual journey in this Lenten season. The program includes: Mass ~ Adoration ~ Procession with Blessed Sacrament and Fatima Statue ~ Sacrament of Reconciliation ~ “Way of the Cross” w/Msgr. Lavalley ~ Investiture of the Brown Scapular ~\nPraying all Mysteries of the Rosary ~Divine Mercy Chaplet ~ Meditation ~ Songs ~ Prayer in the Silence of the Heart.
URL:https://vecncc.org/event/night-of-love-a-night-vigil-of-reparation/
LOCATION:St. Francis Xavier – Winooski\, 3 Potter Rd\, Fairfax\, VT\, United States
CATEGORIES:Catholic,Northwest
ATTACH;FMTTYPE=image/png:https://vecncc.org/wp-content/uploads/2025/04/2025-NOL-Web-Poster-BPayPj.tmp_.png
ORGANIZER;CN="World Apostolate of Fatima USA-Our Lady's Blue Army VT":MAILTO:mamahub3@gmail.com
END:VEVENT
BEGIN:VEVENT
DTSTART;TZID=America/New_York:20250405T080000
DTEND;TZID=America/New_York:20250405T090000
DTSTAMP:20260423T055217
CREATED:20250404T014716Z
LAST-MODIFIED:20250404T014716Z
UID:22347-1743840000-1743843600@vecncc.org
SUMMARY:First Saturday Mass at Holy Family
DESCRIPTION:Every first Saturday starting with Confessions and the Rosary at 8:00 am followed by Mass at 8:30 am\nat Holy Family church in Essex Junction\, VT
URL:https://vecncc.org/event/first-saturday-mass-at-holy-family-3/
LOCATION:Holy Family Church – Essex Junction\, 30 Lincoln St\, Essex Junction\, VT\, United States
CATEGORIES:Catholic,Northwest
ORGANIZER;CN="Essex Catholic Community":MAILTO:holyfamilysecretary@comcast.net
END:VEVENT
BEGIN:VEVENT
DTSTART;TZID=America/New_York:20250405T083000
DTEND;TZID=America/New_York:20250405T150000
DTSTAMP:20260423T055217
CREATED:20250404T014716Z
LAST-MODIFIED:20250404T014716Z
UID:22349-1743841800-1743865200@vecncc.org
SUMMARY:Who is the Eucharist?
DESCRIPTION:On Saturday\, April 5th\, Monsignor Lavalley will present a retreat on “Who is the Eucharist? If the heart of our faith is the Eucharist\, let us come together and rediscover and encounter the love of the Risen Christ\, found in the Sacrament”.\nThe retreat will take place starting with morning Mass at Holy Family Church at 8:30am. The retreat will continue in the Parish Hall and will include presentations by Monsignor\, the celebration of the Eucharist\, lunch and time for fellowship. Please call the parish Office at 802-878-5331 to make a reservation. All are welcome and the suggested donation is $20.
URL:https://vecncc.org/event/who-is-the-eucharist/
LOCATION:Holy Family Church – Essex Junction\, 30 Lincoln St\, Essex Junction\, VT\, United States
CATEGORIES:Catholic,Northwest
ORGANIZER;CN="Monsignor Richard Lavalley":MAILTO:holyfamily2@comcast.net
END:VEVENT
BEGIN:VEVENT
DTSTART;TZID=America/New_York:20250408T090000
DTEND;TZID=America/New_York:20250408T103000
DTSTAMP:20260423T055217
CREATED:20250404T014721Z
LAST-MODIFIED:20250404T014721Z
UID:22361-1744102800-1744108200@vecncc.org
SUMMARY:Wilderness Within
DESCRIPTION:This Lent\, St John Vianney Women’s Ministry presents “Wilderness Within\,” a multimedia journey on Tuesdays at 9AM or 6:30 PM in the Fellowship Room of the Parish Center\, beginning March 4. Using daily reflections\, journalling\, and video presentations\, Sr Josephine Garrett\, CSFN\, will guide us to discover the ways in which Christ wants to transform and heal our hearts. Journals are $10 each\, and the order will be placed on or about February 14\, so be sure to sign up soon. More information and registration are at stjohnvianneyvt.org/wilderness-within
URL:https://vecncc.org/event/wilderness-within-12/
LOCATION:St. John Vianney Church – South Burlington\, 160 Hinesburg Rd\, South Burlington\, VT\, United States
CATEGORIES:Catholic,Northwest
ORGANIZER;CN="Connie McDonald":MAILTO:SJVGoodNews@gmail.com
END:VEVENT
BEGIN:VEVENT
DTSTART;TZID=America/New_York:20250408T183000
DTEND;TZID=America/New_York:20250408T200000
DTSTAMP:20260423T055217
CREATED:20250404T014722Z
LAST-MODIFIED:20250404T014722Z
UID:22363-1744137000-1744142400@vecncc.org
SUMMARY:Wilderness Within
DESCRIPTION:This Lent\, St John Vianney Women’s Ministry presents “Wilderness Within\,” a multimedia journey on Tuesdays at 9AM or 6:30 PM in the Fellowship Room of the Parish Center\, beginning March 4. Using daily reflections\, journalling\, and video presentations\, Sr Josephine Garrett\, CSFN\, will guide us to discover the ways in which Christ wants to transform and heal our hearts. Journals are $10 each\, and the order will be placed on or about February 14\, so be sure to sign up soon. More information and registration are at stjohnvianneyvt.org/wilderness-within
URL:https://vecncc.org/event/wilderness-within-13/
LOCATION:St. John Vianney Church – South Burlington\, 160 Hinesburg Rd\, South Burlington\, VT\, United States
CATEGORIES:Catholic,Northwest
ORGANIZER;CN="Connie McDonald":MAILTO:SJVGoodNews@gmail.com
END:VEVENT
BEGIN:VEVENT
DTSTART;TZID=America/New_York:20250411T173000
DTEND;TZID=America/New_York:20250411T190000
DTSTAMP:20260423T055217
CREATED:20250411T014822Z
LAST-MODIFIED:20250411T014822Z
UID:22392-1744392600-1744398000@vecncc.org
SUMMARY:Essex Community Dinner
DESCRIPTION:Essex Community Dinners are provided in order to grow and promote our community! They are also intended to feed the lonely and needy among us. These meals are free to all but donations are appreciated to cover parish expenses.\nTake-out dinners are also available\, starting at 6:00pm\, for those who still need to avoid crowds.
URL:https://vecncc.org/event/essex-community-dinner-3/
LOCATION:Holy Family Parish Hall\, 28 Lincoln St\, Essex Junction\, VT\, United States
CATEGORIES:Catholic,Northwest
ORGANIZER;CN="Essex Catholic Community":MAILTO:holyfamilysecretary@comcast.net
END:VEVENT
BEGIN:VEVENT
DTSTART;TZID=America/New_York:20250412T080000
DTEND;TZID=America/New_York:20250412T090000
DTSTAMP:20260423T055217
CREATED:20250411T014822Z
LAST-MODIFIED:20250411T014822Z
UID:22394-1744444800-1744448400@vecncc.org
SUMMARY:St. Padre Pio Prayer Group
DESCRIPTION:The Padre Pio group meets the second Saturday of each month\, at Holy Family Church.  We begin with the Rosary at 8:00am followed by Mass at 8:30am.  Special Intentions for the intercession of Saint Padre Pio and then learning about Padre Pio’s life\, ministry and spiritual gifts.  If you have any questions\, please contact Laura Duquette at 802-557–1593.
URL:https://vecncc.org/event/st-padre-pio-prayer-group-4/
LOCATION:Holy Family Church – Essex Junction\, 30 Lincoln St\, Essex Junction\, VT\, United States
CATEGORIES:Catholic,Northwest
ORGANIZER;CN="Essex Catholic Community":MAILTO:holyfamilysecretary@comcast.net
END:VEVENT
BEGIN:VEVENT
DTSTART;TZID=America/New_York:20250412T090000
DTEND;TZID=America/New_York:20250412T153000
DTSTAMP:20260423T055217
CREATED:20250411T014823Z
LAST-MODIFIED:20250411T014823Z
UID:22396-1744448400-1744471800@vecncc.org
SUMMARY:Clean Out The Closet Sale
DESCRIPTION:St Peter’s Resale Closet shop is having its Clean Out the Closet sale April 12th\, 9 am to 3:30 pm\, in the parish hall. The sale includes gently used clothing for men\, women and children\, household goods\, books and more! Prices are by donation! The Closet shop\, located behind the parish hall\, will also be open for shoppers from 9-3:30. Help us make room for new inventory!
URL:https://vecncc.org/event/clean-out-the-closet-sale/
LOCATION:St. Peter Church – Vergennes\, 85 S Maple St\, Vergennes\, VT\, United States
CATEGORIES:Catholic,Northwest
END:VEVENT
BEGIN:VEVENT
DTSTART;TZID=America/New_York:20250415T090000
DTEND;TZID=America/New_York:20250415T103000
DTSTAMP:20260423T055217
CREATED:20250411T014825Z
LAST-MODIFIED:20250411T014825Z
UID:22404-1744707600-1744713000@vecncc.org
SUMMARY:Wilderness Within
DESCRIPTION:This Lent\, St John Vianney Women’s Ministry presents “Wilderness Within\,” a multimedia journey on Tuesdays at 9AM or 6:30 PM in the Fellowship Room of the Parish Center\, beginning March 4. Using daily reflections\, journalling\, and video presentations\, Sr Josephine Garrett\, CSFN\, will guide us to discover the ways in which Christ wants to transform and heal our hearts. Journals are $10 each\, and the order will be placed on or about February 14\, so be sure to sign up soon. More information and registration are at stjohnvianneyvt.org/wilderness-within
URL:https://vecncc.org/event/wilderness-within-14/
LOCATION:St. John Vianney Church – South Burlington\, 160 Hinesburg Rd\, South Burlington\, VT\, United States
CATEGORIES:Catholic,Northwest
ORGANIZER;CN="Connie McDonald":MAILTO:SJVGoodNews@gmail.com
END:VEVENT
BEGIN:VEVENT
DTSTART;TZID=America/New_York:20250415T183000
DTEND;TZID=America/New_York:20250415T200000
DTSTAMP:20260423T055217
CREATED:20250411T014827Z
LAST-MODIFIED:20250411T014827Z
UID:22407-1744741800-1744747200@vecncc.org
SUMMARY:Wilderness Within
DESCRIPTION:This Lent\, St John Vianney Women’s Ministry presents “Wilderness Within\,” a multimedia journey on Tuesdays at 9AM or 6:30 PM in the Fellowship Room of the Parish Center\, beginning March 4. Using daily reflections\, journalling\, and video presentations\, Sr Josephine Garrett\, CSFN\, will guide us to discover the ways in which Christ wants to transform and heal our hearts. Journals are $10 each\, and the order will be placed on or about February 14\, so be sure to sign up soon. More information and registration are at stjohnvianneyvt.org/wilderness-within
URL:https://vecncc.org/event/wilderness-within-15/
LOCATION:St. John Vianney Church – South Burlington\, 160 Hinesburg Rd\, South Burlington\, VT\, United States
CATEGORIES:Catholic,Northwest
ORGANIZER;CN="Connie McDonald":MAILTO:SJVGoodNews@gmail.com
END:VEVENT
END:VCALENDAR