BEGIN:VCALENDAR
VERSION:2.0
PRODID:-//VECNCC - ECPv6.15.11//NONSGML v1.0//EN
CALSCALE:GREGORIAN
METHOD:PUBLISH
X-ORIGINAL-URL:https://vecncc.org
X-WR-CALDESC:Events for VECNCC
REFRESH-INTERVAL;VALUE=DURATION:PT1H
X-Robots-Tag:noindex
X-PUBLISHED-TTL:PT1H
BEGIN:VTIMEZONE
TZID:America/New_York
BEGIN:DAYLIGHT
TZOFFSETFROM:-0500
TZOFFSETTO:-0400
TZNAME:EDT
DTSTART:20240310T070000
END:DAYLIGHT
BEGIN:STANDARD
TZOFFSETFROM:-0400
TZOFFSETTO:-0500
TZNAME:EST
DTSTART:20241103T060000
END:STANDARD
BEGIN:DAYLIGHT
TZOFFSETFROM:-0500
TZOFFSETTO:-0400
TZNAME:EDT
DTSTART:20250309T070000
END:DAYLIGHT
BEGIN:STANDARD
TZOFFSETFROM:-0400
TZOFFSETTO:-0500
TZNAME:EST
DTSTART:20251102T060000
END:STANDARD
BEGIN:DAYLIGHT
TZOFFSETFROM:-0500
TZOFFSETTO:-0400
TZNAME:EDT
DTSTART:20260308T070000
END:DAYLIGHT
BEGIN:STANDARD
TZOFFSETFROM:-0400
TZOFFSETTO:-0500
TZNAME:EST
DTSTART:20261101T060000
END:STANDARD
END:VTIMEZONE
BEGIN:VEVENT
DTSTART;TZID=America/New_York:20250607T080000
DTEND;TZID=America/New_York:20250607T090000
DTSTAMP:20260423T011746
CREATED:20250516T015014Z
LAST-MODIFIED:20250516T015014Z
UID:22589-1749283200-1749286800@vecncc.org
SUMMARY:First Saturday Mass at Holy Family
DESCRIPTION:Every first Saturday starting with Confessions and the Rosary at 8:00 am followed by Mass at 8:30 am\nat Holy Family church in Essex Junction\, VT
URL:https://vecncc.org/event/first-saturday-mass-at-holy-family-5/
LOCATION:Holy Family Church – Essex Junction\, 30 Lincoln St\, Essex Junction\, VT\, United States
CATEGORIES:Catholic,Northwest
ORGANIZER;CN="Essex Catholic Community":MAILTO:holyfamilysecretary@comcast.net
END:VEVENT
BEGIN:VEVENT
DTSTART;TZID=America/New_York:20250613T173000
DTEND;TZID=America/New_York:20250613T190000
DTSTAMP:20260423T011746
CREATED:20250523T020307Z
LAST-MODIFIED:20250523T020307Z
UID:22616-1749835800-1749841200@vecncc.org
SUMMARY:Essex Community Dinner
DESCRIPTION:Essex Community Dinners are provided in order to grow and promote our community! They are also intended to feed the lonely and needy among us. These meals are free to all but donations are appreciated to cover parish expenses.\nTake-out dinners are also available\, starting at 6:00pm\, for those who still need to avoid crowds.
URL:https://vecncc.org/event/essex-community-dinner-5/
LOCATION:Holy Family Parish Hall\, 28 Lincoln St\, Essex Junction\, VT\, United States
CATEGORIES:Catholic,Northwest
ORGANIZER;CN="Essex Catholic Community":MAILTO:holyfamilysecretary@comcast.net
END:VEVENT
BEGIN:VEVENT
DTSTART;TZID=America/New_York:20250614T080000
DTEND;TZID=America/New_York:20250614T090000
DTSTAMP:20260423T011746
CREATED:20250530T020215Z
LAST-MODIFIED:20250530T020215Z
UID:22653-1749888000-1749891600@vecncc.org
SUMMARY:St. Padre Pio Prayer Group
DESCRIPTION:The Padre Pio group meets the second Saturday of each month\, at Holy Family Church.  We begin with the Rosary at 8:00am followed by Mass at 8:30am.  Special Intentions for the intercession of Saint Padre Pio and then learning about Padre Pio’s life\, ministry and spiritual gifts.  If you have any questions\, please contact Laura Duquette at 802-557–1593.
URL:https://vecncc.org/event/st-padre-pio-prayer-group-6/
LOCATION:Holy Family Church – Essex Junction\, 30 Lincoln St\, Essex Junction\, VT\, United States
CATEGORIES:Catholic,Northwest
ORGANIZER;CN="Essex Catholic Community":MAILTO:holyfamilysecretary@comcast.net
END:VEVENT
END:VCALENDAR