BEGIN:VCALENDAR
VERSION:2.0
PRODID:-//VECNCC - ECPv6.15.11//NONSGML v1.0//EN
CALSCALE:GREGORIAN
METHOD:PUBLISH
X-ORIGINAL-URL:https://vecncc.org
X-WR-CALDESC:Events for VECNCC
REFRESH-INTERVAL;VALUE=DURATION:PT1H
X-Robots-Tag:noindex
X-PUBLISHED-TTL:PT1H
BEGIN:VTIMEZONE
TZID:America/New_York
BEGIN:DAYLIGHT
TZOFFSETFROM:-0500
TZOFFSETTO:-0400
TZNAME:EDT
DTSTART:20240310T070000
END:DAYLIGHT
BEGIN:STANDARD
TZOFFSETFROM:-0400
TZOFFSETTO:-0500
TZNAME:EST
DTSTART:20241103T060000
END:STANDARD
BEGIN:DAYLIGHT
TZOFFSETFROM:-0500
TZOFFSETTO:-0400
TZNAME:EDT
DTSTART:20250309T070000
END:DAYLIGHT
BEGIN:STANDARD
TZOFFSETFROM:-0400
TZOFFSETTO:-0500
TZNAME:EST
DTSTART:20251102T060000
END:STANDARD
BEGIN:DAYLIGHT
TZOFFSETFROM:-0500
TZOFFSETTO:-0400
TZNAME:EDT
DTSTART:20260308T070000
END:DAYLIGHT
BEGIN:STANDARD
TZOFFSETFROM:-0400
TZOFFSETTO:-0500
TZNAME:EST
DTSTART:20261101T060000
END:STANDARD
END:VTIMEZONE
BEGIN:VEVENT
DTSTART;TZID=America/New_York:20251004T080000
DTEND;TZID=America/New_York:20251004T090000
DTSTAMP:20260422T190646
CREATED:20250926T033733Z
LAST-MODIFIED:20250926T033733Z
UID:23262-1759564800-1759568400@vecncc.org
SUMMARY:First Saturday Mass at Holy Family
DESCRIPTION:Every first Saturday starting with Confessions and the Rosary at 8:00 am followed by Mass at 8:30 am\nat Holy Family church in Essex Junction\, VT
URL:https://vecncc.org/event/first-saturday-mass-at-holy-family-9/
LOCATION:Holy Family Church – Essex Junction\, 30 Lincoln St\, Essex Junction\, VT\, United States
CATEGORIES:Catholic,Northwest
ORGANIZER;CN="Essex Catholic Community":MAILTO:holyfamilysecretary@comcast.net
END:VEVENT
BEGIN:VEVENT
DTSTART;TZID=America/New_York:20251006T180000
DTEND;TZID=America/New_York:20251006T200000
DTSTAMP:20260422T190646
CREATED:20250926T033739Z
LAST-MODIFIED:20250926T033739Z
UID:23275-1759773600-1759780800@vecncc.org
SUMMARY:The Chosen – Season 5 Screening
DESCRIPTION:Season 5 of the TV series\, The Chosen is back at St John Vianney Parish.  The Chosen is the first-ever multi-season show about the lives of Jesus’s followers\, which allows viewers to see the life of Jesus and his friends through the eyes of those who knew them\, with the fifth season focusing on the Last Supper.   From September 8 through October 27\, we will have watch sessions every Monday evening at 6:00PM in the Church Hall\, followed by a discussion about that week’s episode led by parishioners.  Contact Connie with questions at sjvgoodnews@gmail.com.
URL:https://vecncc.org/event/the-chosen-season-5-screening-5/
LOCATION:St. John Vianney – South Burlington\, 160 Hinesburg Rd\, South Burlington\, VT\, United States
CATEGORIES:Catholic,Northwest
ORGANIZER;CN="Connie McDonald":MAILTO:SJVGoodNews@gmail.com
END:VEVENT
BEGIN:VEVENT
DTSTART;TZID=America/New_York:20251010T173000
DTEND;TZID=America/New_York:20251010T190000
DTSTAMP:20260422T190646
CREATED:20251003T033734Z
LAST-MODIFIED:20251003T033734Z
UID:23303-1760117400-1760122800@vecncc.org
SUMMARY:Essex Community Dinner
DESCRIPTION:Essex Community Dinners are provided in order to grow and promote our community! They are also intended to feed the lonely and needy among us. These meals are free to all but donations are appreciated to cover parish expenses.\nTake-out dinners are also available\, starting at 6:00pm\, for those who still need to avoid crowds.
URL:https://vecncc.org/event/essex-community-dinner-8/
LOCATION:Holy Family Parish Hall\, 28 Lincoln St\, Essex Junction\, VT\, United States
CATEGORIES:Catholic,Northwest
ORGANIZER;CN="Essex Catholic Community":MAILTO:holyfamilysecretary@comcast.net
END:VEVENT
BEGIN:VEVENT
DTSTART;TZID=America/New_York:20251011T080000
DTEND;TZID=America/New_York:20251011T090000
DTSTAMP:20260422T190646
CREATED:20251003T033735Z
LAST-MODIFIED:20251003T033735Z
UID:23306-1760169600-1760173200@vecncc.org
SUMMARY:St. Padre Pio Prayer Group
DESCRIPTION:The Padre Pio group meets the second Saturday of each month\, at Holy Family Church.  We begin with the Rosary at 8:00am followed by Mass at 8:30am.  Special Intentions for the intercession of Saint Padre Pio and then learning about Padre Pio’s life\, ministry and spiritual gifts.  If you have any questions\, please contact Laura Duquette at 802-557–1593.
URL:https://vecncc.org/event/st-padre-pio-prayer-group-10/
LOCATION:Holy Family Church – Essex Junction\, 30 Lincoln St\, Essex Junction\, VT\, United States
CATEGORIES:Catholic,Northwest
ORGANIZER;CN="Essex Catholic Community":MAILTO:holyfamilysecretary@comcast.net
END:VEVENT
BEGIN:VEVENT
DTSTART;TZID=America/New_York:20251013T180000
DTEND;TZID=America/New_York:20251013T200000
DTSTAMP:20260422T190646
CREATED:20251010T033742Z
LAST-MODIFIED:20251010T033742Z
UID:23346-1760378400-1760385600@vecncc.org
SUMMARY:The Chosen – Season 5 Screening
DESCRIPTION:Season 5 of the TV series\, The Chosen is back at St John Vianney Parish.  The Chosen is the first-ever multi-season show about the lives of Jesus’s followers\, which allows viewers to see the life of Jesus and his friends through the eyes of those who knew them\, with the fifth season focusing on the Last Supper.   From September 8 through October 27\, we will have watch sessions every Monday evening at 6:00PM in the Church Hall\, followed by a discussion about that week’s episode led by parishioners.  Contact Connie with questions at sjvgoodnews@gmail.com.
URL:https://vecncc.org/event/the-chosen-season-5-screening-6/
LOCATION:St. John Vianney – South Burlington\, 160 Hinesburg Rd\, South Burlington\, VT\, United States
CATEGORIES:Catholic,Northwest
ORGANIZER;CN="Connie McDonald":MAILTO:SJVGoodNews@gmail.com
END:VEVENT
BEGIN:VEVENT
DTSTART;TZID=America/New_York:20251020T180000
DTEND;TZID=America/New_York:20251020T200000
DTSTAMP:20260422T190646
CREATED:20251010T033756Z
LAST-MODIFIED:20251010T033756Z
UID:23366-1760983200-1760990400@vecncc.org
SUMMARY:The Chosen – Season 5 Screening
DESCRIPTION:Season 5 of the TV series\, The Chosen is back at St John Vianney Parish.  The Chosen is the first-ever multi-season show about the lives of Jesus’s followers\, which allows viewers to see the life of Jesus and his friends through the eyes of those who knew them\, with the fifth season focusing on the Last Supper.   From September 8 through October 27\, we will have watch sessions every Monday evening at 6:00PM in the Church Hall\, followed by a discussion about that week’s episode led by parishioners.  Contact Connie with questions at sjvgoodnews@gmail.com.
URL:https://vecncc.org/event/the-chosen-season-5-screening-7/
LOCATION:St. John Vianney – South Burlington\, 160 Hinesburg Rd\, South Burlington\, VT\, United States
CATEGORIES:Catholic,Northwest
ORGANIZER;CN="Connie McDonald":MAILTO:SJVGoodNews@gmail.com
END:VEVENT
BEGIN:VEVENT
DTSTART;TZID=America/New_York:20251021T180000
DTEND;TZID=America/New_York:20251021T190000
DTSTAMP:20260422T190646
CREATED:20251017T033734Z
LAST-MODIFIED:20251017T033734Z
UID:23390-1761069600-1761073200@vecncc.org
SUMMARY:What is the Catholic Worker?
DESCRIPTION:A Catholic Worker House of Hospitality is an intentional community built upon the principles of Micah 6:8. “You have been told what is good\, and what the LORD requires of you: Only to do justice and to love mercy\, and to walk humbly with your God.”\nTo do Justice. The community is rooted in the radical Christian lifestyle\, working to bring the Justice of God’s Kingdom into the world around us.\nTo love Mercy. The community grounds itself in performing the Works of Mercy; giving food to the hungry and drink to the thirsty; sheltering the homeless; generally looking after the common good in as far as circumstances require and resources allow.\nTo walk humbly with God. The community sustains itself through an active spiritual life. Communal prayer time and regular Mass attendance are encouraged.\nWe’re working to bring the Catholic Worker to Vermont. Come join one of our meetings to learn more and see if it’s something you’d want to be involved in! We meet weekly on Tuesday evenings in the parish hall downstairs at Immaculate Heart of Mary Church in Williston.
URL:https://vecncc.org/event/what-is-the-catholic-worker/
LOCATION:Immaculate Heart of Mary Church – Williston\, 7417 Williston Rd\, Williston\, VT\, United States
CATEGORIES:Catholic,Northwest
ATTACH;FMTTYPE=image/jpeg:https://vecncc.org/wp-content/uploads/2025/10/CW-dJdELO.jpg
ORGANIZER;CN="Dcn. Josh McDonald":MAILTO:jmcdonald@vermontcatholic.org
END:VEVENT
BEGIN:VEVENT
DTSTART;TZID=America/New_York:20251027T180000
DTEND;TZID=America/New_York:20251027T200000
DTSTAMP:20260422T190646
CREATED:20251017T033744Z
LAST-MODIFIED:20251017T033744Z
UID:23403-1761588000-1761595200@vecncc.org
SUMMARY:The Chosen – Season 5 Screening
DESCRIPTION:Season 5 of the TV series\, The Chosen is back at St John Vianney Parish.  The Chosen is the first-ever multi-season show about the lives of Jesus’s followers\, which allows viewers to see the life of Jesus and his friends through the eyes of those who knew them\, with the fifth season focusing on the Last Supper.   From September 8 through October 27\, we will have watch sessions every Monday evening at 6:00PM in the Church Hall\, followed by a discussion about that week’s episode led by parishioners.  Contact Connie with questions at sjvgoodnews@gmail.com.
URL:https://vecncc.org/event/the-chosen-season-5-screening-8/
LOCATION:St. John Vianney – South Burlington\, 160 Hinesburg Rd\, South Burlington\, VT\, United States
CATEGORIES:Catholic,Northwest
ORGANIZER;CN="Connie McDonald":MAILTO:SJVGoodNews@gmail.com
END:VEVENT
BEGIN:VEVENT
DTSTART;TZID=America/New_York:20251028T180000
DTEND;TZID=America/New_York:20251028T190000
DTSTAMP:20260422T190646
CREATED:20251017T033745Z
LAST-MODIFIED:20251017T033745Z
UID:23406-1761674400-1761678000@vecncc.org
SUMMARY:What is the Catholic Worker?
DESCRIPTION:A Catholic Worker House of Hospitality is an intentional community built upon the principles of Micah 6:8. “You have been told what is good\, and what the LORD requires of you: Only to do justice and to love mercy\, and to walk humbly with your God.”\nTo do Justice. The community is rooted in the radical Christian lifestyle\, working to bring the Justice of God’s Kingdom into the world around us.\nTo love Mercy. The community grounds itself in performing the Works of Mercy; giving food to the hungry and drink to the thirsty; sheltering the homeless; generally looking after the common good in as far as circumstances require and resources allow.\nTo walk humbly with God. The community sustains itself through an active spiritual life. Communal prayer time and regular Mass attendance are encouraged.\nWe’re working to bring the Catholic Worker to Vermont. Come join one of our meetings to learn more and see if it’s something you’d want to be involved in! We meet weekly on Tuesday evenings in the parish hall downstairs at Immaculate Heart of Mary Church in Williston.
URL:https://vecncc.org/event/what-is-the-catholic-worker-2/
LOCATION:Immaculate Heart of Mary Church – Williston\, 7417 Williston Rd\, Williston\, VT\, United States
CATEGORIES:Catholic,Northwest
ATTACH;FMTTYPE=image/jpeg:https://vecncc.org/wp-content/uploads/2025/10/CW-dJdELO.jpg
ORGANIZER;CN="Dcn. Josh McDonald":MAILTO:jmcdonald@vermontcatholic.org
END:VEVENT
END:VCALENDAR