BEGIN:VCALENDAR
VERSION:2.0
PRODID:-//VECNCC - ECPv6.15.11//NONSGML v1.0//EN
CALSCALE:GREGORIAN
METHOD:PUBLISH
X-WR-CALNAME:VECNCC
X-ORIGINAL-URL:https://vecncc.org
X-WR-CALDESC:Events for VECNCC
REFRESH-INTERVAL;VALUE=DURATION:PT1H
X-Robots-Tag:noindex
X-PUBLISHED-TTL:PT1H
BEGIN:VTIMEZONE
TZID:America/New_York
BEGIN:DAYLIGHT
TZOFFSETFROM:-0500
TZOFFSETTO:-0400
TZNAME:EDT
DTSTART:20240310T070000
END:DAYLIGHT
BEGIN:STANDARD
TZOFFSETFROM:-0400
TZOFFSETTO:-0500
TZNAME:EST
DTSTART:20241103T060000
END:STANDARD
BEGIN:DAYLIGHT
TZOFFSETFROM:-0500
TZOFFSETTO:-0400
TZNAME:EDT
DTSTART:20250309T070000
END:DAYLIGHT
BEGIN:STANDARD
TZOFFSETFROM:-0400
TZOFFSETTO:-0500
TZNAME:EST
DTSTART:20251102T060000
END:STANDARD
BEGIN:DAYLIGHT
TZOFFSETFROM:-0500
TZOFFSETTO:-0400
TZNAME:EDT
DTSTART:20260308T070000
END:DAYLIGHT
BEGIN:STANDARD
TZOFFSETFROM:-0400
TZOFFSETTO:-0500
TZNAME:EST
DTSTART:20261101T060000
END:STANDARD
END:VTIMEZONE
BEGIN:VEVENT
DTSTART;TZID=America/New_York:20250126T090000
DTEND;TZID=America/New_York:20250126T123000
DTSTAMP:20260423T182317
CREATED:20250117T012055Z
LAST-MODIFIED:20250117T012055Z
UID:21896-1737882000-1737894600@vecncc.org
SUMMARY:Pancake Breakfast
DESCRIPTION:Serving Pancakes (GFA)\, Scrambled Eggs\, Home Fries\, Sausage\, Ham\, English Muffins\, Coffee & Juice. Proceeds to benefit the Windows Renovation Project. 802-363-1452
URL:https://vecncc.org/event/pancake-breakfast-2/
LOCATION:Nativity of the BVM Church – Swanton\, 65 Canada St\, Swanton\, VT\, United States
CATEGORIES:Catholic,Northwest
ATTACH;FMTTYPE=image/jpeg:https://vecncc.org/wp-content/uploads/2025/01/Breakfast-sign-January-2025-scaled-a3mwIm.tmp_.jpg
ORGANIZER;CN="Knights of Columbus #7669":MAILTO:lucjdps@yahoo.com
END:VEVENT
END:VCALENDAR