BEGIN:VCALENDAR
VERSION:2.0
PRODID:-//VECNCC - ECPv6.15.11//NONSGML v1.0//EN
CALSCALE:GREGORIAN
METHOD:PUBLISH
X-WR-CALNAME:VECNCC
X-ORIGINAL-URL:https://vecncc.org
X-WR-CALDESC:Events for VECNCC
REFRESH-INTERVAL;VALUE=DURATION:PT1H
X-Robots-Tag:noindex
X-PUBLISHED-TTL:PT1H
BEGIN:VTIMEZONE
TZID:America/New_York
BEGIN:DAYLIGHT
TZOFFSETFROM:-0500
TZOFFSETTO:-0400
TZNAME:EDT
DTSTART:20240310T070000
END:DAYLIGHT
BEGIN:STANDARD
TZOFFSETFROM:-0400
TZOFFSETTO:-0500
TZNAME:EST
DTSTART:20241103T060000
END:STANDARD
BEGIN:DAYLIGHT
TZOFFSETFROM:-0500
TZOFFSETTO:-0400
TZNAME:EDT
DTSTART:20250309T070000
END:DAYLIGHT
BEGIN:STANDARD
TZOFFSETFROM:-0400
TZOFFSETTO:-0500
TZNAME:EST
DTSTART:20251102T060000
END:STANDARD
BEGIN:DAYLIGHT
TZOFFSETFROM:-0500
TZOFFSETTO:-0400
TZNAME:EDT
DTSTART:20260308T070000
END:DAYLIGHT
BEGIN:STANDARD
TZOFFSETFROM:-0400
TZOFFSETTO:-0500
TZNAME:EST
DTSTART:20261101T060000
END:STANDARD
END:VTIMEZONE
BEGIN:VEVENT
DTSTART;TZID=America/New_York:20250325T090000
DTEND;TZID=America/New_York:20250325T103000
DTSTAMP:20260423T102620
CREATED:20250321T013214Z
LAST-MODIFIED:20250321T013214Z
UID:22257-1742893200-1742898600@vecncc.org
SUMMARY:Wilderness Within
DESCRIPTION:This Lent\, St John Vianney Women’s Ministry presents “Wilderness Within\,” a multimedia journey on Tuesdays at 9AM or 6:30 PM in the Fellowship Room of the Parish Center\, beginning March 4. Using daily reflections\, journalling\, and video presentations\, Sr Josephine Garrett\, CSFN\, will guide us to discover the ways in which Christ wants to transform and heal our hearts. Journals are $10 each\, and the order will be placed on or about February 14\, so be sure to sign up soon. More information and registration are at stjohnvianneyvt.org/wilderness-within
URL:https://vecncc.org/event/wilderness-within-8/
LOCATION:St. John Vianney Church – South Burlington\, 160 Hinesburg Rd\, South Burlington\, VT\, United States
CATEGORIES:Catholic,Northwest
ORGANIZER;CN="Connie McDonald":MAILTO:SJVGoodNews@gmail.com
END:VEVENT
BEGIN:VEVENT
DTSTART;TZID=America/New_York:20250325T183000
DTEND;TZID=America/New_York:20250325T200000
DTSTAMP:20260423T102620
CREATED:20250321T013214Z
LAST-MODIFIED:20250321T013214Z
UID:22259-1742927400-1742932800@vecncc.org
SUMMARY:Wilderness Within
DESCRIPTION:This Lent\, St John Vianney Women’s Ministry presents “Wilderness Within\,” a multimedia journey on Tuesdays at 9AM or 6:30 PM in the Fellowship Room of the Parish Center\, beginning March 4. Using daily reflections\, journalling\, and video presentations\, Sr Josephine Garrett\, CSFN\, will guide us to discover the ways in which Christ wants to transform and heal our hearts. Journals are $10 each\, and the order will be placed on or about February 14\, so be sure to sign up soon. More information and registration are at stjohnvianneyvt.org/wilderness-within
URL:https://vecncc.org/event/wilderness-within-9/
LOCATION:St. John Vianney Church – South Burlington\, 160 Hinesburg Rd\, South Burlington\, VT\, United States
CATEGORIES:Catholic,Northwest
ORGANIZER;CN="Connie McDonald":MAILTO:SJVGoodNews@gmail.com
END:VEVENT
BEGIN:VEVENT
DTSTART;TZID=America/New_York:20250325T190000
DTEND;TZID=America/New_York:20250325T200000
DTSTAMP:20260423T102620
CREATED:20250321T013215Z
LAST-MODIFIED:20250321T013215Z
UID:22260-1742929200-1742932800@vecncc.org
SUMMARY:To Follow Jesus - Lesser-Known Examples in the Gospel
DESCRIPTION:“To follow Jesus-Lesser-known Examples in the Gospels”- a presentation by Rev. Richard Berube SSE\, Ph.D.\, a retired Religious Studies Professor at St. Michael’s College to take place at Holy Family Parish Hall 36 Lincoln St. Essex Junction\, VT\, on March 18th and March 25th from 7:00 pm until 8:00 pm. All are invited.
URL:https://vecncc.org/event/to-follow-jesus-lesser-known-examples-in-the-gospel-2/
LOCATION:Holy Family Parish Hall\, 28 Lincoln St\, Essex Junction\, VT\, United States
CATEGORIES:Catholic,Northwest
END:VEVENT
END:VCALENDAR