BEGIN:VCALENDAR
VERSION:2.0
PRODID:-//VECNCC - ECPv6.15.11//NONSGML v1.0//EN
CALSCALE:GREGORIAN
METHOD:PUBLISH
X-WR-CALNAME:VECNCC
X-ORIGINAL-URL:https://vecncc.org
X-WR-CALDESC:Events for VECNCC
REFRESH-INTERVAL;VALUE=DURATION:PT1H
X-Robots-Tag:noindex
X-PUBLISHED-TTL:PT1H
BEGIN:VTIMEZONE
TZID:America/New_York
BEGIN:DAYLIGHT
TZOFFSETFROM:-0500
TZOFFSETTO:-0400
TZNAME:EDT
DTSTART:20240310T070000
END:DAYLIGHT
BEGIN:STANDARD
TZOFFSETFROM:-0400
TZOFFSETTO:-0500
TZNAME:EST
DTSTART:20241103T060000
END:STANDARD
BEGIN:DAYLIGHT
TZOFFSETFROM:-0500
TZOFFSETTO:-0400
TZNAME:EDT
DTSTART:20250309T070000
END:DAYLIGHT
BEGIN:STANDARD
TZOFFSETFROM:-0400
TZOFFSETTO:-0500
TZNAME:EST
DTSTART:20251102T060000
END:STANDARD
BEGIN:DAYLIGHT
TZOFFSETFROM:-0500
TZOFFSETTO:-0400
TZNAME:EDT
DTSTART:20260308T070000
END:DAYLIGHT
BEGIN:STANDARD
TZOFFSETFROM:-0400
TZOFFSETTO:-0500
TZNAME:EST
DTSTART:20261101T060000
END:STANDARD
END:VTIMEZONE
BEGIN:VEVENT
DTSTART;TZID=America/New_York:20250404T173000
DTEND;TZID=America/New_York:20250405T000000
DTSTAMP:20260423T055301
CREATED:20250404T014713Z
LAST-MODIFIED:20250404T014713Z
UID:22342-1743787800-1743811200@vecncc.org
SUMMARY:Night of Love - A Night Vigil of Reparation
DESCRIPTION:The night vigil of reparation has been developed by the World Apostolate of Fatima as a response to Our Lord’s request that reparation for our sins and the sins of all mankind be made to His Sacred Heart and Mary’s Immaculate Heart. This all night devotion had brought so many graces to people who pray intimately\, with Jesus and Mary\, combining the 1st Friday and 1st Saturday Devotions\, and to enrich our spiritual journey in this Lenten season. The program includes: Mass ~ Adoration ~ Procession with Blessed Sacrament and Fatima Statue ~ Sacrament of Reconciliation ~ “Way of the Cross” w/Msgr. Lavalley ~ Investiture of the Brown Scapular ~\nPraying all Mysteries of the Rosary ~Divine Mercy Chaplet ~ Meditation ~ Songs ~ Prayer in the Silence of the Heart.
URL:https://vecncc.org/event/night-of-love-a-night-vigil-of-reparation/
LOCATION:St. Francis Xavier – Winooski\, 3 Potter Rd\, Fairfax\, VT\, United States
CATEGORIES:Catholic,Northwest
ATTACH;FMTTYPE=image/png:https://vecncc.org/wp-content/uploads/2025/04/2025-NOL-Web-Poster-BPayPj.tmp_.png
ORGANIZER;CN="World Apostolate of Fatima USA-Our Lady's Blue Army VT":MAILTO:mamahub3@gmail.com
END:VEVENT
END:VCALENDAR