BEGIN:VCALENDAR
VERSION:2.0
PRODID:-//VECNCC - ECPv6.15.11//NONSGML v1.0//EN
CALSCALE:GREGORIAN
METHOD:PUBLISH
X-WR-CALNAME:VECNCC
X-ORIGINAL-URL:https://vecncc.org
X-WR-CALDESC:Events for VECNCC
REFRESH-INTERVAL;VALUE=DURATION:PT1H
X-Robots-Tag:noindex
X-PUBLISHED-TTL:PT1H
BEGIN:VTIMEZONE
TZID:America/New_York
BEGIN:DAYLIGHT
TZOFFSETFROM:-0500
TZOFFSETTO:-0400
TZNAME:EDT
DTSTART:20240310T070000
END:DAYLIGHT
BEGIN:STANDARD
TZOFFSETFROM:-0400
TZOFFSETTO:-0500
TZNAME:EST
DTSTART:20241103T060000
END:STANDARD
BEGIN:DAYLIGHT
TZOFFSETFROM:-0500
TZOFFSETTO:-0400
TZNAME:EDT
DTSTART:20250309T070000
END:DAYLIGHT
BEGIN:STANDARD
TZOFFSETFROM:-0400
TZOFFSETTO:-0500
TZNAME:EST
DTSTART:20251102T060000
END:STANDARD
BEGIN:DAYLIGHT
TZOFFSETFROM:-0500
TZOFFSETTO:-0400
TZNAME:EDT
DTSTART:20260308T070000
END:DAYLIGHT
BEGIN:STANDARD
TZOFFSETFROM:-0400
TZOFFSETTO:-0500
TZNAME:EST
DTSTART:20261101T060000
END:STANDARD
END:VTIMEZONE
BEGIN:VEVENT
DTSTART;TZID=America/New_York:20250405T080000
DTEND;TZID=America/New_York:20250405T090000
DTSTAMP:20260423T055327
CREATED:20250404T014716Z
LAST-MODIFIED:20250404T014716Z
UID:22347-1743840000-1743843600@vecncc.org
SUMMARY:First Saturday Mass at Holy Family
DESCRIPTION:Every first Saturday starting with Confessions and the Rosary at 8:00 am followed by Mass at 8:30 am\nat Holy Family church in Essex Junction\, VT
URL:https://vecncc.org/event/first-saturday-mass-at-holy-family-3/
LOCATION:Holy Family Church – Essex Junction\, 30 Lincoln St\, Essex Junction\, VT\, United States
CATEGORIES:Catholic,Northwest
ORGANIZER;CN="Essex Catholic Community":MAILTO:holyfamilysecretary@comcast.net
END:VEVENT
BEGIN:VEVENT
DTSTART;TZID=America/New_York:20250405T083000
DTEND;TZID=America/New_York:20250405T150000
DTSTAMP:20260423T055327
CREATED:20250404T014716Z
LAST-MODIFIED:20250404T014716Z
UID:22349-1743841800-1743865200@vecncc.org
SUMMARY:Who is the Eucharist?
DESCRIPTION:On Saturday\, April 5th\, Monsignor Lavalley will present a retreat on “Who is the Eucharist? If the heart of our faith is the Eucharist\, let us come together and rediscover and encounter the love of the Risen Christ\, found in the Sacrament”.\nThe retreat will take place starting with morning Mass at Holy Family Church at 8:30am. The retreat will continue in the Parish Hall and will include presentations by Monsignor\, the celebration of the Eucharist\, lunch and time for fellowship. Please call the parish Office at 802-878-5331 to make a reservation. All are welcome and the suggested donation is $20.
URL:https://vecncc.org/event/who-is-the-eucharist/
LOCATION:Holy Family Church – Essex Junction\, 30 Lincoln St\, Essex Junction\, VT\, United States
CATEGORIES:Catholic,Northwest
ORGANIZER;CN="Monsignor Richard Lavalley":MAILTO:holyfamily2@comcast.net
END:VEVENT
END:VCALENDAR