BEGIN:VCALENDAR
VERSION:2.0
PRODID:-//VECNCC - ECPv6.15.11//NONSGML v1.0//EN
CALSCALE:GREGORIAN
METHOD:PUBLISH
X-ORIGINAL-URL:https://vecncc.org
X-WR-CALDESC:Events for VECNCC
REFRESH-INTERVAL;VALUE=DURATION:PT1H
X-Robots-Tag:noindex
X-PUBLISHED-TTL:PT1H
BEGIN:VTIMEZONE
TZID:America/New_York
BEGIN:DAYLIGHT
TZOFFSETFROM:-0500
TZOFFSETTO:-0400
TZNAME:EDT
DTSTART:20240310T070000
END:DAYLIGHT
BEGIN:STANDARD
TZOFFSETFROM:-0400
TZOFFSETTO:-0500
TZNAME:EST
DTSTART:20241103T060000
END:STANDARD
BEGIN:DAYLIGHT
TZOFFSETFROM:-0500
TZOFFSETTO:-0400
TZNAME:EDT
DTSTART:20250309T070000
END:DAYLIGHT
BEGIN:STANDARD
TZOFFSETFROM:-0400
TZOFFSETTO:-0500
TZNAME:EST
DTSTART:20251102T060000
END:STANDARD
BEGIN:DAYLIGHT
TZOFFSETFROM:-0500
TZOFFSETTO:-0400
TZNAME:EDT
DTSTART:20260308T070000
END:DAYLIGHT
BEGIN:STANDARD
TZOFFSETFROM:-0400
TZOFFSETTO:-0500
TZNAME:EST
DTSTART:20261101T060000
END:STANDARD
END:VTIMEZONE
BEGIN:VEVENT
DTSTART;TZID=America/New_York:20250412T080000
DTEND;TZID=America/New_York:20250412T090000
DTSTAMP:20260423T055634
CREATED:20250411T014822Z
LAST-MODIFIED:20250411T014822Z
UID:22394-1744444800-1744448400@vecncc.org
SUMMARY:St. Padre Pio Prayer Group
DESCRIPTION:The Padre Pio group meets the second Saturday of each month\, at Holy Family Church.  We begin with the Rosary at 8:00am followed by Mass at 8:30am.  Special Intentions for the intercession of Saint Padre Pio and then learning about Padre Pio’s life\, ministry and spiritual gifts.  If you have any questions\, please contact Laura Duquette at 802-557–1593.
URL:https://vecncc.org/event/st-padre-pio-prayer-group-4/
LOCATION:Holy Family Church – Essex Junction\, 30 Lincoln St\, Essex Junction\, VT\, United States
CATEGORIES:Catholic,Northwest
ORGANIZER;CN="Essex Catholic Community":MAILTO:holyfamilysecretary@comcast.net
END:VEVENT
BEGIN:VEVENT
DTSTART;TZID=America/New_York:20250412T090000
DTEND;TZID=America/New_York:20250412T153000
DTSTAMP:20260423T055634
CREATED:20250411T014823Z
LAST-MODIFIED:20250411T014823Z
UID:22396-1744448400-1744471800@vecncc.org
SUMMARY:Clean Out The Closet Sale
DESCRIPTION:St Peter’s Resale Closet shop is having its Clean Out the Closet sale April 12th\, 9 am to 3:30 pm\, in the parish hall. The sale includes gently used clothing for men\, women and children\, household goods\, books and more! Prices are by donation! The Closet shop\, located behind the parish hall\, will also be open for shoppers from 9-3:30. Help us make room for new inventory!
URL:https://vecncc.org/event/clean-out-the-closet-sale/
LOCATION:St. Peter Church – Vergennes\, 85 S Maple St\, Vergennes\, VT\, United States
CATEGORIES:Catholic,Northwest
END:VEVENT
END:VCALENDAR