BEGIN:VCALENDAR
VERSION:2.0
PRODID:-//VECNCC - ECPv6.15.11//NONSGML v1.0//EN
CALSCALE:GREGORIAN
METHOD:PUBLISH
X-ORIGINAL-URL:https://vecncc.org
X-WR-CALDESC:Events for VECNCC
REFRESH-INTERVAL;VALUE=DURATION:PT1H
X-Robots-Tag:noindex
X-PUBLISHED-TTL:PT1H
BEGIN:VTIMEZONE
TZID:America/New_York
BEGIN:DAYLIGHT
TZOFFSETFROM:-0500
TZOFFSETTO:-0400
TZNAME:EDT
DTSTART:20240310T070000
END:DAYLIGHT
BEGIN:STANDARD
TZOFFSETFROM:-0400
TZOFFSETTO:-0500
TZNAME:EST
DTSTART:20241103T060000
END:STANDARD
BEGIN:DAYLIGHT
TZOFFSETFROM:-0500
TZOFFSETTO:-0400
TZNAME:EDT
DTSTART:20250309T070000
END:DAYLIGHT
BEGIN:STANDARD
TZOFFSETFROM:-0400
TZOFFSETTO:-0500
TZNAME:EST
DTSTART:20251102T060000
END:STANDARD
BEGIN:DAYLIGHT
TZOFFSETFROM:-0500
TZOFFSETTO:-0400
TZNAME:EDT
DTSTART:20260308T070000
END:DAYLIGHT
BEGIN:STANDARD
TZOFFSETFROM:-0400
TZOFFSETTO:-0500
TZNAME:EST
DTSTART:20261101T060000
END:STANDARD
END:VTIMEZONE
BEGIN:VEVENT
DTSTART;TZID=America/New_York:20250920T080000
DTEND;TZID=America/New_York:20250920T103000
DTSTAMP:20260422T204615
CREATED:20250912T031715Z
LAST-MODIFIED:20250912T031715Z
UID:23186-1758355200-1758364200@vecncc.org
SUMMARY:Sacrifice: Overcoming the Curse of Adam
DESCRIPTION:All men are invited to come to a Presentation by Fr. James Dodson titled “Sacrifice: Overcoming the Curse of Adam”. Fr. Dodson will be presenting on why sacrifice is necessary and how it helps us to avoid sin\, strengthen our faith and helps us to serve others with charity. There will be time for questions & answers and discussion. Light refreshments will be available. Contact Bill Rensch (goodrenschvt@gmail.com or 802-497-4088) for information.
URL:https://vecncc.org/event/sacrifice-overcoming-the-curse-of-adam/
LOCATION:Immaculate Heart of Mary Church – Williston\, 7417 Williston Rd\, Williston\, VT\, United States
CATEGORIES:Catholic,Northwest
END:VEVENT
END:VCALENDAR