BEGIN:VCALENDAR
VERSION:2.0
PRODID:-//VECNCC - ECPv6.15.11//NONSGML v1.0//EN
CALSCALE:GREGORIAN
METHOD:PUBLISH
X-WR-CALNAME:VECNCC
X-ORIGINAL-URL:https://vecncc.org
X-WR-CALDESC:Events for VECNCC
REFRESH-INTERVAL;VALUE=DURATION:PT1H
X-Robots-Tag:noindex
X-PUBLISHED-TTL:PT1H
BEGIN:VTIMEZONE
TZID:America/New_York
BEGIN:DAYLIGHT
TZOFFSETFROM:-0500
TZOFFSETTO:-0400
TZNAME:EDT
DTSTART:20240310T070000
END:DAYLIGHT
BEGIN:STANDARD
TZOFFSETFROM:-0400
TZOFFSETTO:-0500
TZNAME:EST
DTSTART:20241103T060000
END:STANDARD
BEGIN:DAYLIGHT
TZOFFSETFROM:-0500
TZOFFSETTO:-0400
TZNAME:EDT
DTSTART:20250309T070000
END:DAYLIGHT
BEGIN:STANDARD
TZOFFSETFROM:-0400
TZOFFSETTO:-0500
TZNAME:EST
DTSTART:20251102T060000
END:STANDARD
BEGIN:DAYLIGHT
TZOFFSETFROM:-0500
TZOFFSETTO:-0400
TZNAME:EDT
DTSTART:20260308T070000
END:DAYLIGHT
BEGIN:STANDARD
TZOFFSETFROM:-0400
TZOFFSETTO:-0500
TZNAME:EST
DTSTART:20261101T060000
END:STANDARD
END:VTIMEZONE
BEGIN:VEVENT
DTSTART;TZID=America/New_York:20250301T100000
DTEND;TZID=America/New_York:20250301T154500
DTSTAMP:20260423T180020
CREATED:20250221T013307Z
LAST-MODIFIED:20250221T013307Z
UID:22094-1740823200-1740843900@vecncc.org
SUMMARY:Light of Hope: Diocesan Youth Day Retreat - Bennington
DESCRIPTION:Calling all 7th-12th graders! Join us on Saturday\, March 1 from 10:00 AM-3:45 PM at the Sacred Heart St. Francis De Sales Parish Center in Bennington for a free Diocesan Day Retreat. Come together with other local youth and enjoy a day of prayer\, reflection\, fun\, and hope!\nWe will be exploring the theme\, “Light of Hope\,” in parallel with the Year of Jubilee\, “Pilgrims of Hope\,” celebration around the world. Throughout the day\, we will partake in fun activities\, talks\, small group time\, Adoration\, and Mass. Bring your friends and get to know other Catholics from around the state!\nThe retreat is free of charge\, but we are asking participants to bring a bagged lunch and snacks with them.\nThe official end of the retreat is at 3:45 PM at which time parents or guardians are welcome to pick up participants or stay to attend the 4:00 PM Mass at Sacred Heart St. Francis De Sales Church with the group.\nTo register for the retreat\, please fill out the form available here: https://bit.ly/day-retreat-registration.\nYou can send any questions about the retreat to Isaac Desranleau\, the Diocesan Youth and Young Adult Minister\, via his email at idesranleau@vermontcatholic.org.
URL:https://vecncc.org/event/light-of-hope-diocesan-youth-day-retreat-bennington/
LOCATION:Sacred Heart-St. Francis de Sales Church – Bennington\, 238 Main St\, Bennington\, VT\, United States
CATEGORIES:Catholic,South
ORGANIZER;CN="Isaac Desranleau":MAILTO:idesranleau@vermontcatholic.org
END:VEVENT
BEGIN:VEVENT
DTSTART;TZID=America/New_York:20250307T170000
DTEND;TZID=America/New_York:20250307T183000
DTSTAMP:20260423T180020
CREATED:20250228T013251Z
LAST-MODIFIED:20250228T013251Z
UID:22131-1741366800-1741372200@vecncc.org
SUMMARY:Annual Holy Family Fish Fry
DESCRIPTION:$15.00 eat in or take out. Children under 6 are free for eat in. Fried or baked haddock\, coleslaw\, baked potato or french fries\, beverage\, and dessert. To reserve your take-out\, call 802-885-4123 prior to 2pm day of.
URL:https://vecncc.org/event/annual-holy-family-fish-fry-2/
LOCATION:Nolin-Murray Center\, 10 Pleasant St\, Springfield\, VT\, United States
CATEGORIES:Catholic,South
END:VEVENT
BEGIN:VEVENT
DTSTART;TZID=America/New_York:20250314T170000
DTEND;TZID=America/New_York:20250314T183000
DTSTAMP:20260423T180020
CREATED:20250307T013230Z
LAST-MODIFIED:20250307T013230Z
UID:22174-1741971600-1741977000@vecncc.org
SUMMARY:Annual Holy Family Fish Fry
DESCRIPTION:$15.00 eat in or take out. Children under 6 are free for eat in. Fried or baked haddock\, coleslaw\, baked potato or french fries\, beverage\, and dessert. To reserve your take-out\, call 802-885-4123 prior to 2pm day of.
URL:https://vecncc.org/event/annual-holy-family-fish-fry-3/
LOCATION:Nolin-Murray Center\, 10 Pleasant St\, Springfield\, VT\, United States
CATEGORIES:Catholic,South
END:VEVENT
BEGIN:VEVENT
DTSTART;TZID=America/New_York:20250321T170000
DTEND;TZID=America/New_York:20250321T183000
DTSTAMP:20260423T180020
CREATED:20250314T013249Z
LAST-MODIFIED:20250314T013249Z
UID:22221-1742576400-1742581800@vecncc.org
SUMMARY:Annual Holy Family Fish Fry
DESCRIPTION:$15.00 eat in or take out. Children under 6 are free for eat in. Fried or baked haddock\, coleslaw\, baked potato or french fries\, beverage\, and dessert. To reserve your take-out\, call 802-885-4123 prior to 2pm day of.
URL:https://vecncc.org/event/annual-holy-family-fish-fry-4/
LOCATION:Nolin-Murray Center\, 10 Pleasant St\, Springfield\, VT\, United States
CATEGORIES:Catholic,South
END:VEVENT
BEGIN:VEVENT
DTSTART;TZID=America/New_York:20250328T170000
DTEND;TZID=America/New_York:20250328T183000
DTSTAMP:20260423T180020
CREATED:20250321T013217Z
LAST-MODIFIED:20250321T013217Z
UID:22267-1743181200-1743186600@vecncc.org
SUMMARY:Annual Holy Family Fish Fry
DESCRIPTION:$15.00 eat in or take out. Children under 6 are free for eat in. Fried or baked haddock\, coleslaw\, baked potato or french fries\, beverage\, and dessert. To reserve your take-out\, call 802-885-4123 prior to 2pm day of.
URL:https://vecncc.org/event/annual-holy-family-fish-fry-5/
LOCATION:Nolin-Murray Center\, 10 Pleasant St\, Springfield\, VT\, United States
CATEGORIES:Catholic,South
END:VEVENT
END:VCALENDAR