BEGIN:VCALENDAR
VERSION:2.0
PRODID:-//VECNCC - ECPv6.15.11//NONSGML v1.0//EN
CALSCALE:GREGORIAN
METHOD:PUBLISH
X-WR-CALNAME:VECNCC
X-ORIGINAL-URL:https://vecncc.org
X-WR-CALDESC:Events for VECNCC
REFRESH-INTERVAL;VALUE=DURATION:PT1H
X-Robots-Tag:noindex
X-PUBLISHED-TTL:PT1H
BEGIN:VTIMEZONE
TZID:America/New_York
BEGIN:DAYLIGHT
TZOFFSETFROM:-0500
TZOFFSETTO:-0400
TZNAME:EDT
DTSTART:20240310T070000
END:DAYLIGHT
BEGIN:STANDARD
TZOFFSETFROM:-0400
TZOFFSETTO:-0500
TZNAME:EST
DTSTART:20241103T060000
END:STANDARD
BEGIN:DAYLIGHT
TZOFFSETFROM:-0500
TZOFFSETTO:-0400
TZNAME:EDT
DTSTART:20250309T070000
END:DAYLIGHT
BEGIN:STANDARD
TZOFFSETFROM:-0400
TZOFFSETTO:-0500
TZNAME:EST
DTSTART:20251102T060000
END:STANDARD
BEGIN:DAYLIGHT
TZOFFSETFROM:-0500
TZOFFSETTO:-0400
TZNAME:EDT
DTSTART:20260308T070000
END:DAYLIGHT
BEGIN:STANDARD
TZOFFSETFROM:-0400
TZOFFSETTO:-0500
TZNAME:EST
DTSTART:20261101T060000
END:STANDARD
END:VTIMEZONE
BEGIN:VEVENT
DTSTART;TZID=America/New_York:20250717T170000
DTEND;TZID=America/New_York:20250717T200000
DTSTAMP:20260422T192047
CREATED:20250620T023228Z
LAST-MODIFIED:20250620T023228Z
UID:22781-1752771600-1752782400@vecncc.org
SUMMARY:Diocesan Convocation - Day 1
DESCRIPTION:Join us July 17\, 18\, and 19 for the Jubilee Year of Hope Diocesan Convocation. Each evening features dinner\, presentations to inspire and deepen faith\, and opportunities for prayer and worship. Each evening will also have a simple activity you can partake in to become an “agent of hope.”\nThis evening’s theme is Hope and the Sacred Heart: A Balm Amidst Hardship.\n5:00 – 6:00 pm: Potluck Dinner (held in the school)\n6:00 – 7:00 pm: Presentations\n7:00 – 8:00 pm: Exposition and Adoration of the Blessed Sacrament with Opportunity for Reconciliation\nSpeakers include Fr. Lance Harlow\, pastor of Corpus Christi Parish in St. Johnsbury.\nPlease sign up for the Potluck here: SignUp Genius\nFor more information on the Diocesan Convocation\, visit www.vermontcatholic.org/convocation
URL:https://vecncc.org/event/diocesan-convocation-day-1/
LOCATION:Saint Michael’s Parish – Brattleboro\, 49 Walnut St\, Brattleboro\, VT\, United States
CATEGORIES:Catholic,South
ATTACH;FMTTYPE=image/jpeg:https://vecncc.org/wp-content/uploads/2025/06/Jubilee_Convocation_2025_event-MOYRDT.jpg
ORGANIZER;CN="Josh Perry":MAILTO:jperry@vermontcatholic.org
END:VEVENT
BEGIN:VEVENT
DTSTART;TZID=America/New_York:20250625T183000
DTEND;TZID=America/New_York:20250625T203000
DTSTAMP:20260422T192047
CREATED:20250613T021713Z
LAST-MODIFIED:20250613T021713Z
UID:22726-1750876200-1750883400@vecncc.org
SUMMARY:Series: What Would Jesus Do?
DESCRIPTION:What Would Jesus Do? \nForming the Christian Conscience Through Catholic Social Teaching \n \n“You have been told what is good and what the Lord requires of you: only to do justice and love goodness\, and to walk humbly with your God.” \nThe prophet Micah makes it sound so easy – but the world we live in can be a complicated place. Competing ideals and moral philosophies bombard us from every direction on a daily basis and sometimes make it hard to get a clear sense of what is right\, and what is wrong. How do we discern Justice and Goodness in this day and age? \nThe Social Teachings of the Catholic Church are built upon Holy Scripture and developed through the accumulated wisdom and example of the Saints\, teachers\, and spiritual leaders of the Church. It lays out some basic themes and principles that help develop our consciences and learn to better live together within society and among our sisters and brothers in Christ. \nJoin Deacon Josh McDonald in exploring the Seven Themes of Catholic Social Teaching and how they can apply to the issues\, challenges\, and difficulties of our world today. Wednesday evenings\, 6:30pm in the rectory of Our Lady of the Holy Rosary in Richmond. \n \nTheme 1 : Life and the Dignity of the Human Person.  \nTheme 2 : Call to Family\, Community\, and Participation. \nTheme 3 : Rights and Responsibilities. \nTheme 4 : Option for the Poor and Vulnerable. \nTheme 5 : Dignity of Work and the Rights of Workers. \nTheme 6 : Care for Creation. \nTheme 7 : Solidarity. 
URL:https://vecncc.org/event/series-what-would-jesus-do-7/
LOCATION:Our Lady of the Holy Rosary Church – Richmond\, 64 W Main St\, Richmond\, VT\, United States
CATEGORIES:Catholic,ministry,South
ATTACH;FMTTYPE=image/png:https://vecncc.org/wp-content/uploads/2025/05/n-bsCOPU.png
END:VEVENT
BEGIN:VEVENT
DTSTART;TZID=America/New_York:20250618T183000
DTEND;TZID=America/New_York:20250618T203000
DTSTAMP:20260422T192047
CREATED:20250606T021717Z
LAST-MODIFIED:20250606T021717Z
UID:22679-1750271400-1750278600@vecncc.org
SUMMARY:Series: What Would Jesus Do?
DESCRIPTION:What Would Jesus Do? \nForming the Christian Conscience Through Catholic Social Teaching \n \n“You have been told what is good and what the Lord requires of you: only to do justice and love goodness\, and to walk humbly with your God.” \nThe prophet Micah makes it sound so easy – but the world we live in can be a complicated place. Competing ideals and moral philosophies bombard us from every direction on a daily basis and sometimes make it hard to get a clear sense of what is right\, and what is wrong. How do we discern Justice and Goodness in this day and age? \nThe Social Teachings of the Catholic Church are built upon Holy Scripture and developed through the accumulated wisdom and example of the Saints\, teachers\, and spiritual leaders of the Church. It lays out some basic themes and principles that help develop our consciences and learn to better live together within society and among our sisters and brothers in Christ. \nJoin Deacon Josh McDonald in exploring the Seven Themes of Catholic Social Teaching and how they can apply to the issues\, challenges\, and difficulties of our world today. Wednesday evenings\, 6:30pm in the rectory of Our Lady of the Holy Rosary in Richmond. \n \nTheme 1 : Life and the Dignity of the Human Person.  \nTheme 2 : Call to Family\, Community\, and Participation. \nTheme 3 : Rights and Responsibilities. \nTheme 4 : Option for the Poor and Vulnerable. \nTheme 5 : Dignity of Work and the Rights of Workers. \nTheme 6 : Care for Creation. \nTheme 7 : Solidarity. 
URL:https://vecncc.org/event/series-what-would-jesus-do-6/
LOCATION:Our Lady of the Holy Rosary Church – Richmond\, 64 W Main St\, Richmond\, VT\, United States
CATEGORIES:Catholic,ministry,South
ATTACH;FMTTYPE=image/png:https://vecncc.org/wp-content/uploads/2025/05/n-bsCOPU.png
END:VEVENT
BEGIN:VEVENT
DTSTART;TZID=America/New_York:20250611T183000
DTEND;TZID=America/New_York:20250611T203000
DTSTAMP:20260422T192047
CREATED:20250523T020303Z
LAST-MODIFIED:20250523T020303Z
UID:22611-1749666600-1749673800@vecncc.org
SUMMARY:Series: What Would Jesus Do?
DESCRIPTION:What Would Jesus Do? \nForming the Christian Conscience Through Catholic Social Teaching \n \n“You have been told what is good and what the Lord requires of you: only to do justice and love goodness\, and to walk humbly with your God.” \nThe prophet Micah makes it sound so easy – but the world we live in can be a complicated place. Competing ideals and moral philosophies bombard us from every direction on a daily basis and sometimes make it hard to get a clear sense of what is right\, and what is wrong. How do we discern Justice and Goodness in this day and age? \nThe Social Teachings of the Catholic Church are built upon Holy Scripture and developed through the accumulated wisdom and example of the Saints\, teachers\, and spiritual leaders of the Church. It lays out some basic themes and principles that help develop our consciences and learn to better live together within society and among our sisters and brothers in Christ. \nJoin Deacon Josh McDonald in exploring the Seven Themes of Catholic Social Teaching and how they can apply to the issues\, challenges\, and difficulties of our world today. Wednesday evenings\, 6:30pm in the rectory of Our Lady of the Holy Rosary in Richmond. \n \nTheme 1 : Life and the Dignity of the Human Person.  \nTheme 2 : Call to Family\, Community\, and Participation. \nTheme 3 : Rights and Responsibilities. \nTheme 4 : Option for the Poor and Vulnerable. \nTheme 5 : Dignity of Work and the Rights of Workers. \nTheme 6 : Care for Creation. \nTheme 7 : Solidarity. 
URL:https://vecncc.org/event/series-what-would-jesus-do-5/
LOCATION:Our Lady of the Holy Rosary Church – Richmond\, 64 W Main St\, Richmond\, VT\, United States
CATEGORIES:Catholic,ministry,South
ATTACH;FMTTYPE=image/png:https://vecncc.org/wp-content/uploads/2025/05/n-bsCOPU.png
END:VEVENT
BEGIN:VEVENT
DTSTART;TZID=America/New_York:20250604T183000
DTEND;TZID=America/New_York:20250604T203000
DTSTAMP:20260422T192047
CREATED:20250516T015012Z
LAST-MODIFIED:20250516T015012Z
UID:22584-1749061800-1749069000@vecncc.org
SUMMARY:Series: What Would Jesus Do?
DESCRIPTION:What Would Jesus Do? \nForming the Christian Conscience Through Catholic Social Teaching \n \n“You have been told what is good and what the Lord requires of you: only to do justice and love goodness\, and to walk humbly with your God.” \nThe prophet Micah makes it sound so easy – but the world we live in can be a complicated place. Competing ideals and moral philosophies bombard us from every direction on a daily basis and sometimes make it hard to get a clear sense of what is right\, and what is wrong. How do we discern Justice and Goodness in this day and age? \nThe Social Teachings of the Catholic Church are built upon Holy Scripture and developed through the accumulated wisdom and example of the Saints\, teachers\, and spiritual leaders of the Church. It lays out some basic themes and principles that help develop our consciences and learn to better live together within society and among our sisters and brothers in Christ. \nJoin Deacon Josh McDonald in exploring the Seven Themes of Catholic Social Teaching and how they can apply to the issues\, challenges\, and difficulties of our world today. Wednesday evenings\, 6:30pm in the rectory of Our Lady of the Holy Rosary in Richmond. \n \nTheme 1 : Life and the Dignity of the Human Person.  \nTheme 2 : Call to Family\, Community\, and Participation. \nTheme 3 : Rights and Responsibilities. \nTheme 4 : Option for the Poor and Vulnerable. \nTheme 5 : Dignity of Work and the Rights of Workers. \nTheme 6 : Care for Creation. \nTheme 7 : Solidarity. 
URL:https://vecncc.org/event/series-what-would-jesus-do-4/
LOCATION:Our Lady of the Holy Rosary Church – Richmond\, 64 W Main St\, Richmond\, VT\, United States
CATEGORIES:Catholic,ministry,South
ATTACH;FMTTYPE=image/png:https://vecncc.org/wp-content/uploads/2025/05/n-bsCOPU.png
END:VEVENT
BEGIN:VEVENT
DTSTART;TZID=America/New_York:20250528T183000
DTEND;TZID=America/New_York:20250528T203000
DTSTAMP:20260422T192047
CREATED:20250509T014759Z
LAST-MODIFIED:20250509T014759Z
UID:22554-1748457000-1748464200@vecncc.org
SUMMARY:Series: What Would Jesus Do?
DESCRIPTION:What Would Jesus Do? \nForming the Christian Conscience Through Catholic Social Teaching \n \n“You have been told what is good and what the Lord requires of you: only to do justice and love goodness\, and to walk humbly with your God.” \nThe prophet Micah makes it sound so easy – but the world we live in can be a complicated place. Competing ideals and moral philosophies bombard us from every direction on a daily basis and sometimes make it hard to get a clear sense of what is right\, and what is wrong. How do we discern Justice and Goodness in this day and age? \nThe Social Teachings of the Catholic Church are built upon Holy Scripture and developed through the accumulated wisdom and example of the Saints\, teachers\, and spiritual leaders of the Church. It lays out some basic themes and principles that help develop our consciences and learn to better live together within society and among our sisters and brothers in Christ. \nJoin Deacon Josh McDonald in exploring the Seven Themes of Catholic Social Teaching and how they can apply to the issues\, challenges\, and difficulties of our world today. Wednesday evenings\, 6:30pm in the rectory of Our Lady of the Holy Rosary in Richmond. \n \nTheme 1 : Life and the Dignity of the Human Person.  \nTheme 2 : Call to Family\, Community\, and Participation. \nTheme 3 : Rights and Responsibilities. \nTheme 4 : Option for the Poor and Vulnerable. \nTheme 5 : Dignity of Work and the Rights of Workers. \nTheme 6 : Care for Creation. \nTheme 7 : Solidarity. 
URL:https://vecncc.org/event/series-what-would-jesus-do-3/
LOCATION:Our Lady of the Holy Rosary Church – Richmond\, 64 W Main St\, Richmond\, VT\, United States
CATEGORIES:Catholic,ministry,South
ATTACH;FMTTYPE=image/png:https://vecncc.org/wp-content/uploads/2025/05/n-bsCOPU.png
END:VEVENT
BEGIN:VEVENT
DTSTART;TZID=America/New_York:20250521T183000
DTEND;TZID=America/New_York:20250521T203000
DTSTAMP:20260422T192047
CREATED:20250509T014756Z
LAST-MODIFIED:20250509T014756Z
UID:22545-1747852200-1747859400@vecncc.org
SUMMARY:Series: What Would Jesus Do?
DESCRIPTION:What Would Jesus Do? \nForming the Christian Conscience Through Catholic Social Teaching \n \n“You have been told what is good and what the Lord requires of you: only to do justice and love goodness\, and to walk humbly with your God.” \nThe prophet Micah makes it sound so easy – but the world we live in can be a complicated place. Competing ideals and moral philosophies bombard us from every direction on a daily basis and sometimes make it hard to get a clear sense of what is right\, and what is wrong. How do we discern Justice and Goodness in this day and age? \nThe Social Teachings of the Catholic Church are built upon Holy Scripture and developed through the accumulated wisdom and example of the Saints\, teachers\, and spiritual leaders of the Church. It lays out some basic themes and principles that help develop our consciences and learn to better live together within society and among our sisters and brothers in Christ. \nJoin Deacon Josh McDonald in exploring the Seven Themes of Catholic Social Teaching and how they can apply to the issues\, challenges\, and difficulties of our world today. Wednesday evenings\, 6:30pm in the rectory of Our Lady of the Holy Rosary in Richmond. \n \nTheme 1 : Life and the Dignity of the Human Person.  \nTheme 2 : Call to Family\, Community\, and Participation. \nTheme 3 : Rights and Responsibilities. \nTheme 4 : Option for the Poor and Vulnerable. \nTheme 5 : Dignity of Work and the Rights of Workers. \nTheme 6 : Care for Creation. \nTheme 7 : Solidarity. 
URL:https://vecncc.org/event/series-what-would-jesus-do-2/
LOCATION:Our Lady of the Holy Rosary Church – Richmond\, 64 W Main St\, Richmond\, VT\, United States
CATEGORIES:Catholic,ministry,South
ATTACH;FMTTYPE=image/png:https://vecncc.org/wp-content/uploads/2025/05/n-bsCOPU.png
END:VEVENT
BEGIN:VEVENT
DTSTART;TZID=America/New_York:20250517T100000
DTEND;TZID=America/New_York:20250517T154500
DTSTAMP:20260422T192047
CREATED:20250502T014850Z
LAST-MODIFIED:20250502T014850Z
UID:22522-1747476000-1747496700@vecncc.org
SUMMARY:Light of Hope: Diocesan Youth Day Retreat - Bellows Falls
DESCRIPTION:Calling all 7th-12th graders! Join us on Saturday\, May 17 from 10:00 AM-3:45 PM at the St. Charles Parish Hall in Bellows Falls for a free Diocesan Day Retreat. Come together with other local youth and enjoy a day of prayer\, reflection\, fun\, and hope! We will be exploring the theme\, “Light of Hope\,” in parallel with the Year of Jubilee\, “Pilgrims of Hope\,” celebration around the world. Throughout the day\, we will partake in fun activities\, talks\, small group time\, Adoration\, and Mass. Bring your friends and get to know other Catholics from around the state!\nThe retreat is free of charge\, but we are asking participants to bring a bagged lunch and snacks with them. The official end of the retreat is at 3:45 PM at which time parents or guardians are welcome to pick up participants or stay to attend the 4:00 PM Mass at St. Charles Church with the group.\nTo register for the retreat\, please fill out the form available here: https://bit.ly/day-retreat-registration. You can send any questions about the retreat to Isaac Desranleau\, the Diocesan Youth and Young Adult Minister\, via his email at idesranleau@vermontcatholic.org.
URL:https://vecncc.org/event/light-of-hope-diocesan-youth-day-retreat-bellows-falls/
LOCATION:St. Charles Church – Bellows Falls\, 31 Cherry Hill St\, Bellows Falls\, VT\, United States
CATEGORIES:Catholic,South
ORGANIZER;CN="Isaac Desranleau":MAILTO:idesranleau@vermontcatholic.org
END:VEVENT
BEGIN:VEVENT
DTSTART;TZID=America/New_York:20250514T183000
DTEND;TZID=America/New_York:20250514T203000
DTSTAMP:20260422T192047
CREATED:20250502T014848Z
LAST-MODIFIED:20250502T014848Z
UID:22517-1747247400-1747254600@vecncc.org
SUMMARY:Series: What Would Jesus Do?
DESCRIPTION:What Would Jesus Do? \nForming the Christian Conscience Through Catholic Social Teaching \n \n“You have been told what is good and what the Lord requires of you: only to do justice and love goodness\, and to walk humbly with your God.” \nThe prophet Micah makes it sound so easy – but the world we live in can be a complicated place. Competing ideals and moral philosophies bombard us from every direction on a daily basis and sometimes make it hard to get a clear sense of what is right\, and what is wrong. How do we discern Justice and Goodness in this day and age? \nThe Social Teachings of the Catholic Church are built upon Holy Scripture and developed through the accumulated wisdom and example of the Saints\, teachers\, and spiritual leaders of the Church. It lays out some basic themes and principles that help develop our consciences and learn to better live together within society and among our sisters and brothers in Christ. \nJoin Deacon Josh McDonald in exploring the Seven Themes of Catholic Social Teaching and how they can apply to the issues\, challenges\, and difficulties of our world today. Wednesday evenings\, 6:30pm in the rectory of Our Lady of the Holy Rosary in Richmond. \n \nTheme 1 : Life and the Dignity of the Human Person.  \nTheme 2 : Call to Family\, Community\, and Participation. \nTheme 3 : Rights and Responsibilities. \nTheme 4 : Option for the Poor and Vulnerable. \nTheme 5 : Dignity of Work and the Rights of Workers. \nTheme 6 : Care for Creation. \nTheme 7 : Solidarity. 
URL:https://vecncc.org/event/series-what-would-jesus-do/
LOCATION:Our Lady of the Holy Rosary Church – Richmond\, 64 W Main St\, Richmond\, VT\, United States
CATEGORIES:Catholic,ministry,South
ATTACH;FMTTYPE=image/png:https://vecncc.org/wp-content/uploads/2025/05/n-bsCOPU.png
END:VEVENT
BEGIN:VEVENT
DTSTART;TZID=America/New_York:20250411T170000
DTEND;TZID=America/New_York:20250411T183000
DTSTAMP:20260422T192047
CREATED:20250411T014821Z
LAST-MODIFIED:20250411T014821Z
UID:22390-1744390800-1744396200@vecncc.org
SUMMARY:Annual Holy Family Fish Fry
DESCRIPTION:$15.00 eat in or take out. Children under 6 are free for eat in. Fried or baked haddock\, coleslaw\, baked potato or french fries\, beverage\, and dessert. To reserve your take-out\, call 802-885-4123 prior to 2pm day of.
URL:https://vecncc.org/event/annual-holy-family-fish-fry-7/
LOCATION:Nolin-Murray Center\, 10 Pleasant St\, Springfield\, VT\, United States
CATEGORIES:Catholic,South
END:VEVENT
BEGIN:VEVENT
DTSTART;TZID=America/New_York:20250404T170000
DTEND;TZID=America/New_York:20250404T183000
DTSTAMP:20260422T192047
CREATED:20250328T013227Z
LAST-MODIFIED:20250328T013227Z
UID:22316-1743786000-1743791400@vecncc.org
SUMMARY:Annual Holy Family Fish Fry
DESCRIPTION:$15.00 eat in or take out. Children under 6 are free for eat in. Fried or baked haddock\, coleslaw\, baked potato or french fries\, beverage\, and dessert. To reserve your take-out\, call 802-885-4123 prior to 2pm day of.
URL:https://vecncc.org/event/annual-holy-family-fish-fry-6/
LOCATION:Nolin-Murray Center\, 10 Pleasant St\, Springfield\, VT\, United States
CATEGORIES:Catholic,South
END:VEVENT
BEGIN:VEVENT
DTSTART;TZID=America/New_York:20250328T170000
DTEND;TZID=America/New_York:20250328T183000
DTSTAMP:20260422T192047
CREATED:20250321T013217Z
LAST-MODIFIED:20250321T013217Z
UID:22267-1743181200-1743186600@vecncc.org
SUMMARY:Annual Holy Family Fish Fry
DESCRIPTION:$15.00 eat in or take out. Children under 6 are free for eat in. Fried or baked haddock\, coleslaw\, baked potato or french fries\, beverage\, and dessert. To reserve your take-out\, call 802-885-4123 prior to 2pm day of.
URL:https://vecncc.org/event/annual-holy-family-fish-fry-5/
LOCATION:Nolin-Murray Center\, 10 Pleasant St\, Springfield\, VT\, United States
CATEGORIES:Catholic,South
END:VEVENT
BEGIN:VEVENT
DTSTART;TZID=America/New_York:20250321T170000
DTEND;TZID=America/New_York:20250321T183000
DTSTAMP:20260422T192047
CREATED:20250314T013249Z
LAST-MODIFIED:20250314T013249Z
UID:22221-1742576400-1742581800@vecncc.org
SUMMARY:Annual Holy Family Fish Fry
DESCRIPTION:$15.00 eat in or take out. Children under 6 are free for eat in. Fried or baked haddock\, coleslaw\, baked potato or french fries\, beverage\, and dessert. To reserve your take-out\, call 802-885-4123 prior to 2pm day of.
URL:https://vecncc.org/event/annual-holy-family-fish-fry-4/
LOCATION:Nolin-Murray Center\, 10 Pleasant St\, Springfield\, VT\, United States
CATEGORIES:Catholic,South
END:VEVENT
BEGIN:VEVENT
DTSTART;TZID=America/New_York:20250314T170000
DTEND;TZID=America/New_York:20250314T183000
DTSTAMP:20260422T192047
CREATED:20250307T013230Z
LAST-MODIFIED:20250307T013230Z
UID:22174-1741971600-1741977000@vecncc.org
SUMMARY:Annual Holy Family Fish Fry
DESCRIPTION:$15.00 eat in or take out. Children under 6 are free for eat in. Fried or baked haddock\, coleslaw\, baked potato or french fries\, beverage\, and dessert. To reserve your take-out\, call 802-885-4123 prior to 2pm day of.
URL:https://vecncc.org/event/annual-holy-family-fish-fry-3/
LOCATION:Nolin-Murray Center\, 10 Pleasant St\, Springfield\, VT\, United States
CATEGORIES:Catholic,South
END:VEVENT
BEGIN:VEVENT
DTSTART;TZID=America/New_York:20250307T170000
DTEND;TZID=America/New_York:20250307T183000
DTSTAMP:20260422T192047
CREATED:20250228T013251Z
LAST-MODIFIED:20250228T013251Z
UID:22131-1741366800-1741372200@vecncc.org
SUMMARY:Annual Holy Family Fish Fry
DESCRIPTION:$15.00 eat in or take out. Children under 6 are free for eat in. Fried or baked haddock\, coleslaw\, baked potato or french fries\, beverage\, and dessert. To reserve your take-out\, call 802-885-4123 prior to 2pm day of.
URL:https://vecncc.org/event/annual-holy-family-fish-fry-2/
LOCATION:Nolin-Murray Center\, 10 Pleasant St\, Springfield\, VT\, United States
CATEGORIES:Catholic,South
END:VEVENT
BEGIN:VEVENT
DTSTART;TZID=America/New_York:20250301T100000
DTEND;TZID=America/New_York:20250301T154500
DTSTAMP:20260422T192047
CREATED:20250221T013307Z
LAST-MODIFIED:20250221T013307Z
UID:22094-1740823200-1740843900@vecncc.org
SUMMARY:Light of Hope: Diocesan Youth Day Retreat - Bennington
DESCRIPTION:Calling all 7th-12th graders! Join us on Saturday\, March 1 from 10:00 AM-3:45 PM at the Sacred Heart St. Francis De Sales Parish Center in Bennington for a free Diocesan Day Retreat. Come together with other local youth and enjoy a day of prayer\, reflection\, fun\, and hope!\nWe will be exploring the theme\, “Light of Hope\,” in parallel with the Year of Jubilee\, “Pilgrims of Hope\,” celebration around the world. Throughout the day\, we will partake in fun activities\, talks\, small group time\, Adoration\, and Mass. Bring your friends and get to know other Catholics from around the state!\nThe retreat is free of charge\, but we are asking participants to bring a bagged lunch and snacks with them.\nThe official end of the retreat is at 3:45 PM at which time parents or guardians are welcome to pick up participants or stay to attend the 4:00 PM Mass at Sacred Heart St. Francis De Sales Church with the group.\nTo register for the retreat\, please fill out the form available here: https://bit.ly/day-retreat-registration.\nYou can send any questions about the retreat to Isaac Desranleau\, the Diocesan Youth and Young Adult Minister\, via his email at idesranleau@vermontcatholic.org.
URL:https://vecncc.org/event/light-of-hope-diocesan-youth-day-retreat-bennington/
LOCATION:Sacred Heart-St. Francis de Sales Church – Bennington\, 238 Main St\, Bennington\, VT\, United States
CATEGORIES:Catholic,South
ORGANIZER;CN="Isaac Desranleau":MAILTO:idesranleau@vermontcatholic.org
END:VEVENT
BEGIN:VEVENT
DTSTART;TZID=America/New_York:20250228T170000
DTEND;TZID=America/New_York:20250228T183000
DTSTAMP:20260422T192047
CREATED:20250221T013305Z
LAST-MODIFIED:20250221T013305Z
UID:22088-1740762000-1740767400@vecncc.org
SUMMARY:Annual Holy Family Fish Fry
DESCRIPTION:$15.00 eat in or take out. Children under 6 are free for eat in. Fried or baked haddock\, coleslaw\, baked potato or french fries\, beverage\, and dessert. To reserve your take-out\, call 802-885-4123 prior to 2pm day of.
URL:https://vecncc.org/event/annual-holy-family-fish-fry/
LOCATION:Nolin-Murray Center\, 10 Pleasant St\, Springfield\, VT\, United States
CATEGORIES:Catholic,South
END:VEVENT
BEGIN:VEVENT
DTSTART;TZID=America/New_York:20250118T103000
DTEND;TZID=America/New_York:20250118T161500
DTSTAMP:20260422T192047
CREATED:20250110T011006Z
LAST-MODIFIED:20250110T011006Z
UID:21831-1737196200-1737216900@vecncc.org
SUMMARY:Light of Hope: Diocesan Youth Day Retreat - Rutland
DESCRIPTION:Calling all 7th-12th graders! Join us on Saturday\, January 18 from 10:30 AM-4:15 PM at Mount St. Joseph Academy in Rutland for a free Diocesan Day Retreat. Come together with other local youth and enjoy a day of prayer\, reflection\, fun\, and hope!\nWe will be exploring the theme\, “Light of Hope\,” in parallel with the Year of Jubilee\, “Pilgrims of Hope\,” celebration around the world. Throughout the day\, we will come together for fun activities\, talks\, small group time\, Adoration\, and Mass. Bring your friends and get to know other Catholics from around the state! The retreat is free of charge\, but we are asking participants to bring a bagged lunch with them.\nTo register for the retreat\, please fill out the form available here: https://bit.ly/day-retreat-registration.\nYou can send any questions about the retreat to Isaac Desranleau\, the Diocesan Youth and Young Adult Minister\, via his email at idesranleau@vermontcatholic.org.
URL:https://vecncc.org/event/light-of-hope-diocesan-youth-day-retreat-rutland/
LOCATION:Mount St. Joseph Academy\, 127 Convent Ave\, Rutland\, VT\, United States
CATEGORIES:Catholic,South
ORGANIZER;CN="Isaac Desranleau":MAILTO:idesranleau@vermontcatholic.org
END:VEVENT
END:VCALENDAR