BEGIN:VCALENDAR
VERSION:2.0
PRODID:-//VECNCC - ECPv6.15.11//NONSGML v1.0//EN
CALSCALE:GREGORIAN
METHOD:PUBLISH
X-WR-CALNAME:VECNCC
X-ORIGINAL-URL:https://vecncc.org
X-WR-CALDESC:Events for VECNCC
REFRESH-INTERVAL;VALUE=DURATION:PT1H
X-Robots-Tag:noindex
X-PUBLISHED-TTL:PT1H
BEGIN:VTIMEZONE
TZID:America/New_York
BEGIN:DAYLIGHT
TZOFFSETFROM:-0500
TZOFFSETTO:-0400
TZNAME:EDT
DTSTART:20240310T070000
END:DAYLIGHT
BEGIN:STANDARD
TZOFFSETFROM:-0400
TZOFFSETTO:-0500
TZNAME:EST
DTSTART:20241103T060000
END:STANDARD
BEGIN:DAYLIGHT
TZOFFSETFROM:-0500
TZOFFSETTO:-0400
TZNAME:EDT
DTSTART:20250309T070000
END:DAYLIGHT
BEGIN:STANDARD
TZOFFSETFROM:-0400
TZOFFSETTO:-0500
TZNAME:EST
DTSTART:20251102T060000
END:STANDARD
BEGIN:DAYLIGHT
TZOFFSETFROM:-0500
TZOFFSETTO:-0400
TZNAME:EDT
DTSTART:20260308T070000
END:DAYLIGHT
BEGIN:STANDARD
TZOFFSETFROM:-0400
TZOFFSETTO:-0500
TZNAME:EST
DTSTART:20261101T060000
END:STANDARD
END:VTIMEZONE
BEGIN:VEVENT
DTSTART;TZID=America/New_York:20250120T190000
DTEND;TZID=America/New_York:20250120T200000
DTSTAMP:20260423T161747
CREATED:20250110T021732Z
LAST-MODIFIED:20250110T021732Z
UID:21859-1737399600-1737403200@vecncc.org
SUMMARY:Interfaith Service & Moral Mass Meeting
DESCRIPTION:For Such a Time as This: A Prophetic Response to America’s Defining Moment\nJanuary 20th is a time for us to gather as one\, united in witness\, to reflect\, and to rise in body and spirit as we seek a just world for all.\nHealing Cathedral Christian Church\n(Disciples of Christ)\n4523 Elvis Presley Blvd.\nMemphis\, TN 38116\nMonday\, January 20th\, 2025\n6:00pm CT / 7:00pm ET\nRegister to attend in person: Summary – Interfaith Service & Moral Mass Meeting (cvent.com)\nLearn more: Interfaith Service & Moral Mass Meeting – United Church of Christ (ucc.org)
URL:https://vecncc.org/event/interfaith-service-moral-mass-meeting/
LOCATION:Healing Cathedral Christian Church (Disciples of Christ)\, 4523 Elvis Presley Blvd\, Memphis\, TN\, United States
CATEGORIES:UCC
ATTACH;FMTTYPE=image/jpeg:https://vecncc.org/wp-content/uploads/2025/01/MLK-Day-2025-Service-and-mass-meeting-News-WP-feature-1-pIpsud.tmp_.jpg
END:VEVENT
END:VCALENDAR