BEGIN:VCALENDAR
VERSION:2.0
PRODID:-//VECNCC - ECPv6.15.11//NONSGML v1.0//EN
CALSCALE:GREGORIAN
METHOD:PUBLISH
X-WR-CALNAME:VECNCC
X-ORIGINAL-URL:https://vecncc.org
X-WR-CALDESC:Events for VECNCC
REFRESH-INTERVAL;VALUE=DURATION:PT1H
X-Robots-Tag:noindex
X-PUBLISHED-TTL:PT1H
BEGIN:VTIMEZONE
TZID:America/New_York
BEGIN:DAYLIGHT
TZOFFSETFROM:-0500
TZOFFSETTO:-0400
TZNAME:EDT
DTSTART:20240310T070000
END:DAYLIGHT
BEGIN:STANDARD
TZOFFSETFROM:-0400
TZOFFSETTO:-0500
TZNAME:EST
DTSTART:20241103T060000
END:STANDARD
BEGIN:DAYLIGHT
TZOFFSETFROM:-0500
TZOFFSETTO:-0400
TZNAME:EDT
DTSTART:20250309T070000
END:DAYLIGHT
BEGIN:STANDARD
TZOFFSETFROM:-0400
TZOFFSETTO:-0500
TZNAME:EST
DTSTART:20251102T060000
END:STANDARD
BEGIN:DAYLIGHT
TZOFFSETFROM:-0500
TZOFFSETTO:-0400
TZNAME:EDT
DTSTART:20260308T070000
END:DAYLIGHT
BEGIN:STANDARD
TZOFFSETFROM:-0400
TZOFFSETTO:-0500
TZNAME:EST
DTSTART:20261101T060000
END:STANDARD
END:VTIMEZONE
BEGIN:VEVENT
DTSTART;TZID=America/New_York:20250123T153000
DTEND;TZID=America/New_York:20250123T163000
DTSTAMP:20260423T161743
CREATED:20250110T021733Z
LAST-MODIFIED:20250110T021733Z
UID:21861-1737646200-1737649800@vecncc.org
SUMMARY:Nurture the Soul's Reading Into the New Year: The Recovery of Joy while Living with Depression with Robert Griggs
DESCRIPTION:At the start of every year\, Nurture the Soul partners with Pilgrim Press to highlight books that came out in the last quarter of the previous year or are forthcoming. We have an exciting list of topics and authors to highlight this January including Author and Pastor Robert Griggs.\nAt a time when we’re all looking for hope\, his book\, “Wild Coin Hunting: The Recovery of Joy while Living with Depression”\, offers hope for people living with mental illness and their loved ones. Drawing from his own experience of recovering from depression\, as well as what others have taught me along the way\, it shows that a full and joyful life is possible after the devastation of mental illness. There’s honesty about pain\, but there’s also laughter\, as he shares recovery stories from his adventures as the founder of a great new sport\, “wild coin hunting”
URL:https://vecncc.org/event/nurture-the-souls-reading-into-the-new-year-the-recovery-of-joy-while-living-with-depression-with-robert-griggs/
LOCATION:Zoom
CATEGORIES:Nurture the Soul,UCC
ATTACH;FMTTYPE=image/jpeg:https://vecncc.org/wp-content/uploads/2025/01/Reading-into-the-New-Year-2025-Robert-Griggs-0b9hyw.tmp_.jpg
END:VEVENT
END:VCALENDAR