BEGIN:VCALENDAR
VERSION:2.0
PRODID:-//VECNCC - ECPv6.15.11//NONSGML v1.0//EN
CALSCALE:GREGORIAN
METHOD:PUBLISH
X-ORIGINAL-URL:https://vecncc.org
X-WR-CALDESC:Events for VECNCC
REFRESH-INTERVAL;VALUE=DURATION:PT1H
X-Robots-Tag:noindex
X-PUBLISHED-TTL:PT1H
BEGIN:VTIMEZONE
TZID:America/New_York
BEGIN:DAYLIGHT
TZOFFSETFROM:-0500
TZOFFSETTO:-0400
TZNAME:EDT
DTSTART:20240310T070000
END:DAYLIGHT
BEGIN:STANDARD
TZOFFSETFROM:-0400
TZOFFSETTO:-0500
TZNAME:EST
DTSTART:20241103T060000
END:STANDARD
BEGIN:DAYLIGHT
TZOFFSETFROM:-0500
TZOFFSETTO:-0400
TZNAME:EDT
DTSTART:20250309T070000
END:DAYLIGHT
BEGIN:STANDARD
TZOFFSETFROM:-0400
TZOFFSETTO:-0500
TZNAME:EST
DTSTART:20251102T060000
END:STANDARD
BEGIN:DAYLIGHT
TZOFFSETFROM:-0500
TZOFFSETTO:-0400
TZNAME:EDT
DTSTART:20260308T070000
END:DAYLIGHT
BEGIN:STANDARD
TZOFFSETFROM:-0400
TZOFFSETTO:-0500
TZNAME:EST
DTSTART:20261101T060000
END:STANDARD
END:VTIMEZONE
BEGIN:VEVENT
DTSTART;TZID=America/New_York:20250218T153000
DTEND;TZID=America/New_York:20250218T163000
DTSTAMP:20260423T143406
CREATED:20250207T023644Z
LAST-MODIFIED:20250207T023644Z
UID:22021-1739892600-1739896200@vecncc.org
SUMMARY:Gender & Sexuality + Our Faith
DESCRIPTION:God seeks love OUT LOUD in our tending to ourselves and one another! Join Gender & Sexuality Justice Ministries to learn\, grow and embrace Gender & Sexuality + Our Faith in action!
URL:https://vecncc.org/event/gender-sexuality-our-faith/
LOCATION:Zoom
CATEGORIES:Gender and Sexuality Justice Ministries,UCC
ATTACH;FMTTYPE=image/jpeg:https://vecncc.org/wp-content/uploads/2025/02/Gender-and-Sexuality-Our-faith-09onO8.tmp_.jpg
END:VEVENT
END:VCALENDAR