BEGIN:VCALENDAR
VERSION:2.0
PRODID:-//VECNCC - ECPv6.15.11//NONSGML v1.0//EN
CALSCALE:GREGORIAN
METHOD:PUBLISH
X-WR-CALNAME:VECNCC
X-ORIGINAL-URL:https://vecncc.org
X-WR-CALDESC:Events for VECNCC
REFRESH-INTERVAL;VALUE=DURATION:PT1H
X-Robots-Tag:noindex
X-PUBLISHED-TTL:PT1H
BEGIN:VTIMEZONE
TZID:America/New_York
BEGIN:DAYLIGHT
TZOFFSETFROM:-0500
TZOFFSETTO:-0400
TZNAME:EDT
DTSTART:20240310T070000
END:DAYLIGHT
BEGIN:STANDARD
TZOFFSETFROM:-0400
TZOFFSETTO:-0500
TZNAME:EST
DTSTART:20241103T060000
END:STANDARD
BEGIN:DAYLIGHT
TZOFFSETFROM:-0500
TZOFFSETTO:-0400
TZNAME:EDT
DTSTART:20250309T070000
END:DAYLIGHT
BEGIN:STANDARD
TZOFFSETFROM:-0400
TZOFFSETTO:-0500
TZNAME:EST
DTSTART:20251102T060000
END:STANDARD
BEGIN:DAYLIGHT
TZOFFSETFROM:-0500
TZOFFSETTO:-0400
TZNAME:EDT
DTSTART:20260308T070000
END:DAYLIGHT
BEGIN:STANDARD
TZOFFSETFROM:-0400
TZOFFSETTO:-0500
TZNAME:EST
DTSTART:20261101T060000
END:STANDARD
END:VTIMEZONE
BEGIN:VEVENT
DTSTART;TZID=America/New_York:20250303T153000
DTEND;TZID=America/New_York:20250303T163000
DTSTAMP:20260423T124420
CREATED:20250110T021736Z
LAST-MODIFIED:20250110T021736Z
UID:21870-1741015800-1741019400@vecncc.org
SUMMARY:What's Next Disarming Leviathan: How We've Become Entangled in the Worship of Nationalism and Political Power
DESCRIPTION:Join us for an enriching conversation with Pastor and Author\, Caleb Campbell\, the author of “Disarming Leviathan”.  As Christian Nationalism has become an established feature of the American landscape\, how does Rev. Campbell’s writings in “Disarming Leviathan” help prepare us to confront it with compassion and hospitality\, and with the truth of the good news of Jesus. We’ll be in deep conversation with Rev. Campbell on his journey\, how the book came about\, and the practical steps of loving our neighbors as ourselves.
URL:https://vecncc.org/event/whats-next-disarming-leviathan-how-weve-become-entangled-in-the-worship-of-nationalism-and-political-power/
LOCATION:Zoom
CATEGORIES:Nurture the Soul,UCC
END:VEVENT
END:VCALENDAR